BEGIN:VCALENDAR
VERSION:2.0
PRODID:-//Rocky Lakes Golf Course - ECPv6.15.18//NONSGML v1.0//EN
CALSCALE:GREGORIAN
METHOD:PUBLISH
X-WR-CALNAME:Rocky Lakes Golf Course
X-ORIGINAL-URL:https://www.rockylakesgolf.com
X-WR-CALDESC:Events for Rocky Lakes Golf Course
REFRESH-INTERVAL;VALUE=DURATION:PT1H
X-Robots-Tag:noindex
X-PUBLISHED-TTL:PT1H
BEGIN:VTIMEZONE
TZID:America/New_York
BEGIN:DAYLIGHT
TZOFFSETFROM:-0500
TZOFFSETTO:-0400
TZNAME:EDT
DTSTART:20240310T070000
END:DAYLIGHT
BEGIN:STANDARD
TZOFFSETFROM:-0400
TZOFFSETTO:-0500
TZNAME:EST
DTSTART:20241103T060000
END:STANDARD
BEGIN:DAYLIGHT
TZOFFSETFROM:-0500
TZOFFSETTO:-0400
TZNAME:EDT
DTSTART:20250309T070000
END:DAYLIGHT
BEGIN:STANDARD
TZOFFSETFROM:-0400
TZOFFSETTO:-0500
TZNAME:EST
DTSTART:20251102T060000
END:STANDARD
BEGIN:DAYLIGHT
TZOFFSETFROM:-0500
TZOFFSETTO:-0400
TZNAME:EDT
DTSTART:20260308T070000
END:DAYLIGHT
BEGIN:STANDARD
TZOFFSETFROM:-0400
TZOFFSETTO:-0500
TZNAME:EST
DTSTART:20261101T060000
END:STANDARD
END:VTIMEZONE
BEGIN:VTIMEZONE
TZID:UTC
BEGIN:STANDARD
TZOFFSETFROM:+0000
TZOFFSETTO:+0000
TZNAME:UTC
DTSTART:20240101T000000
END:STANDARD
END:VTIMEZONE
BEGIN:VEVENT
DTSTART;TZID=America/New_York:20250507T170000
DTEND;TZID=America/New_York:20250507T180000
DTSTAMP:20260421T225009
CREATED:20240515T032501Z
LAST-MODIFIED:20240515T032501Z
UID:10001366-1746637200-1746640800@www.rockylakesgolf.com
SUMMARY:Spark League
DESCRIPTION:Tee Times
URL:https://www.rockylakesgolf.com/event/spark-league/2025-05-07/
END:VEVENT
BEGIN:VEVENT
DTSTART;TZID=America/New_York:20250507T160000
DTEND;TZID=America/New_York:20250507T170000
DTSTAMP:20260421T225009
CREATED:20240515T032155Z
LAST-MODIFIED:20240515T032155Z
UID:10001105-1746633600-1746637200@www.rockylakesgolf.com
SUMMARY:Roger's League
DESCRIPTION:Scramble Format
URL:https://www.rockylakesgolf.com/event/rogers-league/2025-05-07/
END:VEVENT
BEGIN:VEVENT
DTSTART;TZID=America/New_York:20250506T170000
DTEND;TZID=America/New_York:20250506T180000
DTSTAMP:20260421T225009
CREATED:20240515T031506Z
LAST-MODIFIED:20240516T075910Z
UID:10002670-1746550800-1746554400@www.rockylakesgolf.com
SUMMARY:Playmates
DESCRIPTION:Scramble Format
URL:https://www.rockylakesgolf.com/event/playmates/2025-05-06/
END:VEVENT
BEGIN:VEVENT
DTSTART;TZID=America/New_York:20250506T160000
DTEND;TZID=America/New_York:20250506T170000
DTSTAMP:20260421T225009
CREATED:20240515T031624Z
LAST-MODIFIED:20240515T031624Z
UID:10000584-1746547200-1746550800@www.rockylakesgolf.com
SUMMARY:Hipps
DESCRIPTION:Tee Times
URL:https://www.rockylakesgolf.com/event/hipps/2025-05-06/
END:VEVENT
BEGIN:VEVENT
DTSTART;TZID=America/New_York:20250505T140000
DTEND;TZID=America/New_York:20250505T160000
DTSTAMP:20260421T225009
CREATED:20240515T031308Z
LAST-MODIFIED:20240515T031806Z
UID:10000062-1746453600-1746460800@www.rockylakesgolf.com
SUMMARY:Brick Tap & Tavern
DESCRIPTION:Tee Times
URL:https://www.rockylakesgolf.com/event/brick-tap-tavern/2025-05-05/
END:VEVENT
BEGIN:VEVENT
DTSTART;TZID=America/New_York:20250504T090000
DTEND;TZID=America/New_York:20250504T120000
DTSTAMP:20260421T225009
CREATED:20240515T032857Z
LAST-MODIFIED:20240515T032857Z
UID:10002409-1746349200-1746360000@www.rockylakesgolf.com
SUMMARY:Best Ball
DESCRIPTION:Tee Times
URL:https://www.rockylakesgolf.com/event/best-ball/2025-05-04/
END:VEVENT
BEGIN:VEVENT
DTSTART;TZID=America/New_York:20250501T170000
DTEND;TZID=America/New_York:20250501T200000
DTSTAMP:20260421T225009
CREATED:20240515T032803Z
LAST-MODIFIED:20240515T032803Z
UID:10002148-1746118800-1746129600@www.rockylakesgolf.com
SUMMARY:Average Joe's
DESCRIPTION:Tee Times
URL:https://www.rockylakesgolf.com/event/average-joes/2025-05-01/
END:VEVENT
BEGIN:VEVENT
DTSTART;TZID=UTC:20250501T140000
DTEND;TZID=UTC:20250501T170000
DTSTAMP:20260421T225009
CREATED:20240515T032658Z
LAST-MODIFIED:20240515T032658Z
UID:10001887-1746108000-1746118800@www.rockylakesgolf.com
SUMMARY:Guard League
DESCRIPTION:Tee Times
URL:https://www.rockylakesgolf.com/event/guard-league/2025-05-01/
END:VEVENT
BEGIN:VEVENT
DTSTART;TZID=America/New_York:20250501T100000
DTEND;TZID=America/New_York:20250501T130000
DTSTAMP:20260421T225009
CREATED:20240515T032621Z
LAST-MODIFIED:20240515T032621Z
UID:10001626-1746093600-1746104400@www.rockylakesgolf.com
SUMMARY:Kuna League
DESCRIPTION:Tee Times
URL:https://www.rockylakesgolf.com/event/kuna-league/2025-05-01/
END:VEVENT
BEGIN:VEVENT
DTSTART;TZID=America/New_York:20250430T170000
DTEND;TZID=America/New_York:20250430T180000
DTSTAMP:20260421T225009
CREATED:20240515T032501Z
LAST-MODIFIED:20240515T032501Z
UID:10001365-1746032400-1746036000@www.rockylakesgolf.com
SUMMARY:Spark League
DESCRIPTION:Tee Times
URL:https://www.rockylakesgolf.com/event/spark-league/2025-04-30/
END:VEVENT
BEGIN:VEVENT
DTSTART;TZID=America/New_York:20250430T160000
DTEND;TZID=America/New_York:20250430T170000
DTSTAMP:20260421T225009
CREATED:20240515T032155Z
LAST-MODIFIED:20240515T032155Z
UID:10001104-1746028800-1746032400@www.rockylakesgolf.com
SUMMARY:Roger's League
DESCRIPTION:Scramble Format
URL:https://www.rockylakesgolf.com/event/rogers-league/2025-04-30/
END:VEVENT
BEGIN:VEVENT
DTSTART;TZID=America/New_York:20250429T170000
DTEND;TZID=America/New_York:20250429T180000
DTSTAMP:20260421T225009
CREATED:20240515T031506Z
LAST-MODIFIED:20240516T075910Z
UID:10002669-1745946000-1745949600@www.rockylakesgolf.com
SUMMARY:Playmates
DESCRIPTION:Scramble Format
URL:https://www.rockylakesgolf.com/event/playmates/2025-04-29/
END:VEVENT
BEGIN:VEVENT
DTSTART;TZID=America/New_York:20250429T160000
DTEND;TZID=America/New_York:20250429T170000
DTSTAMP:20260421T225009
CREATED:20240515T031624Z
LAST-MODIFIED:20240515T031624Z
UID:10000583-1745942400-1745946000@www.rockylakesgolf.com
SUMMARY:Hipps
DESCRIPTION:Tee Times
URL:https://www.rockylakesgolf.com/event/hipps/2025-04-29/
END:VEVENT
BEGIN:VEVENT
DTSTART;TZID=America/New_York:20250428T140000
DTEND;TZID=America/New_York:20250428T160000
DTSTAMP:20260421T225009
CREATED:20240515T031308Z
LAST-MODIFIED:20240515T031806Z
UID:10000061-1745848800-1745856000@www.rockylakesgolf.com
SUMMARY:Brick Tap & Tavern
DESCRIPTION:Tee Times
URL:https://www.rockylakesgolf.com/event/brick-tap-tavern/2025-04-28/
END:VEVENT
BEGIN:VEVENT
DTSTART;TZID=America/New_York:20250427T090000
DTEND;TZID=America/New_York:20250427T120000
DTSTAMP:20260421T225009
CREATED:20240515T032857Z
LAST-MODIFIED:20240515T032857Z
UID:10002408-1745744400-1745755200@www.rockylakesgolf.com
SUMMARY:Best Ball
DESCRIPTION:Tee Times
URL:https://www.rockylakesgolf.com/event/best-ball/2025-04-27/
END:VEVENT
BEGIN:VEVENT
DTSTART;TZID=America/New_York:20250424T170000
DTEND;TZID=America/New_York:20250424T200000
DTSTAMP:20260421T225009
CREATED:20240515T032803Z
LAST-MODIFIED:20240515T032803Z
UID:10002147-1745514000-1745524800@www.rockylakesgolf.com
SUMMARY:Average Joe's
DESCRIPTION:Tee Times
URL:https://www.rockylakesgolf.com/event/average-joes/2025-04-24/
END:VEVENT
BEGIN:VEVENT
DTSTART;TZID=UTC:20250424T140000
DTEND;TZID=UTC:20250424T170000
DTSTAMP:20260421T225010
CREATED:20240515T032658Z
LAST-MODIFIED:20240515T032658Z
UID:10001886-1745503200-1745514000@www.rockylakesgolf.com
SUMMARY:Guard League
DESCRIPTION:Tee Times
URL:https://www.rockylakesgolf.com/event/guard-league/2025-04-24/
END:VEVENT
BEGIN:VEVENT
DTSTART;TZID=America/New_York:20250424T100000
DTEND;TZID=America/New_York:20250424T130000
DTSTAMP:20260421T225010
CREATED:20240515T032621Z
LAST-MODIFIED:20240515T032621Z
UID:10001625-1745488800-1745499600@www.rockylakesgolf.com
SUMMARY:Kuna League
DESCRIPTION:Tee Times
URL:https://www.rockylakesgolf.com/event/kuna-league/2025-04-24/
END:VEVENT
BEGIN:VEVENT
DTSTART;TZID=America/New_York:20250423T170000
DTEND;TZID=America/New_York:20250423T180000
DTSTAMP:20260421T225010
CREATED:20240515T032501Z
LAST-MODIFIED:20240515T032501Z
UID:10001364-1745427600-1745431200@www.rockylakesgolf.com
SUMMARY:Spark League
DESCRIPTION:Tee Times
URL:https://www.rockylakesgolf.com/event/spark-league/2025-04-23/
END:VEVENT
BEGIN:VEVENT
DTSTART;TZID=America/New_York:20250423T160000
DTEND;TZID=America/New_York:20250423T170000
DTSTAMP:20260421T225010
CREATED:20240515T032155Z
LAST-MODIFIED:20240515T032155Z
UID:10001103-1745424000-1745427600@www.rockylakesgolf.com
SUMMARY:Roger's League
DESCRIPTION:Scramble Format
URL:https://www.rockylakesgolf.com/event/rogers-league/2025-04-23/
END:VEVENT
BEGIN:VEVENT
DTSTART;TZID=America/New_York:20250422T170000
DTEND;TZID=America/New_York:20250422T180000
DTSTAMP:20260421T225010
CREATED:20240515T031506Z
LAST-MODIFIED:20240516T075910Z
UID:10002668-1745341200-1745344800@www.rockylakesgolf.com
SUMMARY:Playmates
DESCRIPTION:Scramble Format
URL:https://www.rockylakesgolf.com/event/playmates/2025-04-22/
END:VEVENT
BEGIN:VEVENT
DTSTART;TZID=America/New_York:20250422T160000
DTEND;TZID=America/New_York:20250422T170000
DTSTAMP:20260421T225010
CREATED:20240515T031624Z
LAST-MODIFIED:20240515T031624Z
UID:10000582-1745337600-1745341200@www.rockylakesgolf.com
SUMMARY:Hipps
DESCRIPTION:Tee Times
URL:https://www.rockylakesgolf.com/event/hipps/2025-04-22/
END:VEVENT
BEGIN:VEVENT
DTSTART;TZID=America/New_York:20250421T140000
DTEND;TZID=America/New_York:20250421T160000
DTSTAMP:20260421T225010
CREATED:20240515T031308Z
LAST-MODIFIED:20240515T031806Z
UID:10000060-1745244000-1745251200@www.rockylakesgolf.com
SUMMARY:Brick Tap & Tavern
DESCRIPTION:Tee Times
URL:https://www.rockylakesgolf.com/event/brick-tap-tavern/2025-04-21/
END:VEVENT
BEGIN:VEVENT
DTSTART;TZID=America/New_York:20250420T090000
DTEND;TZID=America/New_York:20250420T120000
DTSTAMP:20260421T225010
CREATED:20240515T032857Z
LAST-MODIFIED:20240515T032857Z
UID:10002407-1745139600-1745150400@www.rockylakesgolf.com
SUMMARY:Best Ball
DESCRIPTION:Tee Times
URL:https://www.rockylakesgolf.com/event/best-ball/2025-04-20/
END:VEVENT
BEGIN:VEVENT
DTSTART;TZID=America/New_York:20250417T170000
DTEND;TZID=America/New_York:20250417T200000
DTSTAMP:20260421T225010
CREATED:20240515T032803Z
LAST-MODIFIED:20240515T032803Z
UID:10002146-1744909200-1744920000@www.rockylakesgolf.com
SUMMARY:Average Joe's
DESCRIPTION:Tee Times
URL:https://www.rockylakesgolf.com/event/average-joes/2025-04-17/
END:VEVENT
BEGIN:VEVENT
DTSTART;TZID=UTC:20250417T140000
DTEND;TZID=UTC:20250417T170000
DTSTAMP:20260421T225010
CREATED:20240515T032658Z
LAST-MODIFIED:20240515T032658Z
UID:10001885-1744898400-1744909200@www.rockylakesgolf.com
SUMMARY:Guard League
DESCRIPTION:Tee Times
URL:https://www.rockylakesgolf.com/event/guard-league/2025-04-17/
END:VEVENT
BEGIN:VEVENT
DTSTART;TZID=America/New_York:20250417T100000
DTEND;TZID=America/New_York:20250417T130000
DTSTAMP:20260421T225010
CREATED:20240515T032621Z
LAST-MODIFIED:20240515T032621Z
UID:10001624-1744884000-1744894800@www.rockylakesgolf.com
SUMMARY:Kuna League
DESCRIPTION:Tee Times
URL:https://www.rockylakesgolf.com/event/kuna-league/2025-04-17/
END:VEVENT
BEGIN:VEVENT
DTSTART;TZID=America/New_York:20250416T170000
DTEND;TZID=America/New_York:20250416T180000
DTSTAMP:20260421T225010
CREATED:20240515T032501Z
LAST-MODIFIED:20240515T032501Z
UID:10001363-1744822800-1744826400@www.rockylakesgolf.com
SUMMARY:Spark League
DESCRIPTION:Tee Times
URL:https://www.rockylakesgolf.com/event/spark-league/2025-04-16/
END:VEVENT
BEGIN:VEVENT
DTSTART;TZID=America/New_York:20250416T160000
DTEND;TZID=America/New_York:20250416T170000
DTSTAMP:20260421T225010
CREATED:20240515T032155Z
LAST-MODIFIED:20240515T032155Z
UID:10001102-1744819200-1744822800@www.rockylakesgolf.com
SUMMARY:Roger's League
DESCRIPTION:Scramble Format
URL:https://www.rockylakesgolf.com/event/rogers-league/2025-04-16/
END:VEVENT
BEGIN:VEVENT
DTSTART;TZID=America/New_York:20250415T170000
DTEND;TZID=America/New_York:20250415T180000
DTSTAMP:20260421T225010
CREATED:20240515T031506Z
LAST-MODIFIED:20240516T075910Z
UID:10002667-1744736400-1744740000@www.rockylakesgolf.com
SUMMARY:Playmates
DESCRIPTION:Scramble Format
URL:https://www.rockylakesgolf.com/event/playmates/2025-04-15/
END:VEVENT
END:VCALENDAR