BEGIN:VCALENDAR
VERSION:2.0
PRODID:-//Rocky Lakes Golf Course - ECPv6.15.18//NONSGML v1.0//EN
CALSCALE:GREGORIAN
METHOD:PUBLISH
X-WR-CALNAME:Rocky Lakes Golf Course
X-ORIGINAL-URL:https://www.rockylakesgolf.com
X-WR-CALDESC:Events for Rocky Lakes Golf Course
REFRESH-INTERVAL;VALUE=DURATION:PT1H
X-Robots-Tag:noindex
X-PUBLISHED-TTL:PT1H
BEGIN:VTIMEZONE
TZID:America/New_York
BEGIN:DAYLIGHT
TZOFFSETFROM:-0500
TZOFFSETTO:-0400
TZNAME:EDT
DTSTART:20270314T070000
END:DAYLIGHT
BEGIN:STANDARD
TZOFFSETFROM:-0400
TZOFFSETTO:-0500
TZNAME:EST
DTSTART:20271107T060000
END:STANDARD
BEGIN:DAYLIGHT
TZOFFSETFROM:-0500
TZOFFSETTO:-0400
TZNAME:EDT
DTSTART:20280312T070000
END:DAYLIGHT
BEGIN:STANDARD
TZOFFSETFROM:-0400
TZOFFSETTO:-0500
TZNAME:EST
DTSTART:20281105T060000
END:STANDARD
BEGIN:DAYLIGHT
TZOFFSETFROM:-0500
TZOFFSETTO:-0400
TZNAME:EDT
DTSTART:20290311T070000
END:DAYLIGHT
BEGIN:STANDARD
TZOFFSETFROM:-0400
TZOFFSETTO:-0500
TZNAME:EST
DTSTART:20291104T060000
END:STANDARD
END:VTIMEZONE
BEGIN:VTIMEZONE
TZID:UTC
BEGIN:STANDARD
TZOFFSETFROM:+0000
TZOFFSETTO:+0000
TZNAME:UTC
DTSTART:20270101T000000
END:STANDARD
END:VTIMEZONE
BEGIN:VEVENT
DTSTART;TZID=America/New_York:20280208T170000
DTEND;TZID=America/New_York:20280208T180000
DTSTAMP:20260422T153015
CREATED:20240515T031506Z
LAST-MODIFIED:20240516T075910Z
UID:10002814-1833642000-1833645600@www.rockylakesgolf.com
SUMMARY:Playmates
DESCRIPTION:Scramble Format
URL:https://www.rockylakesgolf.com/event/playmates/2028-02-08/
END:VEVENT
BEGIN:VEVENT
DTSTART;TZID=America/New_York:20280208T160000
DTEND;TZID=America/New_York:20280208T170000
DTSTAMP:20260422T153015
CREATED:20240515T031624Z
LAST-MODIFIED:20240515T031624Z
UID:10000728-1833638400-1833642000@www.rockylakesgolf.com
SUMMARY:Hipps
DESCRIPTION:Tee Times
URL:https://www.rockylakesgolf.com/event/hipps/2028-02-08/
END:VEVENT
BEGIN:VEVENT
DTSTART;TZID=America/New_York:20280207T140000
DTEND;TZID=America/New_York:20280207T160000
DTSTAMP:20260422T153015
CREATED:20240515T031308Z
LAST-MODIFIED:20240515T031806Z
UID:10000206-1833544800-1833552000@www.rockylakesgolf.com
SUMMARY:Brick Tap & Tavern
DESCRIPTION:Tee Times
URL:https://www.rockylakesgolf.com/event/brick-tap-tavern/2028-02-07/
END:VEVENT
BEGIN:VEVENT
DTSTART;TZID=America/New_York:20280206T090000
DTEND;TZID=America/New_York:20280206T120000
DTSTAMP:20260422T153015
CREATED:20240515T032857Z
LAST-MODIFIED:20240515T032857Z
UID:10002553-1833440400-1833451200@www.rockylakesgolf.com
SUMMARY:Best Ball
DESCRIPTION:Tee Times
URL:https://www.rockylakesgolf.com/event/best-ball/2028-02-06/
END:VEVENT
BEGIN:VEVENT
DTSTART;TZID=America/New_York:20280203T170000
DTEND;TZID=America/New_York:20280203T200000
DTSTAMP:20260422T153015
CREATED:20240515T032803Z
LAST-MODIFIED:20240515T032803Z
UID:10002292-1833210000-1833220800@www.rockylakesgolf.com
SUMMARY:Average Joe's
DESCRIPTION:Tee Times
URL:https://www.rockylakesgolf.com/event/average-joes/2028-02-03/
END:VEVENT
BEGIN:VEVENT
DTSTART;TZID=UTC:20280203T140000
DTEND;TZID=UTC:20280203T170000
DTSTAMP:20260422T153015
CREATED:20240515T032658Z
LAST-MODIFIED:20240515T032658Z
UID:10002031-1833199200-1833210000@www.rockylakesgolf.com
SUMMARY:Guard League
DESCRIPTION:Tee Times
URL:https://www.rockylakesgolf.com/event/guard-league/2028-02-03/
END:VEVENT
BEGIN:VEVENT
DTSTART;TZID=America/New_York:20280203T100000
DTEND;TZID=America/New_York:20280203T130000
DTSTAMP:20260422T153015
CREATED:20240515T032621Z
LAST-MODIFIED:20240515T032621Z
UID:10001770-1833184800-1833195600@www.rockylakesgolf.com
SUMMARY:Kuna League
DESCRIPTION:Tee Times
URL:https://www.rockylakesgolf.com/event/kuna-league/2028-02-03/
END:VEVENT
BEGIN:VEVENT
DTSTART;TZID=America/New_York:20280202T170000
DTEND;TZID=America/New_York:20280202T180000
DTSTAMP:20260422T153015
CREATED:20240515T032501Z
LAST-MODIFIED:20240515T032501Z
UID:10001509-1833123600-1833127200@www.rockylakesgolf.com
SUMMARY:Spark League
DESCRIPTION:Tee Times
URL:https://www.rockylakesgolf.com/event/spark-league/2028-02-02/
END:VEVENT
BEGIN:VEVENT
DTSTART;TZID=America/New_York:20280202T160000
DTEND;TZID=America/New_York:20280202T170000
DTSTAMP:20260422T153015
CREATED:20240515T032155Z
LAST-MODIFIED:20240515T032155Z
UID:10001248-1833120000-1833123600@www.rockylakesgolf.com
SUMMARY:Roger's League
DESCRIPTION:Scramble Format
URL:https://www.rockylakesgolf.com/event/rogers-league/2028-02-02/
END:VEVENT
BEGIN:VEVENT
DTSTART;TZID=America/New_York:20280201T170000
DTEND;TZID=America/New_York:20280201T180000
DTSTAMP:20260422T153015
CREATED:20240515T031506Z
LAST-MODIFIED:20240516T075910Z
UID:10002813-1833037200-1833040800@www.rockylakesgolf.com
SUMMARY:Playmates
DESCRIPTION:Scramble Format
URL:https://www.rockylakesgolf.com/event/playmates/2028-02-01/
END:VEVENT
BEGIN:VEVENT
DTSTART;TZID=America/New_York:20280201T160000
DTEND;TZID=America/New_York:20280201T170000
DTSTAMP:20260422T153015
CREATED:20240515T031624Z
LAST-MODIFIED:20240515T031624Z
UID:10000727-1833033600-1833037200@www.rockylakesgolf.com
SUMMARY:Hipps
DESCRIPTION:Tee Times
URL:https://www.rockylakesgolf.com/event/hipps/2028-02-01/
END:VEVENT
BEGIN:VEVENT
DTSTART;TZID=America/New_York:20280131T140000
DTEND;TZID=America/New_York:20280131T160000
DTSTAMP:20260422T153015
CREATED:20240515T031308Z
LAST-MODIFIED:20240515T031806Z
UID:10000205-1832940000-1832947200@www.rockylakesgolf.com
SUMMARY:Brick Tap & Tavern
DESCRIPTION:Tee Times
URL:https://www.rockylakesgolf.com/event/brick-tap-tavern/2028-01-31/
END:VEVENT
BEGIN:VEVENT
DTSTART;TZID=America/New_York:20280130T090000
DTEND;TZID=America/New_York:20280130T120000
DTSTAMP:20260422T153015
CREATED:20240515T032857Z
LAST-MODIFIED:20240515T032857Z
UID:10002552-1832835600-1832846400@www.rockylakesgolf.com
SUMMARY:Best Ball
DESCRIPTION:Tee Times
URL:https://www.rockylakesgolf.com/event/best-ball/2028-01-30/
END:VEVENT
BEGIN:VEVENT
DTSTART;TZID=America/New_York:20280127T170000
DTEND;TZID=America/New_York:20280127T200000
DTSTAMP:20260422T153015
CREATED:20240515T032803Z
LAST-MODIFIED:20240515T032803Z
UID:10002291-1832605200-1832616000@www.rockylakesgolf.com
SUMMARY:Average Joe's
DESCRIPTION:Tee Times
URL:https://www.rockylakesgolf.com/event/average-joes/2028-01-27/
END:VEVENT
BEGIN:VEVENT
DTSTART;TZID=UTC:20280127T140000
DTEND;TZID=UTC:20280127T170000
DTSTAMP:20260422T153015
CREATED:20240515T032658Z
LAST-MODIFIED:20240515T032658Z
UID:10002030-1832594400-1832605200@www.rockylakesgolf.com
SUMMARY:Guard League
DESCRIPTION:Tee Times
URL:https://www.rockylakesgolf.com/event/guard-league/2028-01-27/
END:VEVENT
BEGIN:VEVENT
DTSTART;TZID=America/New_York:20280127T100000
DTEND;TZID=America/New_York:20280127T130000
DTSTAMP:20260422T153015
CREATED:20240515T032621Z
LAST-MODIFIED:20240515T032621Z
UID:10001769-1832580000-1832590800@www.rockylakesgolf.com
SUMMARY:Kuna League
DESCRIPTION:Tee Times
URL:https://www.rockylakesgolf.com/event/kuna-league/2028-01-27/
END:VEVENT
BEGIN:VEVENT
DTSTART;TZID=America/New_York:20280126T170000
DTEND;TZID=America/New_York:20280126T180000
DTSTAMP:20260422T153015
CREATED:20240515T032501Z
LAST-MODIFIED:20240515T032501Z
UID:10001508-1832518800-1832522400@www.rockylakesgolf.com
SUMMARY:Spark League
DESCRIPTION:Tee Times
URL:https://www.rockylakesgolf.com/event/spark-league/2028-01-26/
END:VEVENT
BEGIN:VEVENT
DTSTART;TZID=America/New_York:20280126T160000
DTEND;TZID=America/New_York:20280126T170000
DTSTAMP:20260422T153015
CREATED:20240515T032155Z
LAST-MODIFIED:20240515T032155Z
UID:10001247-1832515200-1832518800@www.rockylakesgolf.com
SUMMARY:Roger's League
DESCRIPTION:Scramble Format
URL:https://www.rockylakesgolf.com/event/rogers-league/2028-01-26/
END:VEVENT
BEGIN:VEVENT
DTSTART;TZID=America/New_York:20280125T170000
DTEND;TZID=America/New_York:20280125T180000
DTSTAMP:20260422T153015
CREATED:20240515T031506Z
LAST-MODIFIED:20240516T075910Z
UID:10002812-1832432400-1832436000@www.rockylakesgolf.com
SUMMARY:Playmates
DESCRIPTION:Scramble Format
URL:https://www.rockylakesgolf.com/event/playmates/2028-01-25/
END:VEVENT
BEGIN:VEVENT
DTSTART;TZID=America/New_York:20280125T160000
DTEND;TZID=America/New_York:20280125T170000
DTSTAMP:20260422T153015
CREATED:20240515T031624Z
LAST-MODIFIED:20240515T031624Z
UID:10000726-1832428800-1832432400@www.rockylakesgolf.com
SUMMARY:Hipps
DESCRIPTION:Tee Times
URL:https://www.rockylakesgolf.com/event/hipps/2028-01-25/
END:VEVENT
BEGIN:VEVENT
DTSTART;TZID=America/New_York:20280124T140000
DTEND;TZID=America/New_York:20280124T160000
DTSTAMP:20260422T153015
CREATED:20240515T031308Z
LAST-MODIFIED:20240515T031806Z
UID:10000204-1832335200-1832342400@www.rockylakesgolf.com
SUMMARY:Brick Tap & Tavern
DESCRIPTION:Tee Times
URL:https://www.rockylakesgolf.com/event/brick-tap-tavern/2028-01-24/
END:VEVENT
BEGIN:VEVENT
DTSTART;TZID=America/New_York:20280123T090000
DTEND;TZID=America/New_York:20280123T120000
DTSTAMP:20260422T153015
CREATED:20240515T032857Z
LAST-MODIFIED:20240515T032857Z
UID:10002551-1832230800-1832241600@www.rockylakesgolf.com
SUMMARY:Best Ball
DESCRIPTION:Tee Times
URL:https://www.rockylakesgolf.com/event/best-ball/2028-01-23/
END:VEVENT
BEGIN:VEVENT
DTSTART;TZID=America/New_York:20280120T170000
DTEND;TZID=America/New_York:20280120T200000
DTSTAMP:20260422T153015
CREATED:20240515T032803Z
LAST-MODIFIED:20240515T032803Z
UID:10002290-1832000400-1832011200@www.rockylakesgolf.com
SUMMARY:Average Joe's
DESCRIPTION:Tee Times
URL:https://www.rockylakesgolf.com/event/average-joes/2028-01-20/
END:VEVENT
BEGIN:VEVENT
DTSTART;TZID=UTC:20280120T140000
DTEND;TZID=UTC:20280120T170000
DTSTAMP:20260422T153015
CREATED:20240515T032658Z
LAST-MODIFIED:20240515T032658Z
UID:10002029-1831989600-1832000400@www.rockylakesgolf.com
SUMMARY:Guard League
DESCRIPTION:Tee Times
URL:https://www.rockylakesgolf.com/event/guard-league/2028-01-20/
END:VEVENT
BEGIN:VEVENT
DTSTART;TZID=America/New_York:20280120T100000
DTEND;TZID=America/New_York:20280120T130000
DTSTAMP:20260422T153015
CREATED:20240515T032621Z
LAST-MODIFIED:20240515T032621Z
UID:10001768-1831975200-1831986000@www.rockylakesgolf.com
SUMMARY:Kuna League
DESCRIPTION:Tee Times
URL:https://www.rockylakesgolf.com/event/kuna-league/2028-01-20/
END:VEVENT
BEGIN:VEVENT
DTSTART;TZID=America/New_York:20280119T170000
DTEND;TZID=America/New_York:20280119T180000
DTSTAMP:20260422T153015
CREATED:20240515T032501Z
LAST-MODIFIED:20240515T032501Z
UID:10001507-1831914000-1831917600@www.rockylakesgolf.com
SUMMARY:Spark League
DESCRIPTION:Tee Times
URL:https://www.rockylakesgolf.com/event/spark-league/2028-01-19/
END:VEVENT
BEGIN:VEVENT
DTSTART;TZID=America/New_York:20280119T160000
DTEND;TZID=America/New_York:20280119T170000
DTSTAMP:20260422T153015
CREATED:20240515T032155Z
LAST-MODIFIED:20240515T032155Z
UID:10001246-1831910400-1831914000@www.rockylakesgolf.com
SUMMARY:Roger's League
DESCRIPTION:Scramble Format
URL:https://www.rockylakesgolf.com/event/rogers-league/2028-01-19/
END:VEVENT
BEGIN:VEVENT
DTSTART;TZID=America/New_York:20280118T170000
DTEND;TZID=America/New_York:20280118T180000
DTSTAMP:20260422T153015
CREATED:20240515T031506Z
LAST-MODIFIED:20240516T075910Z
UID:10002811-1831827600-1831831200@www.rockylakesgolf.com
SUMMARY:Playmates
DESCRIPTION:Scramble Format
URL:https://www.rockylakesgolf.com/event/playmates/2028-01-18/
END:VEVENT
BEGIN:VEVENT
DTSTART;TZID=America/New_York:20280118T160000
DTEND;TZID=America/New_York:20280118T170000
DTSTAMP:20260422T153015
CREATED:20240515T031624Z
LAST-MODIFIED:20240515T031624Z
UID:10000725-1831824000-1831827600@www.rockylakesgolf.com
SUMMARY:Hipps
DESCRIPTION:Tee Times
URL:https://www.rockylakesgolf.com/event/hipps/2028-01-18/
END:VEVENT
BEGIN:VEVENT
DTSTART;TZID=America/New_York:20280117T140000
DTEND;TZID=America/New_York:20280117T160000
DTSTAMP:20260422T153015
CREATED:20240515T031308Z
LAST-MODIFIED:20240515T031806Z
UID:10000203-1831730400-1831737600@www.rockylakesgolf.com
SUMMARY:Brick Tap & Tavern
DESCRIPTION:Tee Times
URL:https://www.rockylakesgolf.com/event/brick-tap-tavern/2028-01-17/
END:VEVENT
END:VCALENDAR