BEGIN:VCALENDAR
VERSION:2.0
PRODID:-//Rocky Lakes Golf Course - ECPv6.15.18//NONSGML v1.0//EN
CALSCALE:GREGORIAN
METHOD:PUBLISH
X-WR-CALNAME:Rocky Lakes Golf Course
X-ORIGINAL-URL:https://www.rockylakesgolf.com
X-WR-CALDESC:Events for Rocky Lakes Golf Course
REFRESH-INTERVAL;VALUE=DURATION:PT1H
X-Robots-Tag:noindex
X-PUBLISHED-TTL:PT1H
BEGIN:VTIMEZONE
TZID:America/New_York
BEGIN:DAYLIGHT
TZOFFSETFROM:-0500
TZOFFSETTO:-0400
TZNAME:EDT
DTSTART:20230312T070000
END:DAYLIGHT
BEGIN:STANDARD
TZOFFSETFROM:-0400
TZOFFSETTO:-0500
TZNAME:EST
DTSTART:20231105T060000
END:STANDARD
BEGIN:DAYLIGHT
TZOFFSETFROM:-0500
TZOFFSETTO:-0400
TZNAME:EDT
DTSTART:20240310T070000
END:DAYLIGHT
BEGIN:STANDARD
TZOFFSETFROM:-0400
TZOFFSETTO:-0500
TZNAME:EST
DTSTART:20241103T060000
END:STANDARD
BEGIN:DAYLIGHT
TZOFFSETFROM:-0500
TZOFFSETTO:-0400
TZNAME:EDT
DTSTART:20250309T070000
END:DAYLIGHT
BEGIN:STANDARD
TZOFFSETFROM:-0400
TZOFFSETTO:-0500
TZNAME:EST
DTSTART:20251102T060000
END:STANDARD
END:VTIMEZONE
BEGIN:VTIMEZONE
TZID:UTC
BEGIN:STANDARD
TZOFFSETFROM:+0000
TZOFFSETTO:+0000
TZNAME:UTC
DTSTART:20230101T000000
END:STANDARD
END:VTIMEZONE
BEGIN:VEVENT
DTSTART;TZID=America/New_York:20241006T090000
DTEND;TZID=America/New_York:20241006T120000
DTSTAMP:20260422T080101
CREATED:20240515T032857Z
LAST-MODIFIED:20240515T032857Z
UID:10002379-1728205200-1728216000@www.rockylakesgolf.com
SUMMARY:Best Ball
DESCRIPTION:Tee Times
URL:https://www.rockylakesgolf.com/event/best-ball/2024-10-06/
END:VEVENT
BEGIN:VEVENT
DTSTART;TZID=America/New_York:20241007T140000
DTEND;TZID=America/New_York:20241007T160000
DTSTAMP:20260422T080101
CREATED:20240515T031308Z
LAST-MODIFIED:20240515T031806Z
UID:10000032-1728309600-1728316800@www.rockylakesgolf.com
SUMMARY:Brick Tap & Tavern
DESCRIPTION:Tee Times
URL:https://www.rockylakesgolf.com/event/brick-tap-tavern/2024-10-07/
END:VEVENT
BEGIN:VEVENT
DTSTART;TZID=America/New_York:20241008T160000
DTEND;TZID=America/New_York:20241008T170000
DTSTAMP:20260422T080101
CREATED:20240515T031624Z
LAST-MODIFIED:20240515T031624Z
UID:10000554-1728403200-1728406800@www.rockylakesgolf.com
SUMMARY:Hipps
DESCRIPTION:Tee Times
URL:https://www.rockylakesgolf.com/event/hipps/2024-10-08/
END:VEVENT
BEGIN:VEVENT
DTSTART;TZID=America/New_York:20241008T170000
DTEND;TZID=America/New_York:20241008T180000
DTSTAMP:20260422T080101
CREATED:20240515T031506Z
LAST-MODIFIED:20240516T075910Z
UID:10002640-1728406800-1728410400@www.rockylakesgolf.com
SUMMARY:Playmates
DESCRIPTION:Scramble Format
URL:https://www.rockylakesgolf.com/event/playmates/2024-10-08/
END:VEVENT
BEGIN:VEVENT
DTSTART;TZID=America/New_York:20241009T160000
DTEND;TZID=America/New_York:20241009T170000
DTSTAMP:20260422T080101
CREATED:20240515T032155Z
LAST-MODIFIED:20240515T032155Z
UID:10001075-1728489600-1728493200@www.rockylakesgolf.com
SUMMARY:Roger's League
DESCRIPTION:Scramble Format
URL:https://www.rockylakesgolf.com/event/rogers-league/2024-10-09/
END:VEVENT
BEGIN:VEVENT
DTSTART;TZID=America/New_York:20241009T170000
DTEND;TZID=America/New_York:20241009T180000
DTSTAMP:20260422T080101
CREATED:20240515T032501Z
LAST-MODIFIED:20240515T032501Z
UID:10001336-1728493200-1728496800@www.rockylakesgolf.com
SUMMARY:Spark League
DESCRIPTION:Tee Times
URL:https://www.rockylakesgolf.com/event/spark-league/2024-10-09/
END:VEVENT
BEGIN:VEVENT
DTSTART;TZID=America/New_York:20241010T100000
DTEND;TZID=America/New_York:20241010T130000
DTSTAMP:20260422T080101
CREATED:20240515T032621Z
LAST-MODIFIED:20240515T032621Z
UID:10001597-1728554400-1728565200@www.rockylakesgolf.com
SUMMARY:Kuna League
DESCRIPTION:Tee Times
URL:https://www.rockylakesgolf.com/event/kuna-league/2024-10-10/
END:VEVENT
BEGIN:VEVENT
DTSTART;TZID=UTC:20241010T140000
DTEND;TZID=UTC:20241010T170000
DTSTAMP:20260422T080101
CREATED:20240515T032658Z
LAST-MODIFIED:20240515T032658Z
UID:10001858-1728568800-1728579600@www.rockylakesgolf.com
SUMMARY:Guard League
DESCRIPTION:Tee Times
URL:https://www.rockylakesgolf.com/event/guard-league/2024-10-10/
END:VEVENT
BEGIN:VEVENT
DTSTART;TZID=America/New_York:20241010T170000
DTEND;TZID=America/New_York:20241010T200000
DTSTAMP:20260422T080101
CREATED:20240515T032803Z
LAST-MODIFIED:20240515T032803Z
UID:10002119-1728579600-1728590400@www.rockylakesgolf.com
SUMMARY:Average Joe's
DESCRIPTION:Tee Times
URL:https://www.rockylakesgolf.com/event/average-joes/2024-10-10/
END:VEVENT
BEGIN:VEVENT
DTSTART;TZID=America/New_York:20241013T090000
DTEND;TZID=America/New_York:20241013T120000
DTSTAMP:20260422T080101
CREATED:20240515T032857Z
LAST-MODIFIED:20240515T032857Z
UID:10002380-1728810000-1728820800@www.rockylakesgolf.com
SUMMARY:Best Ball
DESCRIPTION:Tee Times
URL:https://www.rockylakesgolf.com/event/best-ball/2024-10-13/
END:VEVENT
BEGIN:VEVENT
DTSTART;TZID=America/New_York:20241014T140000
DTEND;TZID=America/New_York:20241014T160000
DTSTAMP:20260422T080101
CREATED:20240515T031308Z
LAST-MODIFIED:20240515T031806Z
UID:10000033-1728914400-1728921600@www.rockylakesgolf.com
SUMMARY:Brick Tap & Tavern
DESCRIPTION:Tee Times
URL:https://www.rockylakesgolf.com/event/brick-tap-tavern/2024-10-14/
END:VEVENT
BEGIN:VEVENT
DTSTART;TZID=America/New_York:20241015T160000
DTEND;TZID=America/New_York:20241015T170000
DTSTAMP:20260422T080101
CREATED:20240515T031624Z
LAST-MODIFIED:20240515T031624Z
UID:10000555-1729008000-1729011600@www.rockylakesgolf.com
SUMMARY:Hipps
DESCRIPTION:Tee Times
URL:https://www.rockylakesgolf.com/event/hipps/2024-10-15/
END:VEVENT
BEGIN:VEVENT
DTSTART;TZID=America/New_York:20241015T170000
DTEND;TZID=America/New_York:20241015T180000
DTSTAMP:20260422T080101
CREATED:20240515T031506Z
LAST-MODIFIED:20240516T075910Z
UID:10002641-1729011600-1729015200@www.rockylakesgolf.com
SUMMARY:Playmates
DESCRIPTION:Scramble Format
URL:https://www.rockylakesgolf.com/event/playmates/2024-10-15/
END:VEVENT
BEGIN:VEVENT
DTSTART;TZID=America/New_York:20241016T160000
DTEND;TZID=America/New_York:20241016T170000
DTSTAMP:20260422T080101
CREATED:20240515T032155Z
LAST-MODIFIED:20240515T032155Z
UID:10001076-1729094400-1729098000@www.rockylakesgolf.com
SUMMARY:Roger's League
DESCRIPTION:Scramble Format
URL:https://www.rockylakesgolf.com/event/rogers-league/2024-10-16/
END:VEVENT
BEGIN:VEVENT
DTSTART;TZID=America/New_York:20241016T170000
DTEND;TZID=America/New_York:20241016T180000
DTSTAMP:20260422T080101
CREATED:20240515T032501Z
LAST-MODIFIED:20240515T032501Z
UID:10001337-1729098000-1729101600@www.rockylakesgolf.com
SUMMARY:Spark League
DESCRIPTION:Tee Times
URL:https://www.rockylakesgolf.com/event/spark-league/2024-10-16/
END:VEVENT
BEGIN:VEVENT
DTSTART;TZID=America/New_York:20241017T100000
DTEND;TZID=America/New_York:20241017T130000
DTSTAMP:20260422T080101
CREATED:20240515T032621Z
LAST-MODIFIED:20240515T032621Z
UID:10001598-1729159200-1729170000@www.rockylakesgolf.com
SUMMARY:Kuna League
DESCRIPTION:Tee Times
URL:https://www.rockylakesgolf.com/event/kuna-league/2024-10-17/
END:VEVENT
BEGIN:VEVENT
DTSTART;TZID=UTC:20241017T140000
DTEND;TZID=UTC:20241017T170000
DTSTAMP:20260422T080101
CREATED:20240515T032658Z
LAST-MODIFIED:20240515T032658Z
UID:10001859-1729173600-1729184400@www.rockylakesgolf.com
SUMMARY:Guard League
DESCRIPTION:Tee Times
URL:https://www.rockylakesgolf.com/event/guard-league/2024-10-17/
END:VEVENT
BEGIN:VEVENT
DTSTART;TZID=America/New_York:20241017T170000
DTEND;TZID=America/New_York:20241017T200000
DTSTAMP:20260422T080101
CREATED:20240515T032803Z
LAST-MODIFIED:20240515T032803Z
UID:10002120-1729184400-1729195200@www.rockylakesgolf.com
SUMMARY:Average Joe's
DESCRIPTION:Tee Times
URL:https://www.rockylakesgolf.com/event/average-joes/2024-10-17/
END:VEVENT
BEGIN:VEVENT
DTSTART;TZID=America/New_York:20241020T090000
DTEND;TZID=America/New_York:20241020T120000
DTSTAMP:20260422T080101
CREATED:20240515T032857Z
LAST-MODIFIED:20240515T032857Z
UID:10002381-1729414800-1729425600@www.rockylakesgolf.com
SUMMARY:Best Ball
DESCRIPTION:Tee Times
URL:https://www.rockylakesgolf.com/event/best-ball/2024-10-20/
END:VEVENT
BEGIN:VEVENT
DTSTART;TZID=America/New_York:20241021T140000
DTEND;TZID=America/New_York:20241021T160000
DTSTAMP:20260422T080101
CREATED:20240515T031308Z
LAST-MODIFIED:20240515T031806Z
UID:10000034-1729519200-1729526400@www.rockylakesgolf.com
SUMMARY:Brick Tap & Tavern
DESCRIPTION:Tee Times
URL:https://www.rockylakesgolf.com/event/brick-tap-tavern/2024-10-21/
END:VEVENT
BEGIN:VEVENT
DTSTART;TZID=America/New_York:20241022T160000
DTEND;TZID=America/New_York:20241022T170000
DTSTAMP:20260422T080101
CREATED:20240515T031624Z
LAST-MODIFIED:20240515T031624Z
UID:10000556-1729612800-1729616400@www.rockylakesgolf.com
SUMMARY:Hipps
DESCRIPTION:Tee Times
URL:https://www.rockylakesgolf.com/event/hipps/2024-10-22/
END:VEVENT
BEGIN:VEVENT
DTSTART;TZID=America/New_York:20241022T170000
DTEND;TZID=America/New_York:20241022T180000
DTSTAMP:20260422T080102
CREATED:20240515T031506Z
LAST-MODIFIED:20240516T075910Z
UID:10002642-1729616400-1729620000@www.rockylakesgolf.com
SUMMARY:Playmates
DESCRIPTION:Scramble Format
URL:https://www.rockylakesgolf.com/event/playmates/2024-10-22/
END:VEVENT
BEGIN:VEVENT
DTSTART;TZID=America/New_York:20241023T160000
DTEND;TZID=America/New_York:20241023T170000
DTSTAMP:20260422T080102
CREATED:20240515T032155Z
LAST-MODIFIED:20240515T032155Z
UID:10001077-1729699200-1729702800@www.rockylakesgolf.com
SUMMARY:Roger's League
DESCRIPTION:Scramble Format
URL:https://www.rockylakesgolf.com/event/rogers-league/2024-10-23/
END:VEVENT
BEGIN:VEVENT
DTSTART;TZID=America/New_York:20241023T170000
DTEND;TZID=America/New_York:20241023T180000
DTSTAMP:20260422T080102
CREATED:20240515T032501Z
LAST-MODIFIED:20240515T032501Z
UID:10001338-1729702800-1729706400@www.rockylakesgolf.com
SUMMARY:Spark League
DESCRIPTION:Tee Times
URL:https://www.rockylakesgolf.com/event/spark-league/2024-10-23/
END:VEVENT
BEGIN:VEVENT
DTSTART;TZID=America/New_York:20241024T100000
DTEND;TZID=America/New_York:20241024T130000
DTSTAMP:20260422T080102
CREATED:20240515T032621Z
LAST-MODIFIED:20240515T032621Z
UID:10001599-1729764000-1729774800@www.rockylakesgolf.com
SUMMARY:Kuna League
DESCRIPTION:Tee Times
URL:https://www.rockylakesgolf.com/event/kuna-league/2024-10-24/
END:VEVENT
BEGIN:VEVENT
DTSTART;TZID=UTC:20241024T140000
DTEND;TZID=UTC:20241024T170000
DTSTAMP:20260422T080102
CREATED:20240515T032658Z
LAST-MODIFIED:20240515T032658Z
UID:10001860-1729778400-1729789200@www.rockylakesgolf.com
SUMMARY:Guard League
DESCRIPTION:Tee Times
URL:https://www.rockylakesgolf.com/event/guard-league/2024-10-24/
END:VEVENT
BEGIN:VEVENT
DTSTART;TZID=America/New_York:20241024T170000
DTEND;TZID=America/New_York:20241024T200000
DTSTAMP:20260422T080102
CREATED:20240515T032803Z
LAST-MODIFIED:20240515T032803Z
UID:10002121-1729789200-1729800000@www.rockylakesgolf.com
SUMMARY:Average Joe's
DESCRIPTION:Tee Times
URL:https://www.rockylakesgolf.com/event/average-joes/2024-10-24/
END:VEVENT
BEGIN:VEVENT
DTSTART;TZID=America/New_York:20241027T090000
DTEND;TZID=America/New_York:20241027T120000
DTSTAMP:20260422T080102
CREATED:20240515T032857Z
LAST-MODIFIED:20240515T032857Z
UID:10002382-1730019600-1730030400@www.rockylakesgolf.com
SUMMARY:Best Ball
DESCRIPTION:Tee Times
URL:https://www.rockylakesgolf.com/event/best-ball/2024-10-27/
END:VEVENT
BEGIN:VEVENT
DTSTART;TZID=America/New_York:20241028T140000
DTEND;TZID=America/New_York:20241028T160000
DTSTAMP:20260422T080102
CREATED:20240515T031308Z
LAST-MODIFIED:20240515T031806Z
UID:10000035-1730124000-1730131200@www.rockylakesgolf.com
SUMMARY:Brick Tap & Tavern
DESCRIPTION:Tee Times
URL:https://www.rockylakesgolf.com/event/brick-tap-tavern/2024-10-28/
END:VEVENT
BEGIN:VEVENT
DTSTART;TZID=America/New_York:20241029T160000
DTEND;TZID=America/New_York:20241029T170000
DTSTAMP:20260422T080102
CREATED:20240515T031624Z
LAST-MODIFIED:20240515T031624Z
UID:10000557-1730217600-1730221200@www.rockylakesgolf.com
SUMMARY:Hipps
DESCRIPTION:Tee Times
URL:https://www.rockylakesgolf.com/event/hipps/2024-10-29/
END:VEVENT
END:VCALENDAR