BEGIN:VCALENDAR
VERSION:2.0
PRODID:-//Rocky Lakes Golf Course - ECPv6.15.18//NONSGML v1.0//EN
CALSCALE:GREGORIAN
METHOD:PUBLISH
X-ORIGINAL-URL:https://www.rockylakesgolf.com
X-WR-CALDESC:Events for Rocky Lakes Golf Course
REFRESH-INTERVAL;VALUE=DURATION:PT1H
X-Robots-Tag:noindex
X-PUBLISHED-TTL:PT1H
BEGIN:VTIMEZONE
TZID:America/New_York
BEGIN:DAYLIGHT
TZOFFSETFROM:-0500
TZOFFSETTO:-0400
TZNAME:EDT
DTSTART:20230312T070000
END:DAYLIGHT
BEGIN:STANDARD
TZOFFSETFROM:-0400
TZOFFSETTO:-0500
TZNAME:EST
DTSTART:20231105T060000
END:STANDARD
BEGIN:DAYLIGHT
TZOFFSETFROM:-0500
TZOFFSETTO:-0400
TZNAME:EDT
DTSTART:20240310T070000
END:DAYLIGHT
BEGIN:STANDARD
TZOFFSETFROM:-0400
TZOFFSETTO:-0500
TZNAME:EST
DTSTART:20241103T060000
END:STANDARD
BEGIN:DAYLIGHT
TZOFFSETFROM:-0500
TZOFFSETTO:-0400
TZNAME:EDT
DTSTART:20250309T070000
END:DAYLIGHT
BEGIN:STANDARD
TZOFFSETFROM:-0400
TZOFFSETTO:-0500
TZNAME:EST
DTSTART:20251102T060000
END:STANDARD
END:VTIMEZONE
BEGIN:VTIMEZONE
TZID:UTC
BEGIN:STANDARD
TZOFFSETFROM:+0000
TZOFFSETTO:+0000
TZNAME:UTC
DTSTART:20230101T000000
END:STANDARD
END:VTIMEZONE
BEGIN:VEVENT
DTSTART;TZID=America/New_York:20240915T090000
DTEND;TZID=America/New_York:20240915T120000
DTSTAMP:20260424T100837
CREATED:20240515T032857Z
LAST-MODIFIED:20240515T032857Z
UID:10002376-1726390800-1726401600@www.rockylakesgolf.com
SUMMARY:Best Ball
DESCRIPTION:Tee Times
URL:https://www.rockylakesgolf.com/event/best-ball/2024-09-15/
END:VEVENT
BEGIN:VEVENT
DTSTART;TZID=America/New_York:20240916T140000
DTEND;TZID=America/New_York:20240916T160000
DTSTAMP:20260424T100837
CREATED:20240515T031308Z
LAST-MODIFIED:20240515T031806Z
UID:10000029-1726495200-1726502400@www.rockylakesgolf.com
SUMMARY:Brick Tap & Tavern
DESCRIPTION:Tee Times
URL:https://www.rockylakesgolf.com/event/brick-tap-tavern/2024-09-16/
END:VEVENT
BEGIN:VEVENT
DTSTART;TZID=America/New_York:20240917T160000
DTEND;TZID=America/New_York:20240917T170000
DTSTAMP:20260424T100837
CREATED:20240515T031624Z
LAST-MODIFIED:20240515T031624Z
UID:10000551-1726588800-1726592400@www.rockylakesgolf.com
SUMMARY:Hipps
DESCRIPTION:Tee Times
URL:https://www.rockylakesgolf.com/event/hipps/2024-09-17/
END:VEVENT
BEGIN:VEVENT
DTSTART;TZID=America/New_York:20240917T170000
DTEND;TZID=America/New_York:20240917T180000
DTSTAMP:20260424T100837
CREATED:20240515T031506Z
LAST-MODIFIED:20240516T075910Z
UID:10002637-1726592400-1726596000@www.rockylakesgolf.com
SUMMARY:Playmates
DESCRIPTION:Scramble Format
URL:https://www.rockylakesgolf.com/event/playmates/2024-09-17/
END:VEVENT
BEGIN:VEVENT
DTSTART;TZID=America/New_York:20240918T160000
DTEND;TZID=America/New_York:20240918T170000
DTSTAMP:20260424T100837
CREATED:20240515T032155Z
LAST-MODIFIED:20240515T032155Z
UID:10001072-1726675200-1726678800@www.rockylakesgolf.com
SUMMARY:Roger's League
DESCRIPTION:Scramble Format
URL:https://www.rockylakesgolf.com/event/rogers-league/2024-09-18/
END:VEVENT
BEGIN:VEVENT
DTSTART;TZID=America/New_York:20240918T170000
DTEND;TZID=America/New_York:20240918T180000
DTSTAMP:20260424T100837
CREATED:20240515T032501Z
LAST-MODIFIED:20240515T032501Z
UID:10001333-1726678800-1726682400@www.rockylakesgolf.com
SUMMARY:Spark League
DESCRIPTION:Tee Times
URL:https://www.rockylakesgolf.com/event/spark-league/2024-09-18/
END:VEVENT
BEGIN:VEVENT
DTSTART;TZID=America/New_York:20240919T100000
DTEND;TZID=America/New_York:20240919T130000
DTSTAMP:20260424T100837
CREATED:20240515T032621Z
LAST-MODIFIED:20240515T032621Z
UID:10001594-1726740000-1726750800@www.rockylakesgolf.com
SUMMARY:Kuna League
DESCRIPTION:Tee Times
URL:https://www.rockylakesgolf.com/event/kuna-league/2024-09-19/
END:VEVENT
BEGIN:VEVENT
DTSTART;TZID=UTC:20240919T140000
DTEND;TZID=UTC:20240919T170000
DTSTAMP:20260424T100837
CREATED:20240515T032658Z
LAST-MODIFIED:20240515T032658Z
UID:10001855-1726754400-1726765200@www.rockylakesgolf.com
SUMMARY:Guard League
DESCRIPTION:Tee Times
URL:https://www.rockylakesgolf.com/event/guard-league/2024-09-19/
END:VEVENT
BEGIN:VEVENT
DTSTART;TZID=America/New_York:20240919T170000
DTEND;TZID=America/New_York:20240919T200000
DTSTAMP:20260424T100837
CREATED:20240515T032803Z
LAST-MODIFIED:20240515T032803Z
UID:10002116-1726765200-1726776000@www.rockylakesgolf.com
SUMMARY:Average Joe's
DESCRIPTION:Tee Times
URL:https://www.rockylakesgolf.com/event/average-joes/2024-09-19/
END:VEVENT
BEGIN:VEVENT
DTSTART;TZID=America/New_York:20240922T090000
DTEND;TZID=America/New_York:20240922T120000
DTSTAMP:20260424T100837
CREATED:20240515T032857Z
LAST-MODIFIED:20240515T032857Z
UID:10002377-1726995600-1727006400@www.rockylakesgolf.com
SUMMARY:Best Ball
DESCRIPTION:Tee Times
URL:https://www.rockylakesgolf.com/event/best-ball/2024-09-22/
END:VEVENT
BEGIN:VEVENT
DTSTART;TZID=America/New_York:20240923T140000
DTEND;TZID=America/New_York:20240923T160000
DTSTAMP:20260424T100837
CREATED:20240515T031308Z
LAST-MODIFIED:20240515T031806Z
UID:10000030-1727100000-1727107200@www.rockylakesgolf.com
SUMMARY:Brick Tap & Tavern
DESCRIPTION:Tee Times
URL:https://www.rockylakesgolf.com/event/brick-tap-tavern/2024-09-23/
END:VEVENT
BEGIN:VEVENT
DTSTART;TZID=America/New_York:20240924T160000
DTEND;TZID=America/New_York:20240924T170000
DTSTAMP:20260424T100837
CREATED:20240515T031624Z
LAST-MODIFIED:20240515T031624Z
UID:10000552-1727193600-1727197200@www.rockylakesgolf.com
SUMMARY:Hipps
DESCRIPTION:Tee Times
URL:https://www.rockylakesgolf.com/event/hipps/2024-09-24/
END:VEVENT
BEGIN:VEVENT
DTSTART;TZID=America/New_York:20240924T170000
DTEND;TZID=America/New_York:20240924T180000
DTSTAMP:20260424T100837
CREATED:20240515T031506Z
LAST-MODIFIED:20240516T075910Z
UID:10002638-1727197200-1727200800@www.rockylakesgolf.com
SUMMARY:Playmates
DESCRIPTION:Scramble Format
URL:https://www.rockylakesgolf.com/event/playmates/2024-09-24/
END:VEVENT
BEGIN:VEVENT
DTSTART;TZID=America/New_York:20240925T160000
DTEND;TZID=America/New_York:20240925T170000
DTSTAMP:20260424T100837
CREATED:20240515T032155Z
LAST-MODIFIED:20240515T032155Z
UID:10001073-1727280000-1727283600@www.rockylakesgolf.com
SUMMARY:Roger's League
DESCRIPTION:Scramble Format
URL:https://www.rockylakesgolf.com/event/rogers-league/2024-09-25/
END:VEVENT
BEGIN:VEVENT
DTSTART;TZID=America/New_York:20240925T170000
DTEND;TZID=America/New_York:20240925T180000
DTSTAMP:20260424T100837
CREATED:20240515T032501Z
LAST-MODIFIED:20240515T032501Z
UID:10001334-1727283600-1727287200@www.rockylakesgolf.com
SUMMARY:Spark League
DESCRIPTION:Tee Times
URL:https://www.rockylakesgolf.com/event/spark-league/2024-09-25/
END:VEVENT
BEGIN:VEVENT
DTSTART;TZID=America/New_York:20240926T100000
DTEND;TZID=America/New_York:20240926T130000
DTSTAMP:20260424T100837
CREATED:20240515T032621Z
LAST-MODIFIED:20240515T032621Z
UID:10001595-1727344800-1727355600@www.rockylakesgolf.com
SUMMARY:Kuna League
DESCRIPTION:Tee Times
URL:https://www.rockylakesgolf.com/event/kuna-league/2024-09-26/
END:VEVENT
BEGIN:VEVENT
DTSTART;TZID=UTC:20240926T140000
DTEND;TZID=UTC:20240926T170000
DTSTAMP:20260424T100837
CREATED:20240515T032658Z
LAST-MODIFIED:20240515T032658Z
UID:10001856-1727359200-1727370000@www.rockylakesgolf.com
SUMMARY:Guard League
DESCRIPTION:Tee Times
URL:https://www.rockylakesgolf.com/event/guard-league/2024-09-26/
END:VEVENT
BEGIN:VEVENT
DTSTART;TZID=America/New_York:20240926T170000
DTEND;TZID=America/New_York:20240926T200000
DTSTAMP:20260424T100837
CREATED:20240515T032803Z
LAST-MODIFIED:20240515T032803Z
UID:10002117-1727370000-1727380800@www.rockylakesgolf.com
SUMMARY:Average Joe's
DESCRIPTION:Tee Times
URL:https://www.rockylakesgolf.com/event/average-joes/2024-09-26/
END:VEVENT
BEGIN:VEVENT
DTSTART;TZID=America/New_York:20240929T090000
DTEND;TZID=America/New_York:20240929T120000
DTSTAMP:20260424T100837
CREATED:20240515T032857Z
LAST-MODIFIED:20240515T032857Z
UID:10002378-1727600400-1727611200@www.rockylakesgolf.com
SUMMARY:Best Ball
DESCRIPTION:Tee Times
URL:https://www.rockylakesgolf.com/event/best-ball/2024-09-29/
END:VEVENT
BEGIN:VEVENT
DTSTART;TZID=America/New_York:20240930T140000
DTEND;TZID=America/New_York:20240930T160000
DTSTAMP:20260424T100837
CREATED:20240515T031308Z
LAST-MODIFIED:20240515T031806Z
UID:10000031-1727704800-1727712000@www.rockylakesgolf.com
SUMMARY:Brick Tap & Tavern
DESCRIPTION:Tee Times
URL:https://www.rockylakesgolf.com/event/brick-tap-tavern/2024-09-30/
END:VEVENT
BEGIN:VEVENT
DTSTART;TZID=America/New_York:20241001T160000
DTEND;TZID=America/New_York:20241001T170000
DTSTAMP:20260424T100837
CREATED:20240515T031624Z
LAST-MODIFIED:20240515T031624Z
UID:10000553-1727798400-1727802000@www.rockylakesgolf.com
SUMMARY:Hipps
DESCRIPTION:Tee Times
URL:https://www.rockylakesgolf.com/event/hipps/2024-10-01/
END:VEVENT
BEGIN:VEVENT
DTSTART;TZID=America/New_York:20241001T170000
DTEND;TZID=America/New_York:20241001T180000
DTSTAMP:20260424T100837
CREATED:20240515T031506Z
LAST-MODIFIED:20240516T075910Z
UID:10002639-1727802000-1727805600@www.rockylakesgolf.com
SUMMARY:Playmates
DESCRIPTION:Scramble Format
URL:https://www.rockylakesgolf.com/event/playmates/2024-10-01/
END:VEVENT
BEGIN:VEVENT
DTSTART;TZID=America/New_York:20241002T160000
DTEND;TZID=America/New_York:20241002T170000
DTSTAMP:20260424T100837
CREATED:20240515T032155Z
LAST-MODIFIED:20240515T032155Z
UID:10001074-1727884800-1727888400@www.rockylakesgolf.com
SUMMARY:Roger's League
DESCRIPTION:Scramble Format
URL:https://www.rockylakesgolf.com/event/rogers-league/2024-10-02/
END:VEVENT
BEGIN:VEVENT
DTSTART;TZID=America/New_York:20241002T170000
DTEND;TZID=America/New_York:20241002T180000
DTSTAMP:20260424T100838
CREATED:20240515T032501Z
LAST-MODIFIED:20240515T032501Z
UID:10001335-1727888400-1727892000@www.rockylakesgolf.com
SUMMARY:Spark League
DESCRIPTION:Tee Times
URL:https://www.rockylakesgolf.com/event/spark-league/2024-10-02/
END:VEVENT
BEGIN:VEVENT
DTSTART;TZID=America/New_York:20241003T100000
DTEND;TZID=America/New_York:20241003T130000
DTSTAMP:20260424T100838
CREATED:20240515T032621Z
LAST-MODIFIED:20240515T032621Z
UID:10001596-1727949600-1727960400@www.rockylakesgolf.com
SUMMARY:Kuna League
DESCRIPTION:Tee Times
URL:https://www.rockylakesgolf.com/event/kuna-league/2024-10-03/
END:VEVENT
BEGIN:VEVENT
DTSTART;TZID=UTC:20241003T140000
DTEND;TZID=UTC:20241003T170000
DTSTAMP:20260424T100838
CREATED:20240515T032658Z
LAST-MODIFIED:20240515T032658Z
UID:10001857-1727964000-1727974800@www.rockylakesgolf.com
SUMMARY:Guard League
DESCRIPTION:Tee Times
URL:https://www.rockylakesgolf.com/event/guard-league/2024-10-03/
END:VEVENT
BEGIN:VEVENT
DTSTART;TZID=America/New_York:20241003T170000
DTEND;TZID=America/New_York:20241003T200000
DTSTAMP:20260424T100838
CREATED:20240515T032803Z
LAST-MODIFIED:20240515T032803Z
UID:10002118-1727974800-1727985600@www.rockylakesgolf.com
SUMMARY:Average Joe's
DESCRIPTION:Tee Times
URL:https://www.rockylakesgolf.com/event/average-joes/2024-10-03/
END:VEVENT
BEGIN:VEVENT
DTSTART;TZID=America/New_York:20241006T090000
DTEND;TZID=America/New_York:20241006T120000
DTSTAMP:20260424T100838
CREATED:20240515T032857Z
LAST-MODIFIED:20240515T032857Z
UID:10002379-1728205200-1728216000@www.rockylakesgolf.com
SUMMARY:Best Ball
DESCRIPTION:Tee Times
URL:https://www.rockylakesgolf.com/event/best-ball/2024-10-06/
END:VEVENT
BEGIN:VEVENT
DTSTART;TZID=America/New_York:20241007T140000
DTEND;TZID=America/New_York:20241007T160000
DTSTAMP:20260424T100838
CREATED:20240515T031308Z
LAST-MODIFIED:20240515T031806Z
UID:10000032-1728309600-1728316800@www.rockylakesgolf.com
SUMMARY:Brick Tap & Tavern
DESCRIPTION:Tee Times
URL:https://www.rockylakesgolf.com/event/brick-tap-tavern/2024-10-07/
END:VEVENT
BEGIN:VEVENT
DTSTART;TZID=America/New_York:20241008T160000
DTEND;TZID=America/New_York:20241008T170000
DTSTAMP:20260424T100838
CREATED:20240515T031624Z
LAST-MODIFIED:20240515T031624Z
UID:10000554-1728403200-1728406800@www.rockylakesgolf.com
SUMMARY:Hipps
DESCRIPTION:Tee Times
URL:https://www.rockylakesgolf.com/event/hipps/2024-10-08/
END:VEVENT
END:VCALENDAR