BEGIN:VCALENDAR
VERSION:2.0
PRODID:-//Rocky Lakes Golf Course - ECPv6.15.18//NONSGML v1.0//EN
CALSCALE:GREGORIAN
METHOD:PUBLISH
X-WR-CALNAME:Rocky Lakes Golf Course
X-ORIGINAL-URL:https://www.rockylakesgolf.com
X-WR-CALDESC:Events for Rocky Lakes Golf Course
REFRESH-INTERVAL;VALUE=DURATION:PT1H
X-Robots-Tag:noindex
X-PUBLISHED-TTL:PT1H
BEGIN:VTIMEZONE
TZID:America/New_York
BEGIN:DAYLIGHT
TZOFFSETFROM:-0500
TZOFFSETTO:-0400
TZNAME:EDT
DTSTART:20260308T070000
END:DAYLIGHT
BEGIN:STANDARD
TZOFFSETFROM:-0400
TZOFFSETTO:-0500
TZNAME:EST
DTSTART:20261101T060000
END:STANDARD
BEGIN:DAYLIGHT
TZOFFSETFROM:-0500
TZOFFSETTO:-0400
TZNAME:EDT
DTSTART:20270314T070000
END:DAYLIGHT
BEGIN:STANDARD
TZOFFSETFROM:-0400
TZOFFSETTO:-0500
TZNAME:EST
DTSTART:20271107T060000
END:STANDARD
BEGIN:DAYLIGHT
TZOFFSETFROM:-0500
TZOFFSETTO:-0400
TZNAME:EDT
DTSTART:20280312T070000
END:DAYLIGHT
BEGIN:STANDARD
TZOFFSETFROM:-0400
TZOFFSETTO:-0500
TZNAME:EST
DTSTART:20281105T060000
END:STANDARD
END:VTIMEZONE
BEGIN:VTIMEZONE
TZID:UTC
BEGIN:STANDARD
TZOFFSETFROM:+0000
TZOFFSETTO:+0000
TZNAME:UTC
DTSTART:20260101T000000
END:STANDARD
END:VTIMEZONE
BEGIN:VEVENT
DTSTART;TZID=America/New_York:20270404T090000
DTEND;TZID=America/New_York:20270404T120000
DTSTAMP:20260421T185805
CREATED:20240515T032857Z
LAST-MODIFIED:20240515T032857Z
UID:10002509-1806829200-1806840000@www.rockylakesgolf.com
SUMMARY:Best Ball
DESCRIPTION:Tee Times
URL:https://www.rockylakesgolf.com/event/best-ball/2027-04-04/
END:VEVENT
BEGIN:VEVENT
DTSTART;TZID=America/New_York:20270405T140000
DTEND;TZID=America/New_York:20270405T160000
DTSTAMP:20260421T185805
CREATED:20240515T031308Z
LAST-MODIFIED:20240515T031806Z
UID:10000162-1806933600-1806940800@www.rockylakesgolf.com
SUMMARY:Brick Tap & Tavern
DESCRIPTION:Tee Times
URL:https://www.rockylakesgolf.com/event/brick-tap-tavern/2027-04-05/
END:VEVENT
BEGIN:VEVENT
DTSTART;TZID=America/New_York:20270406T160000
DTEND;TZID=America/New_York:20270406T170000
DTSTAMP:20260421T185805
CREATED:20240515T031624Z
LAST-MODIFIED:20240515T031624Z
UID:10000684-1807027200-1807030800@www.rockylakesgolf.com
SUMMARY:Hipps
DESCRIPTION:Tee Times
URL:https://www.rockylakesgolf.com/event/hipps/2027-04-06/
END:VEVENT
BEGIN:VEVENT
DTSTART;TZID=America/New_York:20270406T170000
DTEND;TZID=America/New_York:20270406T180000
DTSTAMP:20260421T185805
CREATED:20240515T031506Z
LAST-MODIFIED:20240516T075910Z
UID:10002770-1807030800-1807034400@www.rockylakesgolf.com
SUMMARY:Playmates
DESCRIPTION:Scramble Format
URL:https://www.rockylakesgolf.com/event/playmates/2027-04-06/
END:VEVENT
BEGIN:VEVENT
DTSTART;TZID=America/New_York:20270407T160000
DTEND;TZID=America/New_York:20270407T170000
DTSTAMP:20260421T185805
CREATED:20240515T032155Z
LAST-MODIFIED:20240515T032155Z
UID:10001205-1807113600-1807117200@www.rockylakesgolf.com
SUMMARY:Roger's League
DESCRIPTION:Scramble Format
URL:https://www.rockylakesgolf.com/event/rogers-league/2027-04-07/
END:VEVENT
BEGIN:VEVENT
DTSTART;TZID=America/New_York:20270407T170000
DTEND;TZID=America/New_York:20270407T180000
DTSTAMP:20260421T185805
CREATED:20240515T032501Z
LAST-MODIFIED:20240515T032501Z
UID:10001466-1807117200-1807120800@www.rockylakesgolf.com
SUMMARY:Spark League
DESCRIPTION:Tee Times
URL:https://www.rockylakesgolf.com/event/spark-league/2027-04-07/
END:VEVENT
BEGIN:VEVENT
DTSTART;TZID=America/New_York:20270408T100000
DTEND;TZID=America/New_York:20270408T130000
DTSTAMP:20260421T185805
CREATED:20240515T032621Z
LAST-MODIFIED:20240515T032621Z
UID:10001727-1807178400-1807189200@www.rockylakesgolf.com
SUMMARY:Kuna League
DESCRIPTION:Tee Times
URL:https://www.rockylakesgolf.com/event/kuna-league/2027-04-08/
END:VEVENT
BEGIN:VEVENT
DTSTART;TZID=UTC:20270408T140000
DTEND;TZID=UTC:20270408T170000
DTSTAMP:20260421T185806
CREATED:20240515T032658Z
LAST-MODIFIED:20240515T032658Z
UID:10001988-1807192800-1807203600@www.rockylakesgolf.com
SUMMARY:Guard League
DESCRIPTION:Tee Times
URL:https://www.rockylakesgolf.com/event/guard-league/2027-04-08/
END:VEVENT
BEGIN:VEVENT
DTSTART;TZID=America/New_York:20270408T170000
DTEND;TZID=America/New_York:20270408T200000
DTSTAMP:20260421T185806
CREATED:20240515T032803Z
LAST-MODIFIED:20240515T032803Z
UID:10002249-1807203600-1807214400@www.rockylakesgolf.com
SUMMARY:Average Joe's
DESCRIPTION:Tee Times
URL:https://www.rockylakesgolf.com/event/average-joes/2027-04-08/
END:VEVENT
BEGIN:VEVENT
DTSTART;TZID=America/New_York:20270411T090000
DTEND;TZID=America/New_York:20270411T120000
DTSTAMP:20260421T185806
CREATED:20240515T032857Z
LAST-MODIFIED:20240515T032857Z
UID:10002510-1807434000-1807444800@www.rockylakesgolf.com
SUMMARY:Best Ball
DESCRIPTION:Tee Times
URL:https://www.rockylakesgolf.com/event/best-ball/2027-04-11/
END:VEVENT
BEGIN:VEVENT
DTSTART;TZID=America/New_York:20270412T140000
DTEND;TZID=America/New_York:20270412T160000
DTSTAMP:20260421T185806
CREATED:20240515T031308Z
LAST-MODIFIED:20240515T031806Z
UID:10000163-1807538400-1807545600@www.rockylakesgolf.com
SUMMARY:Brick Tap & Tavern
DESCRIPTION:Tee Times
URL:https://www.rockylakesgolf.com/event/brick-tap-tavern/2027-04-12/
END:VEVENT
BEGIN:VEVENT
DTSTART;TZID=America/New_York:20270413T160000
DTEND;TZID=America/New_York:20270413T170000
DTSTAMP:20260421T185806
CREATED:20240515T031624Z
LAST-MODIFIED:20240515T031624Z
UID:10000685-1807632000-1807635600@www.rockylakesgolf.com
SUMMARY:Hipps
DESCRIPTION:Tee Times
URL:https://www.rockylakesgolf.com/event/hipps/2027-04-13/
END:VEVENT
BEGIN:VEVENT
DTSTART;TZID=America/New_York:20270413T170000
DTEND;TZID=America/New_York:20270413T180000
DTSTAMP:20260421T185806
CREATED:20240515T031506Z
LAST-MODIFIED:20240516T075910Z
UID:10002771-1807635600-1807639200@www.rockylakesgolf.com
SUMMARY:Playmates
DESCRIPTION:Scramble Format
URL:https://www.rockylakesgolf.com/event/playmates/2027-04-13/
END:VEVENT
BEGIN:VEVENT
DTSTART;TZID=America/New_York:20270414T160000
DTEND;TZID=America/New_York:20270414T170000
DTSTAMP:20260421T185806
CREATED:20240515T032155Z
LAST-MODIFIED:20240515T032155Z
UID:10001206-1807718400-1807722000@www.rockylakesgolf.com
SUMMARY:Roger's League
DESCRIPTION:Scramble Format
URL:https://www.rockylakesgolf.com/event/rogers-league/2027-04-14/
END:VEVENT
BEGIN:VEVENT
DTSTART;TZID=America/New_York:20270414T170000
DTEND;TZID=America/New_York:20270414T180000
DTSTAMP:20260421T185806
CREATED:20240515T032501Z
LAST-MODIFIED:20240515T032501Z
UID:10001467-1807722000-1807725600@www.rockylakesgolf.com
SUMMARY:Spark League
DESCRIPTION:Tee Times
URL:https://www.rockylakesgolf.com/event/spark-league/2027-04-14/
END:VEVENT
BEGIN:VEVENT
DTSTART;TZID=America/New_York:20270415T100000
DTEND;TZID=America/New_York:20270415T130000
DTSTAMP:20260421T185806
CREATED:20240515T032621Z
LAST-MODIFIED:20240515T032621Z
UID:10001728-1807783200-1807794000@www.rockylakesgolf.com
SUMMARY:Kuna League
DESCRIPTION:Tee Times
URL:https://www.rockylakesgolf.com/event/kuna-league/2027-04-15/
END:VEVENT
BEGIN:VEVENT
DTSTART;TZID=UTC:20270415T140000
DTEND;TZID=UTC:20270415T170000
DTSTAMP:20260421T185806
CREATED:20240515T032658Z
LAST-MODIFIED:20240515T032658Z
UID:10001989-1807797600-1807808400@www.rockylakesgolf.com
SUMMARY:Guard League
DESCRIPTION:Tee Times
URL:https://www.rockylakesgolf.com/event/guard-league/2027-04-15/
END:VEVENT
BEGIN:VEVENT
DTSTART;TZID=America/New_York:20270415T170000
DTEND;TZID=America/New_York:20270415T200000
DTSTAMP:20260421T185806
CREATED:20240515T032803Z
LAST-MODIFIED:20240515T032803Z
UID:10002250-1807808400-1807819200@www.rockylakesgolf.com
SUMMARY:Average Joe's
DESCRIPTION:Tee Times
URL:https://www.rockylakesgolf.com/event/average-joes/2027-04-15/
END:VEVENT
BEGIN:VEVENT
DTSTART;TZID=America/New_York:20270418T090000
DTEND;TZID=America/New_York:20270418T120000
DTSTAMP:20260421T185806
CREATED:20240515T032857Z
LAST-MODIFIED:20240515T032857Z
UID:10002511-1808038800-1808049600@www.rockylakesgolf.com
SUMMARY:Best Ball
DESCRIPTION:Tee Times
URL:https://www.rockylakesgolf.com/event/best-ball/2027-04-18/
END:VEVENT
BEGIN:VEVENT
DTSTART;TZID=America/New_York:20270419T140000
DTEND;TZID=America/New_York:20270419T160000
DTSTAMP:20260421T185806
CREATED:20240515T031308Z
LAST-MODIFIED:20240515T031806Z
UID:10000164-1808143200-1808150400@www.rockylakesgolf.com
SUMMARY:Brick Tap & Tavern
DESCRIPTION:Tee Times
URL:https://www.rockylakesgolf.com/event/brick-tap-tavern/2027-04-19/
END:VEVENT
BEGIN:VEVENT
DTSTART;TZID=America/New_York:20270420T160000
DTEND;TZID=America/New_York:20270420T170000
DTSTAMP:20260421T185806
CREATED:20240515T031624Z
LAST-MODIFIED:20240515T031624Z
UID:10000686-1808236800-1808240400@www.rockylakesgolf.com
SUMMARY:Hipps
DESCRIPTION:Tee Times
URL:https://www.rockylakesgolf.com/event/hipps/2027-04-20/
END:VEVENT
BEGIN:VEVENT
DTSTART;TZID=America/New_York:20270420T170000
DTEND;TZID=America/New_York:20270420T180000
DTSTAMP:20260421T185806
CREATED:20240515T031506Z
LAST-MODIFIED:20240516T075910Z
UID:10002772-1808240400-1808244000@www.rockylakesgolf.com
SUMMARY:Playmates
DESCRIPTION:Scramble Format
URL:https://www.rockylakesgolf.com/event/playmates/2027-04-20/
END:VEVENT
BEGIN:VEVENT
DTSTART;TZID=America/New_York:20270421T160000
DTEND;TZID=America/New_York:20270421T170000
DTSTAMP:20260421T185806
CREATED:20240515T032155Z
LAST-MODIFIED:20240515T032155Z
UID:10001207-1808323200-1808326800@www.rockylakesgolf.com
SUMMARY:Roger's League
DESCRIPTION:Scramble Format
URL:https://www.rockylakesgolf.com/event/rogers-league/2027-04-21/
END:VEVENT
BEGIN:VEVENT
DTSTART;TZID=America/New_York:20270421T170000
DTEND;TZID=America/New_York:20270421T180000
DTSTAMP:20260421T185806
CREATED:20240515T032501Z
LAST-MODIFIED:20240515T032501Z
UID:10001468-1808326800-1808330400@www.rockylakesgolf.com
SUMMARY:Spark League
DESCRIPTION:Tee Times
URL:https://www.rockylakesgolf.com/event/spark-league/2027-04-21/
END:VEVENT
BEGIN:VEVENT
DTSTART;TZID=America/New_York:20270422T100000
DTEND;TZID=America/New_York:20270422T130000
DTSTAMP:20260421T185806
CREATED:20240515T032621Z
LAST-MODIFIED:20240515T032621Z
UID:10001729-1808388000-1808398800@www.rockylakesgolf.com
SUMMARY:Kuna League
DESCRIPTION:Tee Times
URL:https://www.rockylakesgolf.com/event/kuna-league/2027-04-22/
END:VEVENT
BEGIN:VEVENT
DTSTART;TZID=UTC:20270422T140000
DTEND;TZID=UTC:20270422T170000
DTSTAMP:20260421T185806
CREATED:20240515T032658Z
LAST-MODIFIED:20240515T032658Z
UID:10001990-1808402400-1808413200@www.rockylakesgolf.com
SUMMARY:Guard League
DESCRIPTION:Tee Times
URL:https://www.rockylakesgolf.com/event/guard-league/2027-04-22/
END:VEVENT
BEGIN:VEVENT
DTSTART;TZID=America/New_York:20270422T170000
DTEND;TZID=America/New_York:20270422T200000
DTSTAMP:20260421T185806
CREATED:20240515T032803Z
LAST-MODIFIED:20240515T032803Z
UID:10002251-1808413200-1808424000@www.rockylakesgolf.com
SUMMARY:Average Joe's
DESCRIPTION:Tee Times
URL:https://www.rockylakesgolf.com/event/average-joes/2027-04-22/
END:VEVENT
BEGIN:VEVENT
DTSTART;TZID=America/New_York:20270425T090000
DTEND;TZID=America/New_York:20270425T120000
DTSTAMP:20260421T185806
CREATED:20240515T032857Z
LAST-MODIFIED:20240515T032857Z
UID:10002512-1808643600-1808654400@www.rockylakesgolf.com
SUMMARY:Best Ball
DESCRIPTION:Tee Times
URL:https://www.rockylakesgolf.com/event/best-ball/2027-04-25/
END:VEVENT
BEGIN:VEVENT
DTSTART;TZID=America/New_York:20270426T140000
DTEND;TZID=America/New_York:20270426T160000
DTSTAMP:20260421T185806
CREATED:20240515T031308Z
LAST-MODIFIED:20240515T031806Z
UID:10000165-1808748000-1808755200@www.rockylakesgolf.com
SUMMARY:Brick Tap & Tavern
DESCRIPTION:Tee Times
URL:https://www.rockylakesgolf.com/event/brick-tap-tavern/2027-04-26/
END:VEVENT
BEGIN:VEVENT
DTSTART;TZID=America/New_York:20270427T160000
DTEND;TZID=America/New_York:20270427T170000
DTSTAMP:20260421T185806
CREATED:20240515T031624Z
LAST-MODIFIED:20240515T031624Z
UID:10000687-1808841600-1808845200@www.rockylakesgolf.com
SUMMARY:Hipps
DESCRIPTION:Tee Times
URL:https://www.rockylakesgolf.com/event/hipps/2027-04-27/
END:VEVENT
END:VCALENDAR