BEGIN:VCALENDAR
VERSION:2.0
PRODID:-//Rocky Lakes Golf Course - ECPv6.15.18//NONSGML v1.0//EN
CALSCALE:GREGORIAN
METHOD:PUBLISH
X-ORIGINAL-URL:https://www.rockylakesgolf.com
X-WR-CALDESC:Events for Rocky Lakes Golf Course
REFRESH-INTERVAL;VALUE=DURATION:PT1H
X-Robots-Tag:noindex
X-PUBLISHED-TTL:PT1H
BEGIN:VTIMEZONE
TZID:America/New_York
BEGIN:DAYLIGHT
TZOFFSETFROM:-0500
TZOFFSETTO:-0400
TZNAME:EDT
DTSTART:20240310T070000
END:DAYLIGHT
BEGIN:STANDARD
TZOFFSETFROM:-0400
TZOFFSETTO:-0500
TZNAME:EST
DTSTART:20241103T060000
END:STANDARD
BEGIN:DAYLIGHT
TZOFFSETFROM:-0500
TZOFFSETTO:-0400
TZNAME:EDT
DTSTART:20250309T070000
END:DAYLIGHT
BEGIN:STANDARD
TZOFFSETFROM:-0400
TZOFFSETTO:-0500
TZNAME:EST
DTSTART:20251102T060000
END:STANDARD
BEGIN:DAYLIGHT
TZOFFSETFROM:-0500
TZOFFSETTO:-0400
TZNAME:EDT
DTSTART:20260308T070000
END:DAYLIGHT
BEGIN:STANDARD
TZOFFSETFROM:-0400
TZOFFSETTO:-0500
TZNAME:EST
DTSTART:20261101T060000
END:STANDARD
END:VTIMEZONE
BEGIN:VTIMEZONE
TZID:UTC
BEGIN:STANDARD
TZOFFSETFROM:+0000
TZOFFSETTO:+0000
TZNAME:UTC
DTSTART:20240101T000000
END:STANDARD
END:VTIMEZONE
BEGIN:VEVENT
DTSTART;TZID=America/New_York:20250306T100000
DTEND;TZID=America/New_York:20250306T130000
DTSTAMP:20260421T234243
CREATED:20240515T032621Z
LAST-MODIFIED:20240515T032621Z
UID:10001618-1741255200-1741266000@www.rockylakesgolf.com
SUMMARY:Kuna League
DESCRIPTION:Tee Times
URL:https://www.rockylakesgolf.com/event/kuna-league/2025-03-06/
END:VEVENT
BEGIN:VEVENT
DTSTART;TZID=UTC:20250306T140000
DTEND;TZID=UTC:20250306T170000
DTSTAMP:20260421T234243
CREATED:20240515T032658Z
LAST-MODIFIED:20240515T032658Z
UID:10001879-1741269600-1741280400@www.rockylakesgolf.com
SUMMARY:Guard League
DESCRIPTION:Tee Times
URL:https://www.rockylakesgolf.com/event/guard-league/2025-03-06/
END:VEVENT
BEGIN:VEVENT
DTSTART;TZID=America/New_York:20250306T170000
DTEND;TZID=America/New_York:20250306T200000
DTSTAMP:20260421T234243
CREATED:20240515T032803Z
LAST-MODIFIED:20240515T032803Z
UID:10002140-1741280400-1741291200@www.rockylakesgolf.com
SUMMARY:Average Joe's
DESCRIPTION:Tee Times
URL:https://www.rockylakesgolf.com/event/average-joes/2025-03-06/
END:VEVENT
BEGIN:VEVENT
DTSTART;TZID=America/New_York:20250309T090000
DTEND;TZID=America/New_York:20250309T120000
DTSTAMP:20260421T234243
CREATED:20240515T032857Z
LAST-MODIFIED:20240515T032857Z
UID:10002401-1741510800-1741521600@www.rockylakesgolf.com
SUMMARY:Best Ball
DESCRIPTION:Tee Times
URL:https://www.rockylakesgolf.com/event/best-ball/2025-03-09/
END:VEVENT
BEGIN:VEVENT
DTSTART;TZID=America/New_York:20250310T140000
DTEND;TZID=America/New_York:20250310T160000
DTSTAMP:20260421T234243
CREATED:20240515T031308Z
LAST-MODIFIED:20240515T031806Z
UID:10000054-1741615200-1741622400@www.rockylakesgolf.com
SUMMARY:Brick Tap & Tavern
DESCRIPTION:Tee Times
URL:https://www.rockylakesgolf.com/event/brick-tap-tavern/2025-03-10/
END:VEVENT
BEGIN:VEVENT
DTSTART;TZID=America/New_York:20250311T160000
DTEND;TZID=America/New_York:20250311T170000
DTSTAMP:20260421T234243
CREATED:20240515T031624Z
LAST-MODIFIED:20240515T031624Z
UID:10000576-1741708800-1741712400@www.rockylakesgolf.com
SUMMARY:Hipps
DESCRIPTION:Tee Times
URL:https://www.rockylakesgolf.com/event/hipps/2025-03-11/
END:VEVENT
BEGIN:VEVENT
DTSTART;TZID=America/New_York:20250311T170000
DTEND;TZID=America/New_York:20250311T180000
DTSTAMP:20260421T234243
CREATED:20240515T031506Z
LAST-MODIFIED:20240516T075910Z
UID:10002662-1741712400-1741716000@www.rockylakesgolf.com
SUMMARY:Playmates
DESCRIPTION:Scramble Format
URL:https://www.rockylakesgolf.com/event/playmates/2025-03-11/
END:VEVENT
BEGIN:VEVENT
DTSTART;TZID=America/New_York:20250312T160000
DTEND;TZID=America/New_York:20250312T170000
DTSTAMP:20260421T234243
CREATED:20240515T032155Z
LAST-MODIFIED:20240515T032155Z
UID:10001097-1741795200-1741798800@www.rockylakesgolf.com
SUMMARY:Roger's League
DESCRIPTION:Scramble Format
URL:https://www.rockylakesgolf.com/event/rogers-league/2025-03-12/
END:VEVENT
BEGIN:VEVENT
DTSTART;TZID=America/New_York:20250312T170000
DTEND;TZID=America/New_York:20250312T180000
DTSTAMP:20260421T234243
CREATED:20240515T032501Z
LAST-MODIFIED:20240515T032501Z
UID:10001358-1741798800-1741802400@www.rockylakesgolf.com
SUMMARY:Spark League
DESCRIPTION:Tee Times
URL:https://www.rockylakesgolf.com/event/spark-league/2025-03-12/
END:VEVENT
BEGIN:VEVENT
DTSTART;TZID=America/New_York:20250313T100000
DTEND;TZID=America/New_York:20250313T130000
DTSTAMP:20260421T234243
CREATED:20240515T032621Z
LAST-MODIFIED:20240515T032621Z
UID:10001619-1741860000-1741870800@www.rockylakesgolf.com
SUMMARY:Kuna League
DESCRIPTION:Tee Times
URL:https://www.rockylakesgolf.com/event/kuna-league/2025-03-13/
END:VEVENT
BEGIN:VEVENT
DTSTART;TZID=UTC:20250313T140000
DTEND;TZID=UTC:20250313T170000
DTSTAMP:20260421T234243
CREATED:20240515T032658Z
LAST-MODIFIED:20240515T032658Z
UID:10001880-1741874400-1741885200@www.rockylakesgolf.com
SUMMARY:Guard League
DESCRIPTION:Tee Times
URL:https://www.rockylakesgolf.com/event/guard-league/2025-03-13/
END:VEVENT
BEGIN:VEVENT
DTSTART;TZID=America/New_York:20250313T170000
DTEND;TZID=America/New_York:20250313T200000
DTSTAMP:20260421T234243
CREATED:20240515T032803Z
LAST-MODIFIED:20240515T032803Z
UID:10002141-1741885200-1741896000@www.rockylakesgolf.com
SUMMARY:Average Joe's
DESCRIPTION:Tee Times
URL:https://www.rockylakesgolf.com/event/average-joes/2025-03-13/
END:VEVENT
BEGIN:VEVENT
DTSTART;TZID=America/New_York:20250316T090000
DTEND;TZID=America/New_York:20250316T120000
DTSTAMP:20260421T234243
CREATED:20240515T032857Z
LAST-MODIFIED:20240515T032857Z
UID:10002402-1742115600-1742126400@www.rockylakesgolf.com
SUMMARY:Best Ball
DESCRIPTION:Tee Times
URL:https://www.rockylakesgolf.com/event/best-ball/2025-03-16/
END:VEVENT
BEGIN:VEVENT
DTSTART;TZID=America/New_York:20250317T140000
DTEND;TZID=America/New_York:20250317T160000
DTSTAMP:20260421T234243
CREATED:20240515T031308Z
LAST-MODIFIED:20240515T031806Z
UID:10000055-1742220000-1742227200@www.rockylakesgolf.com
SUMMARY:Brick Tap & Tavern
DESCRIPTION:Tee Times
URL:https://www.rockylakesgolf.com/event/brick-tap-tavern/2025-03-17/
END:VEVENT
BEGIN:VEVENT
DTSTART;TZID=America/New_York:20250318T160000
DTEND;TZID=America/New_York:20250318T170000
DTSTAMP:20260421T234243
CREATED:20240515T031624Z
LAST-MODIFIED:20240515T031624Z
UID:10000577-1742313600-1742317200@www.rockylakesgolf.com
SUMMARY:Hipps
DESCRIPTION:Tee Times
URL:https://www.rockylakesgolf.com/event/hipps/2025-03-18/
END:VEVENT
BEGIN:VEVENT
DTSTART;TZID=America/New_York:20250318T170000
DTEND;TZID=America/New_York:20250318T180000
DTSTAMP:20260421T234243
CREATED:20240515T031506Z
LAST-MODIFIED:20240516T075910Z
UID:10002663-1742317200-1742320800@www.rockylakesgolf.com
SUMMARY:Playmates
DESCRIPTION:Scramble Format
URL:https://www.rockylakesgolf.com/event/playmates/2025-03-18/
END:VEVENT
BEGIN:VEVENT
DTSTART;TZID=America/New_York:20250319T160000
DTEND;TZID=America/New_York:20250319T170000
DTSTAMP:20260421T234243
CREATED:20240515T032155Z
LAST-MODIFIED:20240515T032155Z
UID:10001098-1742400000-1742403600@www.rockylakesgolf.com
SUMMARY:Roger's League
DESCRIPTION:Scramble Format
URL:https://www.rockylakesgolf.com/event/rogers-league/2025-03-19/
END:VEVENT
BEGIN:VEVENT
DTSTART;TZID=America/New_York:20250319T170000
DTEND;TZID=America/New_York:20250319T180000
DTSTAMP:20260421T234243
CREATED:20240515T032501Z
LAST-MODIFIED:20240515T032501Z
UID:10001359-1742403600-1742407200@www.rockylakesgolf.com
SUMMARY:Spark League
DESCRIPTION:Tee Times
URL:https://www.rockylakesgolf.com/event/spark-league/2025-03-19/
END:VEVENT
BEGIN:VEVENT
DTSTART;TZID=America/New_York:20250320T100000
DTEND;TZID=America/New_York:20250320T130000
DTSTAMP:20260421T234243
CREATED:20240515T032621Z
LAST-MODIFIED:20240515T032621Z
UID:10001620-1742464800-1742475600@www.rockylakesgolf.com
SUMMARY:Kuna League
DESCRIPTION:Tee Times
URL:https://www.rockylakesgolf.com/event/kuna-league/2025-03-20/
END:VEVENT
BEGIN:VEVENT
DTSTART;TZID=UTC:20250320T140000
DTEND;TZID=UTC:20250320T170000
DTSTAMP:20260421T234243
CREATED:20240515T032658Z
LAST-MODIFIED:20240515T032658Z
UID:10001881-1742479200-1742490000@www.rockylakesgolf.com
SUMMARY:Guard League
DESCRIPTION:Tee Times
URL:https://www.rockylakesgolf.com/event/guard-league/2025-03-20/
END:VEVENT
BEGIN:VEVENT
DTSTART;TZID=America/New_York:20250320T170000
DTEND;TZID=America/New_York:20250320T200000
DTSTAMP:20260421T234243
CREATED:20240515T032803Z
LAST-MODIFIED:20240515T032803Z
UID:10002142-1742490000-1742500800@www.rockylakesgolf.com
SUMMARY:Average Joe's
DESCRIPTION:Tee Times
URL:https://www.rockylakesgolf.com/event/average-joes/2025-03-20/
END:VEVENT
BEGIN:VEVENT
DTSTART;TZID=America/New_York:20250323T090000
DTEND;TZID=America/New_York:20250323T120000
DTSTAMP:20260421T234243
CREATED:20240515T032857Z
LAST-MODIFIED:20240515T032857Z
UID:10002403-1742720400-1742731200@www.rockylakesgolf.com
SUMMARY:Best Ball
DESCRIPTION:Tee Times
URL:https://www.rockylakesgolf.com/event/best-ball/2025-03-23/
END:VEVENT
BEGIN:VEVENT
DTSTART;TZID=America/New_York:20250324T140000
DTEND;TZID=America/New_York:20250324T160000
DTSTAMP:20260421T234243
CREATED:20240515T031308Z
LAST-MODIFIED:20240515T031806Z
UID:10000056-1742824800-1742832000@www.rockylakesgolf.com
SUMMARY:Brick Tap & Tavern
DESCRIPTION:Tee Times
URL:https://www.rockylakesgolf.com/event/brick-tap-tavern/2025-03-24/
END:VEVENT
BEGIN:VEVENT
DTSTART;TZID=America/New_York:20250325T160000
DTEND;TZID=America/New_York:20250325T170000
DTSTAMP:20260421T234243
CREATED:20240515T031624Z
LAST-MODIFIED:20240515T031624Z
UID:10000578-1742918400-1742922000@www.rockylakesgolf.com
SUMMARY:Hipps
DESCRIPTION:Tee Times
URL:https://www.rockylakesgolf.com/event/hipps/2025-03-25/
END:VEVENT
BEGIN:VEVENT
DTSTART;TZID=America/New_York:20250325T170000
DTEND;TZID=America/New_York:20250325T180000
DTSTAMP:20260421T234243
CREATED:20240515T031506Z
LAST-MODIFIED:20240516T075910Z
UID:10002664-1742922000-1742925600@www.rockylakesgolf.com
SUMMARY:Playmates
DESCRIPTION:Scramble Format
URL:https://www.rockylakesgolf.com/event/playmates/2025-03-25/
END:VEVENT
BEGIN:VEVENT
DTSTART;TZID=America/New_York:20250326T160000
DTEND;TZID=America/New_York:20250326T170000
DTSTAMP:20260421T234243
CREATED:20240515T032155Z
LAST-MODIFIED:20240515T032155Z
UID:10001099-1743004800-1743008400@www.rockylakesgolf.com
SUMMARY:Roger's League
DESCRIPTION:Scramble Format
URL:https://www.rockylakesgolf.com/event/rogers-league/2025-03-26/
END:VEVENT
BEGIN:VEVENT
DTSTART;TZID=America/New_York:20250326T170000
DTEND;TZID=America/New_York:20250326T180000
DTSTAMP:20260421T234243
CREATED:20240515T032501Z
LAST-MODIFIED:20240515T032501Z
UID:10001360-1743008400-1743012000@www.rockylakesgolf.com
SUMMARY:Spark League
DESCRIPTION:Tee Times
URL:https://www.rockylakesgolf.com/event/spark-league/2025-03-26/
END:VEVENT
BEGIN:VEVENT
DTSTART;TZID=America/New_York:20250327T100000
DTEND;TZID=America/New_York:20250327T130000
DTSTAMP:20260421T234243
CREATED:20240515T032621Z
LAST-MODIFIED:20240515T032621Z
UID:10001621-1743069600-1743080400@www.rockylakesgolf.com
SUMMARY:Kuna League
DESCRIPTION:Tee Times
URL:https://www.rockylakesgolf.com/event/kuna-league/2025-03-27/
END:VEVENT
BEGIN:VEVENT
DTSTART;TZID=UTC:20250327T140000
DTEND;TZID=UTC:20250327T170000
DTSTAMP:20260421T234243
CREATED:20240515T032658Z
LAST-MODIFIED:20240515T032658Z
UID:10001882-1743084000-1743094800@www.rockylakesgolf.com
SUMMARY:Guard League
DESCRIPTION:Tee Times
URL:https://www.rockylakesgolf.com/event/guard-league/2025-03-27/
END:VEVENT
BEGIN:VEVENT
DTSTART;TZID=America/New_York:20250327T170000
DTEND;TZID=America/New_York:20250327T200000
DTSTAMP:20260421T234243
CREATED:20240515T032803Z
LAST-MODIFIED:20240515T032803Z
UID:10002143-1743094800-1743105600@www.rockylakesgolf.com
SUMMARY:Average Joe's
DESCRIPTION:Tee Times
URL:https://www.rockylakesgolf.com/event/average-joes/2025-03-27/
END:VEVENT
END:VCALENDAR