BEGIN:VCALENDAR
VERSION:2.0
PRODID:-//Rocky Lakes Golf Course - ECPv6.15.18//NONSGML v1.0//EN
CALSCALE:GREGORIAN
METHOD:PUBLISH
X-ORIGINAL-URL:https://www.rockylakesgolf.com
X-WR-CALDESC:Events for Rocky Lakes Golf Course
REFRESH-INTERVAL;VALUE=DURATION:PT1H
X-Robots-Tag:noindex
X-PUBLISHED-TTL:PT1H
BEGIN:VTIMEZONE
TZID:UTC
BEGIN:STANDARD
TZOFFSETFROM:+0000
TZOFFSETTO:+0000
TZNAME:UTC
DTSTART:20250101T000000
END:STANDARD
END:VTIMEZONE
BEGIN:VTIMEZONE
TZID:America/New_York
BEGIN:DAYLIGHT
TZOFFSETFROM:-0500
TZOFFSETTO:-0400
TZNAME:EDT
DTSTART:20250309T070000
END:DAYLIGHT
BEGIN:STANDARD
TZOFFSETFROM:-0400
TZOFFSETTO:-0500
TZNAME:EST
DTSTART:20251102T060000
END:STANDARD
BEGIN:DAYLIGHT
TZOFFSETFROM:-0500
TZOFFSETTO:-0400
TZNAME:EDT
DTSTART:20260308T070000
END:DAYLIGHT
BEGIN:STANDARD
TZOFFSETFROM:-0400
TZOFFSETTO:-0500
TZNAME:EST
DTSTART:20261101T060000
END:STANDARD
BEGIN:DAYLIGHT
TZOFFSETFROM:-0500
TZOFFSETTO:-0400
TZNAME:EDT
DTSTART:20270314T070000
END:DAYLIGHT
BEGIN:STANDARD
TZOFFSETFROM:-0400
TZOFFSETTO:-0500
TZNAME:EST
DTSTART:20271107T060000
END:STANDARD
END:VTIMEZONE
BEGIN:VEVENT
DTSTART;TZID=UTC:20260115T140000
DTEND;TZID=UTC:20260115T170000
DTSTAMP:20260420T075627
CREATED:20240515T032658Z
LAST-MODIFIED:20240515T032658Z
UID:10001924-1768485600-1768496400@www.rockylakesgolf.com
SUMMARY:Guard League
DESCRIPTION:Tee Times
URL:https://www.rockylakesgolf.com/event/guard-league/2026-01-15/
END:VEVENT
BEGIN:VEVENT
DTSTART;TZID=America/New_York:20260115T170000
DTEND;TZID=America/New_York:20260115T200000
DTSTAMP:20260420T075627
CREATED:20240515T032803Z
LAST-MODIFIED:20240515T032803Z
UID:10002185-1768496400-1768507200@www.rockylakesgolf.com
SUMMARY:Average Joe's
DESCRIPTION:Tee Times
URL:https://www.rockylakesgolf.com/event/average-joes/2026-01-15/
END:VEVENT
BEGIN:VEVENT
DTSTART;TZID=America/New_York:20260118T090000
DTEND;TZID=America/New_York:20260118T120000
DTSTAMP:20260420T075627
CREATED:20240515T032857Z
LAST-MODIFIED:20240515T032857Z
UID:10002446-1768726800-1768737600@www.rockylakesgolf.com
SUMMARY:Best Ball
DESCRIPTION:Tee Times
URL:https://www.rockylakesgolf.com/event/best-ball/2026-01-18/
END:VEVENT
BEGIN:VEVENT
DTSTART;TZID=America/New_York:20260119T140000
DTEND;TZID=America/New_York:20260119T160000
DTSTAMP:20260420T075627
CREATED:20240515T031308Z
LAST-MODIFIED:20240515T031806Z
UID:10000099-1768831200-1768838400@www.rockylakesgolf.com
SUMMARY:Brick Tap & Tavern
DESCRIPTION:Tee Times
URL:https://www.rockylakesgolf.com/event/brick-tap-tavern/2026-01-19/
END:VEVENT
BEGIN:VEVENT
DTSTART;TZID=America/New_York:20260120T160000
DTEND;TZID=America/New_York:20260120T170000
DTSTAMP:20260420T075627
CREATED:20240515T031624Z
LAST-MODIFIED:20240515T031624Z
UID:10000621-1768924800-1768928400@www.rockylakesgolf.com
SUMMARY:Hipps
DESCRIPTION:Tee Times
URL:https://www.rockylakesgolf.com/event/hipps/2026-01-20/
END:VEVENT
BEGIN:VEVENT
DTSTART;TZID=America/New_York:20260120T170000
DTEND;TZID=America/New_York:20260120T180000
DTSTAMP:20260420T075627
CREATED:20240515T031506Z
LAST-MODIFIED:20240516T075910Z
UID:10002707-1768928400-1768932000@www.rockylakesgolf.com
SUMMARY:Playmates
DESCRIPTION:Scramble Format
URL:https://www.rockylakesgolf.com/event/playmates/2026-01-20/
END:VEVENT
BEGIN:VEVENT
DTSTART;TZID=America/New_York:20260121T160000
DTEND;TZID=America/New_York:20260121T170000
DTSTAMP:20260420T075627
CREATED:20240515T032155Z
LAST-MODIFIED:20240515T032155Z
UID:10001142-1769011200-1769014800@www.rockylakesgolf.com
SUMMARY:Roger's League
DESCRIPTION:Scramble Format
URL:https://www.rockylakesgolf.com/event/rogers-league/2026-01-21/
END:VEVENT
BEGIN:VEVENT
DTSTART;TZID=America/New_York:20260121T170000
DTEND;TZID=America/New_York:20260121T180000
DTSTAMP:20260420T075627
CREATED:20240515T032501Z
LAST-MODIFIED:20240515T032501Z
UID:10001403-1769014800-1769018400@www.rockylakesgolf.com
SUMMARY:Spark League
DESCRIPTION:Tee Times
URL:https://www.rockylakesgolf.com/event/spark-league/2026-01-21/
END:VEVENT
BEGIN:VEVENT
DTSTART;TZID=America/New_York:20260122T100000
DTEND;TZID=America/New_York:20260122T130000
DTSTAMP:20260420T075627
CREATED:20240515T032621Z
LAST-MODIFIED:20240515T032621Z
UID:10001664-1769076000-1769086800@www.rockylakesgolf.com
SUMMARY:Kuna League
DESCRIPTION:Tee Times
URL:https://www.rockylakesgolf.com/event/kuna-league/2026-01-22/
END:VEVENT
BEGIN:VEVENT
DTSTART;TZID=UTC:20260122T140000
DTEND;TZID=UTC:20260122T170000
DTSTAMP:20260420T075627
CREATED:20240515T032658Z
LAST-MODIFIED:20240515T032658Z
UID:10001925-1769090400-1769101200@www.rockylakesgolf.com
SUMMARY:Guard League
DESCRIPTION:Tee Times
URL:https://www.rockylakesgolf.com/event/guard-league/2026-01-22/
END:VEVENT
BEGIN:VEVENT
DTSTART;TZID=America/New_York:20260122T170000
DTEND;TZID=America/New_York:20260122T200000
DTSTAMP:20260420T075627
CREATED:20240515T032803Z
LAST-MODIFIED:20240515T032803Z
UID:10002186-1769101200-1769112000@www.rockylakesgolf.com
SUMMARY:Average Joe's
DESCRIPTION:Tee Times
URL:https://www.rockylakesgolf.com/event/average-joes/2026-01-22/
END:VEVENT
BEGIN:VEVENT
DTSTART;TZID=America/New_York:20260125T090000
DTEND;TZID=America/New_York:20260125T120000
DTSTAMP:20260420T075627
CREATED:20240515T032857Z
LAST-MODIFIED:20240515T032857Z
UID:10002447-1769331600-1769342400@www.rockylakesgolf.com
SUMMARY:Best Ball
DESCRIPTION:Tee Times
URL:https://www.rockylakesgolf.com/event/best-ball/2026-01-25/
END:VEVENT
BEGIN:VEVENT
DTSTART;TZID=America/New_York:20260126T140000
DTEND;TZID=America/New_York:20260126T160000
DTSTAMP:20260420T075627
CREATED:20240515T031308Z
LAST-MODIFIED:20240515T031806Z
UID:10000100-1769436000-1769443200@www.rockylakesgolf.com
SUMMARY:Brick Tap & Tavern
DESCRIPTION:Tee Times
URL:https://www.rockylakesgolf.com/event/brick-tap-tavern/2026-01-26/
END:VEVENT
BEGIN:VEVENT
DTSTART;TZID=America/New_York:20260127T160000
DTEND;TZID=America/New_York:20260127T170000
DTSTAMP:20260420T075627
CREATED:20240515T031624Z
LAST-MODIFIED:20240515T031624Z
UID:10000622-1769529600-1769533200@www.rockylakesgolf.com
SUMMARY:Hipps
DESCRIPTION:Tee Times
URL:https://www.rockylakesgolf.com/event/hipps/2026-01-27/
END:VEVENT
BEGIN:VEVENT
DTSTART;TZID=America/New_York:20260127T170000
DTEND;TZID=America/New_York:20260127T180000
DTSTAMP:20260420T075627
CREATED:20240515T031506Z
LAST-MODIFIED:20240516T075910Z
UID:10002708-1769533200-1769536800@www.rockylakesgolf.com
SUMMARY:Playmates
DESCRIPTION:Scramble Format
URL:https://www.rockylakesgolf.com/event/playmates/2026-01-27/
END:VEVENT
BEGIN:VEVENT
DTSTART;TZID=America/New_York:20260128T160000
DTEND;TZID=America/New_York:20260128T170000
DTSTAMP:20260420T075627
CREATED:20240515T032155Z
LAST-MODIFIED:20240515T032155Z
UID:10001143-1769616000-1769619600@www.rockylakesgolf.com
SUMMARY:Roger's League
DESCRIPTION:Scramble Format
URL:https://www.rockylakesgolf.com/event/rogers-league/2026-01-28/
END:VEVENT
BEGIN:VEVENT
DTSTART;TZID=America/New_York:20260128T170000
DTEND;TZID=America/New_York:20260128T180000
DTSTAMP:20260420T075627
CREATED:20240515T032501Z
LAST-MODIFIED:20240515T032501Z
UID:10001404-1769619600-1769623200@www.rockylakesgolf.com
SUMMARY:Spark League
DESCRIPTION:Tee Times
URL:https://www.rockylakesgolf.com/event/spark-league/2026-01-28/
END:VEVENT
BEGIN:VEVENT
DTSTART;TZID=America/New_York:20260129T100000
DTEND;TZID=America/New_York:20260129T130000
DTSTAMP:20260420T075627
CREATED:20240515T032621Z
LAST-MODIFIED:20240515T032621Z
UID:10001665-1769680800-1769691600@www.rockylakesgolf.com
SUMMARY:Kuna League
DESCRIPTION:Tee Times
URL:https://www.rockylakesgolf.com/event/kuna-league/2026-01-29/
END:VEVENT
BEGIN:VEVENT
DTSTART;TZID=UTC:20260129T140000
DTEND;TZID=UTC:20260129T170000
DTSTAMP:20260420T075627
CREATED:20240515T032658Z
LAST-MODIFIED:20240515T032658Z
UID:10001926-1769695200-1769706000@www.rockylakesgolf.com
SUMMARY:Guard League
DESCRIPTION:Tee Times
URL:https://www.rockylakesgolf.com/event/guard-league/2026-01-29/
END:VEVENT
BEGIN:VEVENT
DTSTART;TZID=America/New_York:20260129T170000
DTEND;TZID=America/New_York:20260129T200000
DTSTAMP:20260420T075627
CREATED:20240515T032803Z
LAST-MODIFIED:20240515T032803Z
UID:10002187-1769706000-1769716800@www.rockylakesgolf.com
SUMMARY:Average Joe's
DESCRIPTION:Tee Times
URL:https://www.rockylakesgolf.com/event/average-joes/2026-01-29/
END:VEVENT
BEGIN:VEVENT
DTSTART;TZID=America/New_York:20260201T090000
DTEND;TZID=America/New_York:20260201T120000
DTSTAMP:20260420T075627
CREATED:20240515T032857Z
LAST-MODIFIED:20240515T032857Z
UID:10002448-1769936400-1769947200@www.rockylakesgolf.com
SUMMARY:Best Ball
DESCRIPTION:Tee Times
URL:https://www.rockylakesgolf.com/event/best-ball/2026-02-01/
END:VEVENT
BEGIN:VEVENT
DTSTART;TZID=America/New_York:20260202T140000
DTEND;TZID=America/New_York:20260202T160000
DTSTAMP:20260420T075627
CREATED:20240515T031308Z
LAST-MODIFIED:20240515T031806Z
UID:10000101-1770040800-1770048000@www.rockylakesgolf.com
SUMMARY:Brick Tap & Tavern
DESCRIPTION:Tee Times
URL:https://www.rockylakesgolf.com/event/brick-tap-tavern/2026-02-02/
END:VEVENT
BEGIN:VEVENT
DTSTART;TZID=America/New_York:20260203T160000
DTEND;TZID=America/New_York:20260203T170000
DTSTAMP:20260420T075627
CREATED:20240515T031624Z
LAST-MODIFIED:20240515T031624Z
UID:10000623-1770134400-1770138000@www.rockylakesgolf.com
SUMMARY:Hipps
DESCRIPTION:Tee Times
URL:https://www.rockylakesgolf.com/event/hipps/2026-02-03/
END:VEVENT
BEGIN:VEVENT
DTSTART;TZID=America/New_York:20260203T170000
DTEND;TZID=America/New_York:20260203T180000
DTSTAMP:20260420T075627
CREATED:20240515T031506Z
LAST-MODIFIED:20240516T075910Z
UID:10002709-1770138000-1770141600@www.rockylakesgolf.com
SUMMARY:Playmates
DESCRIPTION:Scramble Format
URL:https://www.rockylakesgolf.com/event/playmates/2026-02-03/
END:VEVENT
BEGIN:VEVENT
DTSTART;TZID=America/New_York:20260204T160000
DTEND;TZID=America/New_York:20260204T170000
DTSTAMP:20260420T075627
CREATED:20240515T032155Z
LAST-MODIFIED:20240515T032155Z
UID:10001144-1770220800-1770224400@www.rockylakesgolf.com
SUMMARY:Roger's League
DESCRIPTION:Scramble Format
URL:https://www.rockylakesgolf.com/event/rogers-league/2026-02-04/
END:VEVENT
BEGIN:VEVENT
DTSTART;TZID=America/New_York:20260204T170000
DTEND;TZID=America/New_York:20260204T180000
DTSTAMP:20260420T075627
CREATED:20240515T032501Z
LAST-MODIFIED:20240515T032501Z
UID:10001405-1770224400-1770228000@www.rockylakesgolf.com
SUMMARY:Spark League
DESCRIPTION:Tee Times
URL:https://www.rockylakesgolf.com/event/spark-league/2026-02-04/
END:VEVENT
BEGIN:VEVENT
DTSTART;TZID=America/New_York:20260205T100000
DTEND;TZID=America/New_York:20260205T130000
DTSTAMP:20260420T075627
CREATED:20240515T032621Z
LAST-MODIFIED:20240515T032621Z
UID:10001666-1770285600-1770296400@www.rockylakesgolf.com
SUMMARY:Kuna League
DESCRIPTION:Tee Times
URL:https://www.rockylakesgolf.com/event/kuna-league/2026-02-05/
END:VEVENT
BEGIN:VEVENT
DTSTART;TZID=UTC:20260205T140000
DTEND;TZID=UTC:20260205T170000
DTSTAMP:20260420T075627
CREATED:20240515T032658Z
LAST-MODIFIED:20240515T032658Z
UID:10001927-1770300000-1770310800@www.rockylakesgolf.com
SUMMARY:Guard League
DESCRIPTION:Tee Times
URL:https://www.rockylakesgolf.com/event/guard-league/2026-02-05/
END:VEVENT
BEGIN:VEVENT
DTSTART;TZID=America/New_York:20260205T170000
DTEND;TZID=America/New_York:20260205T200000
DTSTAMP:20260420T075627
CREATED:20240515T032803Z
LAST-MODIFIED:20240515T032803Z
UID:10002188-1770310800-1770321600@www.rockylakesgolf.com
SUMMARY:Average Joe's
DESCRIPTION:Tee Times
URL:https://www.rockylakesgolf.com/event/average-joes/2026-02-05/
END:VEVENT
BEGIN:VEVENT
DTSTART;TZID=America/New_York:20260208T090000
DTEND;TZID=America/New_York:20260208T120000
DTSTAMP:20260420T075627
CREATED:20240515T032857Z
LAST-MODIFIED:20240515T032857Z
UID:10002449-1770541200-1770552000@www.rockylakesgolf.com
SUMMARY:Best Ball
DESCRIPTION:Tee Times
URL:https://www.rockylakesgolf.com/event/best-ball/2026-02-08/
END:VEVENT
END:VCALENDAR