BEGIN:VCALENDAR
VERSION:2.0
PRODID:-//Rocky Lakes Golf Course - ECPv6.15.18//NONSGML v1.0//EN
CALSCALE:GREGORIAN
METHOD:PUBLISH
X-WR-CALNAME:Rocky Lakes Golf Course
X-ORIGINAL-URL:https://www.rockylakesgolf.com
X-WR-CALDESC:Events for Rocky Lakes Golf Course
REFRESH-INTERVAL;VALUE=DURATION:PT1H
X-Robots-Tag:noindex
X-PUBLISHED-TTL:PT1H
BEGIN:VTIMEZONE
TZID:America/New_York
BEGIN:DAYLIGHT
TZOFFSETFROM:-0500
TZOFFSETTO:-0400
TZNAME:EDT
DTSTART:20250309T070000
END:DAYLIGHT
BEGIN:STANDARD
TZOFFSETFROM:-0400
TZOFFSETTO:-0500
TZNAME:EST
DTSTART:20251102T060000
END:STANDARD
BEGIN:DAYLIGHT
TZOFFSETFROM:-0500
TZOFFSETTO:-0400
TZNAME:EDT
DTSTART:20260308T070000
END:DAYLIGHT
BEGIN:STANDARD
TZOFFSETFROM:-0400
TZOFFSETTO:-0500
TZNAME:EST
DTSTART:20261101T060000
END:STANDARD
BEGIN:DAYLIGHT
TZOFFSETFROM:-0500
TZOFFSETTO:-0400
TZNAME:EDT
DTSTART:20270314T070000
END:DAYLIGHT
BEGIN:STANDARD
TZOFFSETFROM:-0400
TZOFFSETTO:-0500
TZNAME:EST
DTSTART:20271107T060000
END:STANDARD
END:VTIMEZONE
BEGIN:VTIMEZONE
TZID:UTC
BEGIN:STANDARD
TZOFFSETFROM:+0000
TZOFFSETTO:+0000
TZNAME:UTC
DTSTART:20250101T000000
END:STANDARD
END:VTIMEZONE
BEGIN:VEVENT
DTSTART;TZID=America/New_York:20261119T100000
DTEND;TZID=America/New_York:20261119T130000
DTSTAMP:20260422T020432
CREATED:20240515T032621Z
LAST-MODIFIED:20240515T032621Z
UID:10001707-1795082400-1795093200@www.rockylakesgolf.com
SUMMARY:Kuna League
DESCRIPTION:Tee Times
URL:https://www.rockylakesgolf.com/event/kuna-league/2026-11-19/
END:VEVENT
BEGIN:VEVENT
DTSTART;TZID=UTC:20261119T140000
DTEND;TZID=UTC:20261119T170000
DTSTAMP:20260422T020432
CREATED:20240515T032658Z
LAST-MODIFIED:20240515T032658Z
UID:10001968-1795096800-1795107600@www.rockylakesgolf.com
SUMMARY:Guard League
DESCRIPTION:Tee Times
URL:https://www.rockylakesgolf.com/event/guard-league/2026-11-19/
END:VEVENT
BEGIN:VEVENT
DTSTART;TZID=America/New_York:20261119T170000
DTEND;TZID=America/New_York:20261119T200000
DTSTAMP:20260422T020432
CREATED:20240515T032803Z
LAST-MODIFIED:20240515T032803Z
UID:10002229-1795107600-1795118400@www.rockylakesgolf.com
SUMMARY:Average Joe's
DESCRIPTION:Tee Times
URL:https://www.rockylakesgolf.com/event/average-joes/2026-11-19/
END:VEVENT
BEGIN:VEVENT
DTSTART;TZID=America/New_York:20261122T090000
DTEND;TZID=America/New_York:20261122T120000
DTSTAMP:20260422T020432
CREATED:20240515T032857Z
LAST-MODIFIED:20240515T032857Z
UID:10002490-1795338000-1795348800@www.rockylakesgolf.com
SUMMARY:Best Ball
DESCRIPTION:Tee Times
URL:https://www.rockylakesgolf.com/event/best-ball/2026-11-22/
END:VEVENT
BEGIN:VEVENT
DTSTART;TZID=America/New_York:20261123T140000
DTEND;TZID=America/New_York:20261123T160000
DTSTAMP:20260422T020432
CREATED:20240515T031308Z
LAST-MODIFIED:20240515T031806Z
UID:10000143-1795442400-1795449600@www.rockylakesgolf.com
SUMMARY:Brick Tap & Tavern
DESCRIPTION:Tee Times
URL:https://www.rockylakesgolf.com/event/brick-tap-tavern/2026-11-23/
END:VEVENT
BEGIN:VEVENT
DTSTART;TZID=America/New_York:20261124T160000
DTEND;TZID=America/New_York:20261124T170000
DTSTAMP:20260422T020432
CREATED:20240515T031624Z
LAST-MODIFIED:20240515T031624Z
UID:10000665-1795536000-1795539600@www.rockylakesgolf.com
SUMMARY:Hipps
DESCRIPTION:Tee Times
URL:https://www.rockylakesgolf.com/event/hipps/2026-11-24/
END:VEVENT
BEGIN:VEVENT
DTSTART;TZID=America/New_York:20261124T170000
DTEND;TZID=America/New_York:20261124T180000
DTSTAMP:20260422T020432
CREATED:20240515T031506Z
LAST-MODIFIED:20240516T075910Z
UID:10002751-1795539600-1795543200@www.rockylakesgolf.com
SUMMARY:Playmates
DESCRIPTION:Scramble Format
URL:https://www.rockylakesgolf.com/event/playmates/2026-11-24/
END:VEVENT
BEGIN:VEVENT
DTSTART;TZID=America/New_York:20261125T160000
DTEND;TZID=America/New_York:20261125T170000
DTSTAMP:20260422T020432
CREATED:20240515T032155Z
LAST-MODIFIED:20240515T032155Z
UID:10001186-1795622400-1795626000@www.rockylakesgolf.com
SUMMARY:Roger's League
DESCRIPTION:Scramble Format
URL:https://www.rockylakesgolf.com/event/rogers-league/2026-11-25/
END:VEVENT
BEGIN:VEVENT
DTSTART;TZID=America/New_York:20261125T170000
DTEND;TZID=America/New_York:20261125T180000
DTSTAMP:20260422T020432
CREATED:20240515T032501Z
LAST-MODIFIED:20240515T032501Z
UID:10001447-1795626000-1795629600@www.rockylakesgolf.com
SUMMARY:Spark League
DESCRIPTION:Tee Times
URL:https://www.rockylakesgolf.com/event/spark-league/2026-11-25/
END:VEVENT
BEGIN:VEVENT
DTSTART;TZID=America/New_York:20261126T100000
DTEND;TZID=America/New_York:20261126T130000
DTSTAMP:20260422T020432
CREATED:20240515T032621Z
LAST-MODIFIED:20240515T032621Z
UID:10001708-1795687200-1795698000@www.rockylakesgolf.com
SUMMARY:Kuna League
DESCRIPTION:Tee Times
URL:https://www.rockylakesgolf.com/event/kuna-league/2026-11-26/
END:VEVENT
BEGIN:VEVENT
DTSTART;TZID=UTC:20261126T140000
DTEND;TZID=UTC:20261126T170000
DTSTAMP:20260422T020432
CREATED:20240515T032658Z
LAST-MODIFIED:20240515T032658Z
UID:10001969-1795701600-1795712400@www.rockylakesgolf.com
SUMMARY:Guard League
DESCRIPTION:Tee Times
URL:https://www.rockylakesgolf.com/event/guard-league/2026-11-26/
END:VEVENT
BEGIN:VEVENT
DTSTART;TZID=America/New_York:20261126T170000
DTEND;TZID=America/New_York:20261126T200000
DTSTAMP:20260422T020433
CREATED:20240515T032803Z
LAST-MODIFIED:20240515T032803Z
UID:10002230-1795712400-1795723200@www.rockylakesgolf.com
SUMMARY:Average Joe's
DESCRIPTION:Tee Times
URL:https://www.rockylakesgolf.com/event/average-joes/2026-11-26/
END:VEVENT
BEGIN:VEVENT
DTSTART;TZID=America/New_York:20261129T090000
DTEND;TZID=America/New_York:20261129T120000
DTSTAMP:20260422T020433
CREATED:20240515T032857Z
LAST-MODIFIED:20240515T032857Z
UID:10002491-1795942800-1795953600@www.rockylakesgolf.com
SUMMARY:Best Ball
DESCRIPTION:Tee Times
URL:https://www.rockylakesgolf.com/event/best-ball/2026-11-29/
END:VEVENT
BEGIN:VEVENT
DTSTART;TZID=America/New_York:20261130T140000
DTEND;TZID=America/New_York:20261130T160000
DTSTAMP:20260422T020433
CREATED:20240515T031308Z
LAST-MODIFIED:20240515T031806Z
UID:10000144-1796047200-1796054400@www.rockylakesgolf.com
SUMMARY:Brick Tap & Tavern
DESCRIPTION:Tee Times
URL:https://www.rockylakesgolf.com/event/brick-tap-tavern/2026-11-30/
END:VEVENT
BEGIN:VEVENT
DTSTART;TZID=America/New_York:20261201T160000
DTEND;TZID=America/New_York:20261201T170000
DTSTAMP:20260422T020433
CREATED:20240515T031624Z
LAST-MODIFIED:20240515T031624Z
UID:10000666-1796140800-1796144400@www.rockylakesgolf.com
SUMMARY:Hipps
DESCRIPTION:Tee Times
URL:https://www.rockylakesgolf.com/event/hipps/2026-12-01/
END:VEVENT
BEGIN:VEVENT
DTSTART;TZID=America/New_York:20261201T170000
DTEND;TZID=America/New_York:20261201T180000
DTSTAMP:20260422T020433
CREATED:20240515T031506Z
LAST-MODIFIED:20240516T075910Z
UID:10002752-1796144400-1796148000@www.rockylakesgolf.com
SUMMARY:Playmates
DESCRIPTION:Scramble Format
URL:https://www.rockylakesgolf.com/event/playmates/2026-12-01/
END:VEVENT
BEGIN:VEVENT
DTSTART;TZID=America/New_York:20261202T160000
DTEND;TZID=America/New_York:20261202T170000
DTSTAMP:20260422T020433
CREATED:20240515T032155Z
LAST-MODIFIED:20240515T032155Z
UID:10001187-1796227200-1796230800@www.rockylakesgolf.com
SUMMARY:Roger's League
DESCRIPTION:Scramble Format
URL:https://www.rockylakesgolf.com/event/rogers-league/2026-12-02/
END:VEVENT
BEGIN:VEVENT
DTSTART;TZID=America/New_York:20261202T170000
DTEND;TZID=America/New_York:20261202T180000
DTSTAMP:20260422T020433
CREATED:20240515T032501Z
LAST-MODIFIED:20240515T032501Z
UID:10001448-1796230800-1796234400@www.rockylakesgolf.com
SUMMARY:Spark League
DESCRIPTION:Tee Times
URL:https://www.rockylakesgolf.com/event/spark-league/2026-12-02/
END:VEVENT
BEGIN:VEVENT
DTSTART;TZID=America/New_York:20261203T100000
DTEND;TZID=America/New_York:20261203T130000
DTSTAMP:20260422T020433
CREATED:20240515T032621Z
LAST-MODIFIED:20240515T032621Z
UID:10001709-1796292000-1796302800@www.rockylakesgolf.com
SUMMARY:Kuna League
DESCRIPTION:Tee Times
URL:https://www.rockylakesgolf.com/event/kuna-league/2026-12-03/
END:VEVENT
BEGIN:VEVENT
DTSTART;TZID=UTC:20261203T140000
DTEND;TZID=UTC:20261203T170000
DTSTAMP:20260422T020433
CREATED:20240515T032658Z
LAST-MODIFIED:20240515T032658Z
UID:10001970-1796306400-1796317200@www.rockylakesgolf.com
SUMMARY:Guard League
DESCRIPTION:Tee Times
URL:https://www.rockylakesgolf.com/event/guard-league/2026-12-03/
END:VEVENT
BEGIN:VEVENT
DTSTART;TZID=America/New_York:20261203T170000
DTEND;TZID=America/New_York:20261203T200000
DTSTAMP:20260422T020433
CREATED:20240515T032803Z
LAST-MODIFIED:20240515T032803Z
UID:10002231-1796317200-1796328000@www.rockylakesgolf.com
SUMMARY:Average Joe's
DESCRIPTION:Tee Times
URL:https://www.rockylakesgolf.com/event/average-joes/2026-12-03/
END:VEVENT
BEGIN:VEVENT
DTSTART;TZID=America/New_York:20261206T090000
DTEND;TZID=America/New_York:20261206T120000
DTSTAMP:20260422T020433
CREATED:20240515T032857Z
LAST-MODIFIED:20240515T032857Z
UID:10002492-1796547600-1796558400@www.rockylakesgolf.com
SUMMARY:Best Ball
DESCRIPTION:Tee Times
URL:https://www.rockylakesgolf.com/event/best-ball/2026-12-06/
END:VEVENT
BEGIN:VEVENT
DTSTART;TZID=America/New_York:20261207T140000
DTEND;TZID=America/New_York:20261207T160000
DTSTAMP:20260422T020433
CREATED:20240515T031308Z
LAST-MODIFIED:20240515T031806Z
UID:10000145-1796652000-1796659200@www.rockylakesgolf.com
SUMMARY:Brick Tap & Tavern
DESCRIPTION:Tee Times
URL:https://www.rockylakesgolf.com/event/brick-tap-tavern/2026-12-07/
END:VEVENT
BEGIN:VEVENT
DTSTART;TZID=America/New_York:20261208T160000
DTEND;TZID=America/New_York:20261208T170000
DTSTAMP:20260422T020433
CREATED:20240515T031624Z
LAST-MODIFIED:20240515T031624Z
UID:10000667-1796745600-1796749200@www.rockylakesgolf.com
SUMMARY:Hipps
DESCRIPTION:Tee Times
URL:https://www.rockylakesgolf.com/event/hipps/2026-12-08/
END:VEVENT
BEGIN:VEVENT
DTSTART;TZID=America/New_York:20261208T170000
DTEND;TZID=America/New_York:20261208T180000
DTSTAMP:20260422T020433
CREATED:20240515T031506Z
LAST-MODIFIED:20240516T075910Z
UID:10002753-1796749200-1796752800@www.rockylakesgolf.com
SUMMARY:Playmates
DESCRIPTION:Scramble Format
URL:https://www.rockylakesgolf.com/event/playmates/2026-12-08/
END:VEVENT
BEGIN:VEVENT
DTSTART;TZID=America/New_York:20261209T160000
DTEND;TZID=America/New_York:20261209T170000
DTSTAMP:20260422T020433
CREATED:20240515T032155Z
LAST-MODIFIED:20240515T032155Z
UID:10001188-1796832000-1796835600@www.rockylakesgolf.com
SUMMARY:Roger's League
DESCRIPTION:Scramble Format
URL:https://www.rockylakesgolf.com/event/rogers-league/2026-12-09/
END:VEVENT
BEGIN:VEVENT
DTSTART;TZID=America/New_York:20261209T170000
DTEND;TZID=America/New_York:20261209T180000
DTSTAMP:20260422T020433
CREATED:20240515T032501Z
LAST-MODIFIED:20240515T032501Z
UID:10001449-1796835600-1796839200@www.rockylakesgolf.com
SUMMARY:Spark League
DESCRIPTION:Tee Times
URL:https://www.rockylakesgolf.com/event/spark-league/2026-12-09/
END:VEVENT
BEGIN:VEVENT
DTSTART;TZID=America/New_York:20261210T100000
DTEND;TZID=America/New_York:20261210T130000
DTSTAMP:20260422T020433
CREATED:20240515T032621Z
LAST-MODIFIED:20240515T032621Z
UID:10001710-1796896800-1796907600@www.rockylakesgolf.com
SUMMARY:Kuna League
DESCRIPTION:Tee Times
URL:https://www.rockylakesgolf.com/event/kuna-league/2026-12-10/
END:VEVENT
BEGIN:VEVENT
DTSTART;TZID=UTC:20261210T140000
DTEND;TZID=UTC:20261210T170000
DTSTAMP:20260422T020433
CREATED:20240515T032658Z
LAST-MODIFIED:20240515T032658Z
UID:10001971-1796911200-1796922000@www.rockylakesgolf.com
SUMMARY:Guard League
DESCRIPTION:Tee Times
URL:https://www.rockylakesgolf.com/event/guard-league/2026-12-10/
END:VEVENT
BEGIN:VEVENT
DTSTART;TZID=America/New_York:20261210T170000
DTEND;TZID=America/New_York:20261210T200000
DTSTAMP:20260422T020433
CREATED:20240515T032803Z
LAST-MODIFIED:20240515T032803Z
UID:10002232-1796922000-1796932800@www.rockylakesgolf.com
SUMMARY:Average Joe's
DESCRIPTION:Tee Times
URL:https://www.rockylakesgolf.com/event/average-joes/2026-12-10/
END:VEVENT
END:VCALENDAR