BEGIN:VCALENDAR
VERSION:2.0
PRODID:-//Rocky Lakes Golf Course - ECPv6.15.18//NONSGML v1.0//EN
CALSCALE:GREGORIAN
METHOD:PUBLISH
X-WR-CALNAME:Rocky Lakes Golf Course
X-ORIGINAL-URL:https://www.rockylakesgolf.com
X-WR-CALDESC:Events for Rocky Lakes Golf Course
REFRESH-INTERVAL;VALUE=DURATION:PT1H
X-Robots-Tag:noindex
X-PUBLISHED-TTL:PT1H
BEGIN:VTIMEZONE
TZID:America/New_York
BEGIN:DAYLIGHT
TZOFFSETFROM:-0500
TZOFFSETTO:-0400
TZNAME:EDT
DTSTART:20280312T070000
END:DAYLIGHT
BEGIN:STANDARD
TZOFFSETFROM:-0400
TZOFFSETTO:-0500
TZNAME:EST
DTSTART:20281105T060000
END:STANDARD
BEGIN:DAYLIGHT
TZOFFSETFROM:-0500
TZOFFSETTO:-0400
TZNAME:EDT
DTSTART:20290311T070000
END:DAYLIGHT
BEGIN:STANDARD
TZOFFSETFROM:-0400
TZOFFSETTO:-0500
TZNAME:EST
DTSTART:20291104T060000
END:STANDARD
BEGIN:DAYLIGHT
TZOFFSETFROM:-0500
TZOFFSETTO:-0400
TZNAME:EDT
DTSTART:20300310T070000
END:DAYLIGHT
BEGIN:STANDARD
TZOFFSETFROM:-0400
TZOFFSETTO:-0500
TZNAME:EST
DTSTART:20301103T060000
END:STANDARD
END:VTIMEZONE
BEGIN:VTIMEZONE
TZID:UTC
BEGIN:STANDARD
TZOFFSETFROM:+0000
TZOFFSETTO:+0000
TZNAME:UTC
DTSTART:20280101T000000
END:STANDARD
END:VTIMEZONE
BEGIN:VEVENT
DTSTART;TZID=America/New_York:20290215T170000
DTEND;TZID=America/New_York:20290215T200000
DTSTAMP:20260425T155715
CREATED:20240515T032803Z
LAST-MODIFIED:20240515T032803Z
UID:10002346-1865869200-1865880000@www.rockylakesgolf.com
SUMMARY:Average Joe's
DESCRIPTION:Tee Times
URL:https://www.rockylakesgolf.com/event/average-joes/2029-02-15/
END:VEVENT
BEGIN:VEVENT
DTSTART;TZID=America/New_York:20290218T090000
DTEND;TZID=America/New_York:20290218T120000
DTSTAMP:20260425T155715
CREATED:20240515T032857Z
LAST-MODIFIED:20240515T032857Z
UID:10002607-1866099600-1866110400@www.rockylakesgolf.com
SUMMARY:Best Ball
DESCRIPTION:Tee Times
URL:https://www.rockylakesgolf.com/event/best-ball/2029-02-18/
END:VEVENT
BEGIN:VEVENT
DTSTART;TZID=America/New_York:20290219T140000
DTEND;TZID=America/New_York:20290219T160000
DTSTAMP:20260425T155715
CREATED:20240515T031308Z
LAST-MODIFIED:20240515T031806Z
UID:10000260-1866204000-1866211200@www.rockylakesgolf.com
SUMMARY:Brick Tap & Tavern
DESCRIPTION:Tee Times
URL:https://www.rockylakesgolf.com/event/brick-tap-tavern/2029-02-19/
END:VEVENT
BEGIN:VEVENT
DTSTART;TZID=America/New_York:20290220T160000
DTEND;TZID=America/New_York:20290220T170000
DTSTAMP:20260425T155715
CREATED:20240515T031624Z
LAST-MODIFIED:20240515T031624Z
UID:10000782-1866297600-1866301200@www.rockylakesgolf.com
SUMMARY:Hipps
DESCRIPTION:Tee Times
URL:https://www.rockylakesgolf.com/event/hipps/2029-02-20/
END:VEVENT
BEGIN:VEVENT
DTSTART;TZID=America/New_York:20290220T170000
DTEND;TZID=America/New_York:20290220T180000
DTSTAMP:20260425T155715
CREATED:20240515T031506Z
LAST-MODIFIED:20240516T075910Z
UID:10002868-1866301200-1866304800@www.rockylakesgolf.com
SUMMARY:Playmates
DESCRIPTION:Scramble Format
URL:https://www.rockylakesgolf.com/event/playmates/2029-02-20/
END:VEVENT
BEGIN:VEVENT
DTSTART;TZID=America/New_York:20290221T160000
DTEND;TZID=America/New_York:20290221T170000
DTSTAMP:20260425T155715
CREATED:20240515T032155Z
LAST-MODIFIED:20240515T032155Z
UID:10001303-1866384000-1866387600@www.rockylakesgolf.com
SUMMARY:Roger's League
DESCRIPTION:Scramble Format
URL:https://www.rockylakesgolf.com/event/rogers-league/2029-02-21/
END:VEVENT
BEGIN:VEVENT
DTSTART;TZID=America/New_York:20290221T170000
DTEND;TZID=America/New_York:20290221T180000
DTSTAMP:20260425T155715
CREATED:20240515T032501Z
LAST-MODIFIED:20240515T032501Z
UID:10001564-1866387600-1866391200@www.rockylakesgolf.com
SUMMARY:Spark League
DESCRIPTION:Tee Times
URL:https://www.rockylakesgolf.com/event/spark-league/2029-02-21/
END:VEVENT
BEGIN:VEVENT
DTSTART;TZID=America/New_York:20290222T100000
DTEND;TZID=America/New_York:20290222T130000
DTSTAMP:20260425T155715
CREATED:20240515T032621Z
LAST-MODIFIED:20240515T032621Z
UID:10001825-1866448800-1866459600@www.rockylakesgolf.com
SUMMARY:Kuna League
DESCRIPTION:Tee Times
URL:https://www.rockylakesgolf.com/event/kuna-league/2029-02-22/
END:VEVENT
BEGIN:VEVENT
DTSTART;TZID=UTC:20290222T140000
DTEND;TZID=UTC:20290222T170000
DTSTAMP:20260425T155715
CREATED:20240515T032658Z
LAST-MODIFIED:20240515T032658Z
UID:10002086-1866463200-1866474000@www.rockylakesgolf.com
SUMMARY:Guard League
DESCRIPTION:Tee Times
URL:https://www.rockylakesgolf.com/event/guard-league/2029-02-22/
END:VEVENT
BEGIN:VEVENT
DTSTART;TZID=America/New_York:20290222T170000
DTEND;TZID=America/New_York:20290222T200000
DTSTAMP:20260425T155715
CREATED:20240515T032803Z
LAST-MODIFIED:20240515T032803Z
UID:10002347-1866474000-1866484800@www.rockylakesgolf.com
SUMMARY:Average Joe's
DESCRIPTION:Tee Times
URL:https://www.rockylakesgolf.com/event/average-joes/2029-02-22/
END:VEVENT
BEGIN:VEVENT
DTSTART;TZID=America/New_York:20290225T090000
DTEND;TZID=America/New_York:20290225T120000
DTSTAMP:20260425T155715
CREATED:20240515T032857Z
LAST-MODIFIED:20240515T032857Z
UID:10002608-1866704400-1866715200@www.rockylakesgolf.com
SUMMARY:Best Ball
DESCRIPTION:Tee Times
URL:https://www.rockylakesgolf.com/event/best-ball/2029-02-25/
END:VEVENT
BEGIN:VEVENT
DTSTART;TZID=America/New_York:20290226T140000
DTEND;TZID=America/New_York:20290226T160000
DTSTAMP:20260425T155715
CREATED:20240515T031308Z
LAST-MODIFIED:20240515T031806Z
UID:10000261-1866808800-1866816000@www.rockylakesgolf.com
SUMMARY:Brick Tap & Tavern
DESCRIPTION:Tee Times
URL:https://www.rockylakesgolf.com/event/brick-tap-tavern/2029-02-26/
END:VEVENT
BEGIN:VEVENT
DTSTART;TZID=America/New_York:20290227T160000
DTEND;TZID=America/New_York:20290227T170000
DTSTAMP:20260425T155715
CREATED:20240515T031624Z
LAST-MODIFIED:20240515T031624Z
UID:10000783-1866902400-1866906000@www.rockylakesgolf.com
SUMMARY:Hipps
DESCRIPTION:Tee Times
URL:https://www.rockylakesgolf.com/event/hipps/2029-02-27/
END:VEVENT
BEGIN:VEVENT
DTSTART;TZID=America/New_York:20290227T170000
DTEND;TZID=America/New_York:20290227T180000
DTSTAMP:20260425T155715
CREATED:20240515T031506Z
LAST-MODIFIED:20240516T075910Z
UID:10002869-1866906000-1866909600@www.rockylakesgolf.com
SUMMARY:Playmates
DESCRIPTION:Scramble Format
URL:https://www.rockylakesgolf.com/event/playmates/2029-02-27/
END:VEVENT
BEGIN:VEVENT
DTSTART;TZID=America/New_York:20290228T160000
DTEND;TZID=America/New_York:20290228T170000
DTSTAMP:20260425T155715
CREATED:20240515T032155Z
LAST-MODIFIED:20240515T032155Z
UID:10001304-1866988800-1866992400@www.rockylakesgolf.com
SUMMARY:Roger's League
DESCRIPTION:Scramble Format
URL:https://www.rockylakesgolf.com/event/rogers-league/2029-02-28/
END:VEVENT
BEGIN:VEVENT
DTSTART;TZID=America/New_York:20290228T170000
DTEND;TZID=America/New_York:20290228T180000
DTSTAMP:20260425T155715
CREATED:20240515T032501Z
LAST-MODIFIED:20240515T032501Z
UID:10001565-1866992400-1866996000@www.rockylakesgolf.com
SUMMARY:Spark League
DESCRIPTION:Tee Times
URL:https://www.rockylakesgolf.com/event/spark-league/2029-02-28/
END:VEVENT
BEGIN:VEVENT
DTSTART;TZID=America/New_York:20290301T100000
DTEND;TZID=America/New_York:20290301T130000
DTSTAMP:20260425T155715
CREATED:20240515T032621Z
LAST-MODIFIED:20240515T032621Z
UID:10001826-1867053600-1867064400@www.rockylakesgolf.com
SUMMARY:Kuna League
DESCRIPTION:Tee Times
URL:https://www.rockylakesgolf.com/event/kuna-league/2029-03-01/
END:VEVENT
BEGIN:VEVENT
DTSTART;TZID=UTC:20290301T140000
DTEND;TZID=UTC:20290301T170000
DTSTAMP:20260425T155715
CREATED:20240515T032658Z
LAST-MODIFIED:20240515T032658Z
UID:10002087-1867068000-1867078800@www.rockylakesgolf.com
SUMMARY:Guard League
DESCRIPTION:Tee Times
URL:https://www.rockylakesgolf.com/event/guard-league/2029-03-01/
END:VEVENT
BEGIN:VEVENT
DTSTART;TZID=America/New_York:20290301T170000
DTEND;TZID=America/New_York:20290301T200000
DTSTAMP:20260425T155715
CREATED:20240515T032803Z
LAST-MODIFIED:20240515T032803Z
UID:10002348-1867078800-1867089600@www.rockylakesgolf.com
SUMMARY:Average Joe's
DESCRIPTION:Tee Times
URL:https://www.rockylakesgolf.com/event/average-joes/2029-03-01/
END:VEVENT
BEGIN:VEVENT
DTSTART;TZID=America/New_York:20290304T090000
DTEND;TZID=America/New_York:20290304T120000
DTSTAMP:20260425T155715
CREATED:20240515T032857Z
LAST-MODIFIED:20240515T032857Z
UID:10002609-1867309200-1867320000@www.rockylakesgolf.com
SUMMARY:Best Ball
DESCRIPTION:Tee Times
URL:https://www.rockylakesgolf.com/event/best-ball/2029-03-04/
END:VEVENT
BEGIN:VEVENT
DTSTART;TZID=America/New_York:20290305T140000
DTEND;TZID=America/New_York:20290305T160000
DTSTAMP:20260425T155715
CREATED:20240515T031308Z
LAST-MODIFIED:20240515T031806Z
UID:10000262-1867413600-1867420800@www.rockylakesgolf.com
SUMMARY:Brick Tap & Tavern
DESCRIPTION:Tee Times
URL:https://www.rockylakesgolf.com/event/brick-tap-tavern/2029-03-05/
END:VEVENT
BEGIN:VEVENT
DTSTART;TZID=America/New_York:20290306T160000
DTEND;TZID=America/New_York:20290306T170000
DTSTAMP:20260425T155715
CREATED:20240515T031624Z
LAST-MODIFIED:20240515T031624Z
UID:10000784-1867507200-1867510800@www.rockylakesgolf.com
SUMMARY:Hipps
DESCRIPTION:Tee Times
URL:https://www.rockylakesgolf.com/event/hipps/2029-03-06/
END:VEVENT
BEGIN:VEVENT
DTSTART;TZID=America/New_York:20290306T170000
DTEND;TZID=America/New_York:20290306T180000
DTSTAMP:20260425T155715
CREATED:20240515T031506Z
LAST-MODIFIED:20240516T075910Z
UID:10002870-1867510800-1867514400@www.rockylakesgolf.com
SUMMARY:Playmates
DESCRIPTION:Scramble Format
URL:https://www.rockylakesgolf.com/event/playmates/2029-03-06/
END:VEVENT
BEGIN:VEVENT
DTSTART;TZID=America/New_York:20290307T160000
DTEND;TZID=America/New_York:20290307T170000
DTSTAMP:20260425T155715
CREATED:20240515T032155Z
LAST-MODIFIED:20240515T032155Z
UID:10001305-1867593600-1867597200@www.rockylakesgolf.com
SUMMARY:Roger's League
DESCRIPTION:Scramble Format
URL:https://www.rockylakesgolf.com/event/rogers-league/2029-03-07/
END:VEVENT
BEGIN:VEVENT
DTSTART;TZID=America/New_York:20290307T170000
DTEND;TZID=America/New_York:20290307T180000
DTSTAMP:20260425T155715
CREATED:20240515T032501Z
LAST-MODIFIED:20240515T032501Z
UID:10001566-1867597200-1867600800@www.rockylakesgolf.com
SUMMARY:Spark League
DESCRIPTION:Tee Times
URL:https://www.rockylakesgolf.com/event/spark-league/2029-03-07/
END:VEVENT
BEGIN:VEVENT
DTSTART;TZID=America/New_York:20290308T100000
DTEND;TZID=America/New_York:20290308T130000
DTSTAMP:20260425T155715
CREATED:20240515T032621Z
LAST-MODIFIED:20240515T032621Z
UID:10001827-1867658400-1867669200@www.rockylakesgolf.com
SUMMARY:Kuna League
DESCRIPTION:Tee Times
URL:https://www.rockylakesgolf.com/event/kuna-league/2029-03-08/
END:VEVENT
BEGIN:VEVENT
DTSTART;TZID=UTC:20290308T140000
DTEND;TZID=UTC:20290308T170000
DTSTAMP:20260425T155715
CREATED:20240515T032658Z
LAST-MODIFIED:20240515T032658Z
UID:10002088-1867672800-1867683600@www.rockylakesgolf.com
SUMMARY:Guard League
DESCRIPTION:Tee Times
URL:https://www.rockylakesgolf.com/event/guard-league/2029-03-08/
END:VEVENT
BEGIN:VEVENT
DTSTART;TZID=America/New_York:20290308T170000
DTEND;TZID=America/New_York:20290308T200000
DTSTAMP:20260425T155715
CREATED:20240515T032803Z
LAST-MODIFIED:20240515T032803Z
UID:10002349-1867683600-1867694400@www.rockylakesgolf.com
SUMMARY:Average Joe's
DESCRIPTION:Tee Times
URL:https://www.rockylakesgolf.com/event/average-joes/2029-03-08/
END:VEVENT
BEGIN:VEVENT
DTSTART;TZID=America/New_York:20290311T090000
DTEND;TZID=America/New_York:20290311T120000
DTSTAMP:20260425T155715
CREATED:20240515T032857Z
LAST-MODIFIED:20240515T032857Z
UID:10002610-1867914000-1867924800@www.rockylakesgolf.com
SUMMARY:Best Ball
DESCRIPTION:Tee Times
URL:https://www.rockylakesgolf.com/event/best-ball/2029-03-11/
END:VEVENT
BEGIN:VEVENT
DTSTART;TZID=America/New_York:20290312T140000
DTEND;TZID=America/New_York:20290312T160000
DTSTAMP:20260425T155715
CREATED:20240515T031308Z
LAST-MODIFIED:20240515T031806Z
UID:10000263-1868018400-1868025600@www.rockylakesgolf.com
SUMMARY:Brick Tap & Tavern
DESCRIPTION:Tee Times
URL:https://www.rockylakesgolf.com/event/brick-tap-tavern/2029-03-12/
END:VEVENT
END:VCALENDAR