BEGIN:VCALENDAR
VERSION:2.0
PRODID:-//Rocky Lakes Golf Course - ECPv6.15.18//NONSGML v1.0//EN
CALSCALE:GREGORIAN
METHOD:PUBLISH
X-ORIGINAL-URL:https://www.rockylakesgolf.com
X-WR-CALDESC:Events for Rocky Lakes Golf Course
REFRESH-INTERVAL;VALUE=DURATION:PT1H
X-Robots-Tag:noindex
X-PUBLISHED-TTL:PT1H
BEGIN:VTIMEZONE
TZID:America/New_York
BEGIN:DAYLIGHT
TZOFFSETFROM:-0500
TZOFFSETTO:-0400
TZNAME:EDT
DTSTART:20270314T070000
END:DAYLIGHT
BEGIN:STANDARD
TZOFFSETFROM:-0400
TZOFFSETTO:-0500
TZNAME:EST
DTSTART:20271107T060000
END:STANDARD
BEGIN:DAYLIGHT
TZOFFSETFROM:-0500
TZOFFSETTO:-0400
TZNAME:EDT
DTSTART:20280312T070000
END:DAYLIGHT
BEGIN:STANDARD
TZOFFSETFROM:-0400
TZOFFSETTO:-0500
TZNAME:EST
DTSTART:20281105T060000
END:STANDARD
BEGIN:DAYLIGHT
TZOFFSETFROM:-0500
TZOFFSETTO:-0400
TZNAME:EDT
DTSTART:20290311T070000
END:DAYLIGHT
BEGIN:STANDARD
TZOFFSETFROM:-0400
TZOFFSETTO:-0500
TZNAME:EST
DTSTART:20291104T060000
END:STANDARD
END:VTIMEZONE
BEGIN:VTIMEZONE
TZID:UTC
BEGIN:STANDARD
TZOFFSETFROM:+0000
TZOFFSETTO:+0000
TZNAME:UTC
DTSTART:20270101T000000
END:STANDARD
END:VTIMEZONE
BEGIN:VEVENT
DTSTART;TZID=America/New_York:20281016T140000
DTEND;TZID=America/New_York:20281016T160000
DTSTAMP:20260425T114048
CREATED:20240515T031308Z
LAST-MODIFIED:20240515T031806Z
UID:10000242-1855317600-1855324800@www.rockylakesgolf.com
SUMMARY:Brick Tap & Tavern
DESCRIPTION:Tee Times
URL:https://www.rockylakesgolf.com/event/brick-tap-tavern/2028-10-16/
END:VEVENT
BEGIN:VEVENT
DTSTART;TZID=America/New_York:20281017T160000
DTEND;TZID=America/New_York:20281017T170000
DTSTAMP:20260425T114048
CREATED:20240515T031624Z
LAST-MODIFIED:20240515T031624Z
UID:10000764-1855411200-1855414800@www.rockylakesgolf.com
SUMMARY:Hipps
DESCRIPTION:Tee Times
URL:https://www.rockylakesgolf.com/event/hipps/2028-10-17/
END:VEVENT
BEGIN:VEVENT
DTSTART;TZID=America/New_York:20281017T170000
DTEND;TZID=America/New_York:20281017T180000
DTSTAMP:20260425T114048
CREATED:20240515T031506Z
LAST-MODIFIED:20240516T075910Z
UID:10002850-1855414800-1855418400@www.rockylakesgolf.com
SUMMARY:Playmates
DESCRIPTION:Scramble Format
URL:https://www.rockylakesgolf.com/event/playmates/2028-10-17/
END:VEVENT
BEGIN:VEVENT
DTSTART;TZID=America/New_York:20281018T160000
DTEND;TZID=America/New_York:20281018T170000
DTSTAMP:20260425T114048
CREATED:20240515T032155Z
LAST-MODIFIED:20240515T032155Z
UID:10001285-1855497600-1855501200@www.rockylakesgolf.com
SUMMARY:Roger's League
DESCRIPTION:Scramble Format
URL:https://www.rockylakesgolf.com/event/rogers-league/2028-10-18/
END:VEVENT
BEGIN:VEVENT
DTSTART;TZID=America/New_York:20281018T170000
DTEND;TZID=America/New_York:20281018T180000
DTSTAMP:20260425T114048
CREATED:20240515T032501Z
LAST-MODIFIED:20240515T032501Z
UID:10001546-1855501200-1855504800@www.rockylakesgolf.com
SUMMARY:Spark League
DESCRIPTION:Tee Times
URL:https://www.rockylakesgolf.com/event/spark-league/2028-10-18/
END:VEVENT
BEGIN:VEVENT
DTSTART;TZID=America/New_York:20281019T100000
DTEND;TZID=America/New_York:20281019T130000
DTSTAMP:20260425T114048
CREATED:20240515T032621Z
LAST-MODIFIED:20240515T032621Z
UID:10001807-1855562400-1855573200@www.rockylakesgolf.com
SUMMARY:Kuna League
DESCRIPTION:Tee Times
URL:https://www.rockylakesgolf.com/event/kuna-league/2028-10-19/
END:VEVENT
BEGIN:VEVENT
DTSTART;TZID=UTC:20281019T140000
DTEND;TZID=UTC:20281019T170000
DTSTAMP:20260425T114048
CREATED:20240515T032658Z
LAST-MODIFIED:20240515T032658Z
UID:10002068-1855576800-1855587600@www.rockylakesgolf.com
SUMMARY:Guard League
DESCRIPTION:Tee Times
URL:https://www.rockylakesgolf.com/event/guard-league/2028-10-19/
END:VEVENT
BEGIN:VEVENT
DTSTART;TZID=America/New_York:20281019T170000
DTEND;TZID=America/New_York:20281019T200000
DTSTAMP:20260425T114048
CREATED:20240515T032803Z
LAST-MODIFIED:20240515T032803Z
UID:10002329-1855587600-1855598400@www.rockylakesgolf.com
SUMMARY:Average Joe's
DESCRIPTION:Tee Times
URL:https://www.rockylakesgolf.com/event/average-joes/2028-10-19/
END:VEVENT
BEGIN:VEVENT
DTSTART;TZID=America/New_York:20281022T090000
DTEND;TZID=America/New_York:20281022T120000
DTSTAMP:20260425T114048
CREATED:20240515T032857Z
LAST-MODIFIED:20240515T032857Z
UID:10002590-1855818000-1855828800@www.rockylakesgolf.com
SUMMARY:Best Ball
DESCRIPTION:Tee Times
URL:https://www.rockylakesgolf.com/event/best-ball/2028-10-22/
END:VEVENT
BEGIN:VEVENT
DTSTART;TZID=America/New_York:20281023T140000
DTEND;TZID=America/New_York:20281023T160000
DTSTAMP:20260425T114048
CREATED:20240515T031308Z
LAST-MODIFIED:20240515T031806Z
UID:10000243-1855922400-1855929600@www.rockylakesgolf.com
SUMMARY:Brick Tap & Tavern
DESCRIPTION:Tee Times
URL:https://www.rockylakesgolf.com/event/brick-tap-tavern/2028-10-23/
END:VEVENT
BEGIN:VEVENT
DTSTART;TZID=America/New_York:20281024T160000
DTEND;TZID=America/New_York:20281024T170000
DTSTAMP:20260425T114048
CREATED:20240515T031624Z
LAST-MODIFIED:20240515T031624Z
UID:10000765-1856016000-1856019600@www.rockylakesgolf.com
SUMMARY:Hipps
DESCRIPTION:Tee Times
URL:https://www.rockylakesgolf.com/event/hipps/2028-10-24/
END:VEVENT
BEGIN:VEVENT
DTSTART;TZID=America/New_York:20281024T170000
DTEND;TZID=America/New_York:20281024T180000
DTSTAMP:20260425T114048
CREATED:20240515T031506Z
LAST-MODIFIED:20240516T075910Z
UID:10002851-1856019600-1856023200@www.rockylakesgolf.com
SUMMARY:Playmates
DESCRIPTION:Scramble Format
URL:https://www.rockylakesgolf.com/event/playmates/2028-10-24/
END:VEVENT
BEGIN:VEVENT
DTSTART;TZID=America/New_York:20281025T160000
DTEND;TZID=America/New_York:20281025T170000
DTSTAMP:20260425T114048
CREATED:20240515T032155Z
LAST-MODIFIED:20240515T032155Z
UID:10001286-1856102400-1856106000@www.rockylakesgolf.com
SUMMARY:Roger's League
DESCRIPTION:Scramble Format
URL:https://www.rockylakesgolf.com/event/rogers-league/2028-10-25/
END:VEVENT
BEGIN:VEVENT
DTSTART;TZID=America/New_York:20281025T170000
DTEND;TZID=America/New_York:20281025T180000
DTSTAMP:20260425T114048
CREATED:20240515T032501Z
LAST-MODIFIED:20240515T032501Z
UID:10001547-1856106000-1856109600@www.rockylakesgolf.com
SUMMARY:Spark League
DESCRIPTION:Tee Times
URL:https://www.rockylakesgolf.com/event/spark-league/2028-10-25/
END:VEVENT
BEGIN:VEVENT
DTSTART;TZID=America/New_York:20281026T100000
DTEND;TZID=America/New_York:20281026T130000
DTSTAMP:20260425T114048
CREATED:20240515T032621Z
LAST-MODIFIED:20240515T032621Z
UID:10001808-1856167200-1856178000@www.rockylakesgolf.com
SUMMARY:Kuna League
DESCRIPTION:Tee Times
URL:https://www.rockylakesgolf.com/event/kuna-league/2028-10-26/
END:VEVENT
BEGIN:VEVENT
DTSTART;TZID=UTC:20281026T140000
DTEND;TZID=UTC:20281026T170000
DTSTAMP:20260425T114048
CREATED:20240515T032658Z
LAST-MODIFIED:20240515T032658Z
UID:10002069-1856181600-1856192400@www.rockylakesgolf.com
SUMMARY:Guard League
DESCRIPTION:Tee Times
URL:https://www.rockylakesgolf.com/event/guard-league/2028-10-26/
END:VEVENT
BEGIN:VEVENT
DTSTART;TZID=America/New_York:20281026T170000
DTEND;TZID=America/New_York:20281026T200000
DTSTAMP:20260425T114048
CREATED:20240515T032803Z
LAST-MODIFIED:20240515T032803Z
UID:10002330-1856192400-1856203200@www.rockylakesgolf.com
SUMMARY:Average Joe's
DESCRIPTION:Tee Times
URL:https://www.rockylakesgolf.com/event/average-joes/2028-10-26/
END:VEVENT
BEGIN:VEVENT
DTSTART;TZID=America/New_York:20281029T090000
DTEND;TZID=America/New_York:20281029T120000
DTSTAMP:20260425T114048
CREATED:20240515T032857Z
LAST-MODIFIED:20240515T032857Z
UID:10002591-1856422800-1856433600@www.rockylakesgolf.com
SUMMARY:Best Ball
DESCRIPTION:Tee Times
URL:https://www.rockylakesgolf.com/event/best-ball/2028-10-29/
END:VEVENT
BEGIN:VEVENT
DTSTART;TZID=America/New_York:20281030T140000
DTEND;TZID=America/New_York:20281030T160000
DTSTAMP:20260425T114049
CREATED:20240515T031308Z
LAST-MODIFIED:20240515T031806Z
UID:10000244-1856527200-1856534400@www.rockylakesgolf.com
SUMMARY:Brick Tap & Tavern
DESCRIPTION:Tee Times
URL:https://www.rockylakesgolf.com/event/brick-tap-tavern/2028-10-30/
END:VEVENT
BEGIN:VEVENT
DTSTART;TZID=America/New_York:20281031T160000
DTEND;TZID=America/New_York:20281031T170000
DTSTAMP:20260425T114049
CREATED:20240515T031624Z
LAST-MODIFIED:20240515T031624Z
UID:10000766-1856620800-1856624400@www.rockylakesgolf.com
SUMMARY:Hipps
DESCRIPTION:Tee Times
URL:https://www.rockylakesgolf.com/event/hipps/2028-10-31/
END:VEVENT
BEGIN:VEVENT
DTSTART;TZID=America/New_York:20281031T170000
DTEND;TZID=America/New_York:20281031T180000
DTSTAMP:20260425T114049
CREATED:20240515T031506Z
LAST-MODIFIED:20240516T075910Z
UID:10002852-1856624400-1856628000@www.rockylakesgolf.com
SUMMARY:Playmates
DESCRIPTION:Scramble Format
URL:https://www.rockylakesgolf.com/event/playmates/2028-10-31/
END:VEVENT
BEGIN:VEVENT
DTSTART;TZID=America/New_York:20281101T160000
DTEND;TZID=America/New_York:20281101T170000
DTSTAMP:20260425T114049
CREATED:20240515T032155Z
LAST-MODIFIED:20240515T032155Z
UID:10001287-1856707200-1856710800@www.rockylakesgolf.com
SUMMARY:Roger's League
DESCRIPTION:Scramble Format
URL:https://www.rockylakesgolf.com/event/rogers-league/2028-11-01/
END:VEVENT
BEGIN:VEVENT
DTSTART;TZID=America/New_York:20281101T170000
DTEND;TZID=America/New_York:20281101T180000
DTSTAMP:20260425T114049
CREATED:20240515T032501Z
LAST-MODIFIED:20240515T032501Z
UID:10001548-1856710800-1856714400@www.rockylakesgolf.com
SUMMARY:Spark League
DESCRIPTION:Tee Times
URL:https://www.rockylakesgolf.com/event/spark-league/2028-11-01/
END:VEVENT
BEGIN:VEVENT
DTSTART;TZID=America/New_York:20281102T100000
DTEND;TZID=America/New_York:20281102T130000
DTSTAMP:20260425T114049
CREATED:20240515T032621Z
LAST-MODIFIED:20240515T032621Z
UID:10001809-1856772000-1856782800@www.rockylakesgolf.com
SUMMARY:Kuna League
DESCRIPTION:Tee Times
URL:https://www.rockylakesgolf.com/event/kuna-league/2028-11-02/
END:VEVENT
BEGIN:VEVENT
DTSTART;TZID=UTC:20281102T140000
DTEND;TZID=UTC:20281102T170000
DTSTAMP:20260425T114049
CREATED:20240515T032658Z
LAST-MODIFIED:20240515T032658Z
UID:10002070-1856786400-1856797200@www.rockylakesgolf.com
SUMMARY:Guard League
DESCRIPTION:Tee Times
URL:https://www.rockylakesgolf.com/event/guard-league/2028-11-02/
END:VEVENT
BEGIN:VEVENT
DTSTART;TZID=America/New_York:20281102T170000
DTEND;TZID=America/New_York:20281102T200000
DTSTAMP:20260425T114049
CREATED:20240515T032803Z
LAST-MODIFIED:20240515T032803Z
UID:10002331-1856797200-1856808000@www.rockylakesgolf.com
SUMMARY:Average Joe's
DESCRIPTION:Tee Times
URL:https://www.rockylakesgolf.com/event/average-joes/2028-11-02/
END:VEVENT
BEGIN:VEVENT
DTSTART;TZID=America/New_York:20281105T090000
DTEND;TZID=America/New_York:20281105T120000
DTSTAMP:20260425T114049
CREATED:20240515T032857Z
LAST-MODIFIED:20240515T032857Z
UID:10002592-1857027600-1857038400@www.rockylakesgolf.com
SUMMARY:Best Ball
DESCRIPTION:Tee Times
URL:https://www.rockylakesgolf.com/event/best-ball/2028-11-05/
END:VEVENT
BEGIN:VEVENT
DTSTART;TZID=America/New_York:20281106T140000
DTEND;TZID=America/New_York:20281106T160000
DTSTAMP:20260425T114049
CREATED:20240515T031308Z
LAST-MODIFIED:20240515T031806Z
UID:10000245-1857132000-1857139200@www.rockylakesgolf.com
SUMMARY:Brick Tap & Tavern
DESCRIPTION:Tee Times
URL:https://www.rockylakesgolf.com/event/brick-tap-tavern/2028-11-06/
END:VEVENT
BEGIN:VEVENT
DTSTART;TZID=America/New_York:20281107T160000
DTEND;TZID=America/New_York:20281107T170000
DTSTAMP:20260425T114049
CREATED:20240515T031624Z
LAST-MODIFIED:20240515T031624Z
UID:10000767-1857225600-1857229200@www.rockylakesgolf.com
SUMMARY:Hipps
DESCRIPTION:Tee Times
URL:https://www.rockylakesgolf.com/event/hipps/2028-11-07/
END:VEVENT
BEGIN:VEVENT
DTSTART;TZID=America/New_York:20281107T170000
DTEND;TZID=America/New_York:20281107T180000
DTSTAMP:20260425T114049
CREATED:20240515T031506Z
LAST-MODIFIED:20240516T075910Z
UID:10002853-1857229200-1857232800@www.rockylakesgolf.com
SUMMARY:Playmates
DESCRIPTION:Scramble Format
URL:https://www.rockylakesgolf.com/event/playmates/2028-11-07/
END:VEVENT
END:VCALENDAR