BEGIN:VCALENDAR
VERSION:2.0
PRODID:-//Rocky Lakes Golf Course - ECPv6.15.18//NONSGML v1.0//EN
CALSCALE:GREGORIAN
METHOD:PUBLISH
X-ORIGINAL-URL:https://www.rockylakesgolf.com
X-WR-CALDESC:Events for Rocky Lakes Golf Course
REFRESH-INTERVAL;VALUE=DURATION:PT1H
X-Robots-Tag:noindex
X-PUBLISHED-TTL:PT1H
BEGIN:VTIMEZONE
TZID:America/New_York
BEGIN:DAYLIGHT
TZOFFSETFROM:-0500
TZOFFSETTO:-0400
TZNAME:EDT
DTSTART:20280312T070000
END:DAYLIGHT
BEGIN:STANDARD
TZOFFSETFROM:-0400
TZOFFSETTO:-0500
TZNAME:EST
DTSTART:20281105T060000
END:STANDARD
BEGIN:DAYLIGHT
TZOFFSETFROM:-0500
TZOFFSETTO:-0400
TZNAME:EDT
DTSTART:20290311T070000
END:DAYLIGHT
BEGIN:STANDARD
TZOFFSETFROM:-0400
TZOFFSETTO:-0500
TZNAME:EST
DTSTART:20291104T060000
END:STANDARD
BEGIN:DAYLIGHT
TZOFFSETFROM:-0500
TZOFFSETTO:-0400
TZNAME:EDT
DTSTART:20300310T070000
END:DAYLIGHT
BEGIN:STANDARD
TZOFFSETFROM:-0400
TZOFFSETTO:-0500
TZNAME:EST
DTSTART:20301103T060000
END:STANDARD
END:VTIMEZONE
BEGIN:VTIMEZONE
TZID:UTC
BEGIN:STANDARD
TZOFFSETFROM:+0000
TZOFFSETTO:+0000
TZNAME:UTC
DTSTART:20280101T000000
END:STANDARD
END:VTIMEZONE
BEGIN:VEVENT
DTSTART;TZID=America/New_York:20290124T160000
DTEND;TZID=America/New_York:20290124T170000
DTSTAMP:20260425T160049
CREATED:20240515T032155Z
LAST-MODIFIED:20240515T032155Z
UID:10001299-1863964800-1863968400@www.rockylakesgolf.com
SUMMARY:Roger's League
DESCRIPTION:Scramble Format
URL:https://www.rockylakesgolf.com/event/rogers-league/2029-01-24/
END:VEVENT
BEGIN:VEVENT
DTSTART;TZID=America/New_York:20290124T170000
DTEND;TZID=America/New_York:20290124T180000
DTSTAMP:20260425T160049
CREATED:20240515T032501Z
LAST-MODIFIED:20240515T032501Z
UID:10001560-1863968400-1863972000@www.rockylakesgolf.com
SUMMARY:Spark League
DESCRIPTION:Tee Times
URL:https://www.rockylakesgolf.com/event/spark-league/2029-01-24/
END:VEVENT
BEGIN:VEVENT
DTSTART;TZID=America/New_York:20290125T100000
DTEND;TZID=America/New_York:20290125T130000
DTSTAMP:20260425T160049
CREATED:20240515T032621Z
LAST-MODIFIED:20240515T032621Z
UID:10001821-1864029600-1864040400@www.rockylakesgolf.com
SUMMARY:Kuna League
DESCRIPTION:Tee Times
URL:https://www.rockylakesgolf.com/event/kuna-league/2029-01-25/
END:VEVENT
BEGIN:VEVENT
DTSTART;TZID=UTC:20290125T140000
DTEND;TZID=UTC:20290125T170000
DTSTAMP:20260425T160049
CREATED:20240515T032658Z
LAST-MODIFIED:20240515T032658Z
UID:10002082-1864044000-1864054800@www.rockylakesgolf.com
SUMMARY:Guard League
DESCRIPTION:Tee Times
URL:https://www.rockylakesgolf.com/event/guard-league/2029-01-25/
END:VEVENT
BEGIN:VEVENT
DTSTART;TZID=America/New_York:20290125T170000
DTEND;TZID=America/New_York:20290125T200000
DTSTAMP:20260425T160049
CREATED:20240515T032803Z
LAST-MODIFIED:20240515T032803Z
UID:10002343-1864054800-1864065600@www.rockylakesgolf.com
SUMMARY:Average Joe's
DESCRIPTION:Tee Times
URL:https://www.rockylakesgolf.com/event/average-joes/2029-01-25/
END:VEVENT
BEGIN:VEVENT
DTSTART;TZID=America/New_York:20290128T090000
DTEND;TZID=America/New_York:20290128T120000
DTSTAMP:20260425T160049
CREATED:20240515T032857Z
LAST-MODIFIED:20240515T032857Z
UID:10002604-1864285200-1864296000@www.rockylakesgolf.com
SUMMARY:Best Ball
DESCRIPTION:Tee Times
URL:https://www.rockylakesgolf.com/event/best-ball/2029-01-28/
END:VEVENT
BEGIN:VEVENT
DTSTART;TZID=America/New_York:20290129T140000
DTEND;TZID=America/New_York:20290129T160000
DTSTAMP:20260425T160049
CREATED:20240515T031308Z
LAST-MODIFIED:20240515T031806Z
UID:10000257-1864389600-1864396800@www.rockylakesgolf.com
SUMMARY:Brick Tap & Tavern
DESCRIPTION:Tee Times
URL:https://www.rockylakesgolf.com/event/brick-tap-tavern/2029-01-29/
END:VEVENT
BEGIN:VEVENT
DTSTART;TZID=America/New_York:20290130T160000
DTEND;TZID=America/New_York:20290130T170000
DTSTAMP:20260425T160049
CREATED:20240515T031624Z
LAST-MODIFIED:20240515T031624Z
UID:10000779-1864483200-1864486800@www.rockylakesgolf.com
SUMMARY:Hipps
DESCRIPTION:Tee Times
URL:https://www.rockylakesgolf.com/event/hipps/2029-01-30/
END:VEVENT
BEGIN:VEVENT
DTSTART;TZID=America/New_York:20290130T170000
DTEND;TZID=America/New_York:20290130T180000
DTSTAMP:20260425T160049
CREATED:20240515T031506Z
LAST-MODIFIED:20240516T075910Z
UID:10002865-1864486800-1864490400@www.rockylakesgolf.com
SUMMARY:Playmates
DESCRIPTION:Scramble Format
URL:https://www.rockylakesgolf.com/event/playmates/2029-01-30/
END:VEVENT
BEGIN:VEVENT
DTSTART;TZID=America/New_York:20290131T160000
DTEND;TZID=America/New_York:20290131T170000
DTSTAMP:20260425T160049
CREATED:20240515T032155Z
LAST-MODIFIED:20240515T032155Z
UID:10001300-1864569600-1864573200@www.rockylakesgolf.com
SUMMARY:Roger's League
DESCRIPTION:Scramble Format
URL:https://www.rockylakesgolf.com/event/rogers-league/2029-01-31/
END:VEVENT
BEGIN:VEVENT
DTSTART;TZID=America/New_York:20290131T170000
DTEND;TZID=America/New_York:20290131T180000
DTSTAMP:20260425T160049
CREATED:20240515T032501Z
LAST-MODIFIED:20240515T032501Z
UID:10001561-1864573200-1864576800@www.rockylakesgolf.com
SUMMARY:Spark League
DESCRIPTION:Tee Times
URL:https://www.rockylakesgolf.com/event/spark-league/2029-01-31/
END:VEVENT
BEGIN:VEVENT
DTSTART;TZID=America/New_York:20290201T100000
DTEND;TZID=America/New_York:20290201T130000
DTSTAMP:20260425T160049
CREATED:20240515T032621Z
LAST-MODIFIED:20240515T032621Z
UID:10001822-1864634400-1864645200@www.rockylakesgolf.com
SUMMARY:Kuna League
DESCRIPTION:Tee Times
URL:https://www.rockylakesgolf.com/event/kuna-league/2029-02-01/
END:VEVENT
BEGIN:VEVENT
DTSTART;TZID=UTC:20290201T140000
DTEND;TZID=UTC:20290201T170000
DTSTAMP:20260425T160049
CREATED:20240515T032658Z
LAST-MODIFIED:20240515T032658Z
UID:10002083-1864648800-1864659600@www.rockylakesgolf.com
SUMMARY:Guard League
DESCRIPTION:Tee Times
URL:https://www.rockylakesgolf.com/event/guard-league/2029-02-01/
END:VEVENT
BEGIN:VEVENT
DTSTART;TZID=America/New_York:20290201T170000
DTEND;TZID=America/New_York:20290201T200000
DTSTAMP:20260425T160049
CREATED:20240515T032803Z
LAST-MODIFIED:20240515T032803Z
UID:10002344-1864659600-1864670400@www.rockylakesgolf.com
SUMMARY:Average Joe's
DESCRIPTION:Tee Times
URL:https://www.rockylakesgolf.com/event/average-joes/2029-02-01/
END:VEVENT
BEGIN:VEVENT
DTSTART;TZID=America/New_York:20290204T090000
DTEND;TZID=America/New_York:20290204T120000
DTSTAMP:20260425T160049
CREATED:20240515T032857Z
LAST-MODIFIED:20240515T032857Z
UID:10002605-1864890000-1864900800@www.rockylakesgolf.com
SUMMARY:Best Ball
DESCRIPTION:Tee Times
URL:https://www.rockylakesgolf.com/event/best-ball/2029-02-04/
END:VEVENT
BEGIN:VEVENT
DTSTART;TZID=America/New_York:20290205T140000
DTEND;TZID=America/New_York:20290205T160000
DTSTAMP:20260425T160049
CREATED:20240515T031308Z
LAST-MODIFIED:20240515T031806Z
UID:10000258-1864994400-1865001600@www.rockylakesgolf.com
SUMMARY:Brick Tap & Tavern
DESCRIPTION:Tee Times
URL:https://www.rockylakesgolf.com/event/brick-tap-tavern/2029-02-05/
END:VEVENT
BEGIN:VEVENT
DTSTART;TZID=America/New_York:20290206T160000
DTEND;TZID=America/New_York:20290206T170000
DTSTAMP:20260425T160049
CREATED:20240515T031624Z
LAST-MODIFIED:20240515T031624Z
UID:10000780-1865088000-1865091600@www.rockylakesgolf.com
SUMMARY:Hipps
DESCRIPTION:Tee Times
URL:https://www.rockylakesgolf.com/event/hipps/2029-02-06/
END:VEVENT
BEGIN:VEVENT
DTSTART;TZID=America/New_York:20290206T170000
DTEND;TZID=America/New_York:20290206T180000
DTSTAMP:20260425T160049
CREATED:20240515T031506Z
LAST-MODIFIED:20240516T075910Z
UID:10002866-1865091600-1865095200@www.rockylakesgolf.com
SUMMARY:Playmates
DESCRIPTION:Scramble Format
URL:https://www.rockylakesgolf.com/event/playmates/2029-02-06/
END:VEVENT
BEGIN:VEVENT
DTSTART;TZID=America/New_York:20290207T160000
DTEND;TZID=America/New_York:20290207T170000
DTSTAMP:20260425T160049
CREATED:20240515T032155Z
LAST-MODIFIED:20240515T032155Z
UID:10001301-1865174400-1865178000@www.rockylakesgolf.com
SUMMARY:Roger's League
DESCRIPTION:Scramble Format
URL:https://www.rockylakesgolf.com/event/rogers-league/2029-02-07/
END:VEVENT
BEGIN:VEVENT
DTSTART;TZID=America/New_York:20290207T170000
DTEND;TZID=America/New_York:20290207T180000
DTSTAMP:20260425T160049
CREATED:20240515T032501Z
LAST-MODIFIED:20240515T032501Z
UID:10001562-1865178000-1865181600@www.rockylakesgolf.com
SUMMARY:Spark League
DESCRIPTION:Tee Times
URL:https://www.rockylakesgolf.com/event/spark-league/2029-02-07/
END:VEVENT
BEGIN:VEVENT
DTSTART;TZID=America/New_York:20290208T100000
DTEND;TZID=America/New_York:20290208T130000
DTSTAMP:20260425T160049
CREATED:20240515T032621Z
LAST-MODIFIED:20240515T032621Z
UID:10001823-1865239200-1865250000@www.rockylakesgolf.com
SUMMARY:Kuna League
DESCRIPTION:Tee Times
URL:https://www.rockylakesgolf.com/event/kuna-league/2029-02-08/
END:VEVENT
BEGIN:VEVENT
DTSTART;TZID=UTC:20290208T140000
DTEND;TZID=UTC:20290208T170000
DTSTAMP:20260425T160049
CREATED:20240515T032658Z
LAST-MODIFIED:20240515T032658Z
UID:10002084-1865253600-1865264400@www.rockylakesgolf.com
SUMMARY:Guard League
DESCRIPTION:Tee Times
URL:https://www.rockylakesgolf.com/event/guard-league/2029-02-08/
END:VEVENT
BEGIN:VEVENT
DTSTART;TZID=America/New_York:20290208T170000
DTEND;TZID=America/New_York:20290208T200000
DTSTAMP:20260425T160049
CREATED:20240515T032803Z
LAST-MODIFIED:20240515T032803Z
UID:10002345-1865264400-1865275200@www.rockylakesgolf.com
SUMMARY:Average Joe's
DESCRIPTION:Tee Times
URL:https://www.rockylakesgolf.com/event/average-joes/2029-02-08/
END:VEVENT
BEGIN:VEVENT
DTSTART;TZID=America/New_York:20290211T090000
DTEND;TZID=America/New_York:20290211T120000
DTSTAMP:20260425T160049
CREATED:20240515T032857Z
LAST-MODIFIED:20240515T032857Z
UID:10002606-1865494800-1865505600@www.rockylakesgolf.com
SUMMARY:Best Ball
DESCRIPTION:Tee Times
URL:https://www.rockylakesgolf.com/event/best-ball/2029-02-11/
END:VEVENT
BEGIN:VEVENT
DTSTART;TZID=America/New_York:20290212T140000
DTEND;TZID=America/New_York:20290212T160000
DTSTAMP:20260425T160049
CREATED:20240515T031308Z
LAST-MODIFIED:20240515T031806Z
UID:10000259-1865599200-1865606400@www.rockylakesgolf.com
SUMMARY:Brick Tap & Tavern
DESCRIPTION:Tee Times
URL:https://www.rockylakesgolf.com/event/brick-tap-tavern/2029-02-12/
END:VEVENT
BEGIN:VEVENT
DTSTART;TZID=America/New_York:20290213T160000
DTEND;TZID=America/New_York:20290213T170000
DTSTAMP:20260425T160049
CREATED:20240515T031624Z
LAST-MODIFIED:20240515T031624Z
UID:10000781-1865692800-1865696400@www.rockylakesgolf.com
SUMMARY:Hipps
DESCRIPTION:Tee Times
URL:https://www.rockylakesgolf.com/event/hipps/2029-02-13/
END:VEVENT
BEGIN:VEVENT
DTSTART;TZID=America/New_York:20290213T170000
DTEND;TZID=America/New_York:20290213T180000
DTSTAMP:20260425T160049
CREATED:20240515T031506Z
LAST-MODIFIED:20240516T075910Z
UID:10002867-1865696400-1865700000@www.rockylakesgolf.com
SUMMARY:Playmates
DESCRIPTION:Scramble Format
URL:https://www.rockylakesgolf.com/event/playmates/2029-02-13/
END:VEVENT
BEGIN:VEVENT
DTSTART;TZID=America/New_York:20290214T160000
DTEND;TZID=America/New_York:20290214T170000
DTSTAMP:20260425T160049
CREATED:20240515T032155Z
LAST-MODIFIED:20240515T032155Z
UID:10001302-1865779200-1865782800@www.rockylakesgolf.com
SUMMARY:Roger's League
DESCRIPTION:Scramble Format
URL:https://www.rockylakesgolf.com/event/rogers-league/2029-02-14/
END:VEVENT
BEGIN:VEVENT
DTSTART;TZID=America/New_York:20290214T170000
DTEND;TZID=America/New_York:20290214T180000
DTSTAMP:20260425T160049
CREATED:20240515T032501Z
LAST-MODIFIED:20240515T032501Z
UID:10001563-1865782800-1865786400@www.rockylakesgolf.com
SUMMARY:Spark League
DESCRIPTION:Tee Times
URL:https://www.rockylakesgolf.com/event/spark-league/2029-02-14/
END:VEVENT
BEGIN:VEVENT
DTSTART;TZID=America/New_York:20290215T100000
DTEND;TZID=America/New_York:20290215T130000
DTSTAMP:20260425T160049
CREATED:20240515T032621Z
LAST-MODIFIED:20240515T032621Z
UID:10001824-1865844000-1865854800@www.rockylakesgolf.com
SUMMARY:Kuna League
DESCRIPTION:Tee Times
URL:https://www.rockylakesgolf.com/event/kuna-league/2029-02-15/
END:VEVENT
END:VCALENDAR