BEGIN:VCALENDAR
VERSION:2.0
PRODID:-//Rocky Lakes Golf Course - ECPv6.15.18//NONSGML v1.0//EN
CALSCALE:GREGORIAN
METHOD:PUBLISH
X-ORIGINAL-URL:https://www.rockylakesgolf.com
X-WR-CALDESC:Events for Rocky Lakes Golf Course
REFRESH-INTERVAL;VALUE=DURATION:PT1H
X-Robots-Tag:noindex
X-PUBLISHED-TTL:PT1H
BEGIN:VTIMEZONE
TZID:America/New_York
BEGIN:DAYLIGHT
TZOFFSETFROM:-0500
TZOFFSETTO:-0400
TZNAME:EDT
DTSTART:20260308T070000
END:DAYLIGHT
BEGIN:STANDARD
TZOFFSETFROM:-0400
TZOFFSETTO:-0500
TZNAME:EST
DTSTART:20261101T060000
END:STANDARD
BEGIN:DAYLIGHT
TZOFFSETFROM:-0500
TZOFFSETTO:-0400
TZNAME:EDT
DTSTART:20270314T070000
END:DAYLIGHT
BEGIN:STANDARD
TZOFFSETFROM:-0400
TZOFFSETTO:-0500
TZNAME:EST
DTSTART:20271107T060000
END:STANDARD
BEGIN:DAYLIGHT
TZOFFSETFROM:-0500
TZOFFSETTO:-0400
TZNAME:EDT
DTSTART:20280312T070000
END:DAYLIGHT
BEGIN:STANDARD
TZOFFSETFROM:-0400
TZOFFSETTO:-0500
TZNAME:EST
DTSTART:20281105T060000
END:STANDARD
END:VTIMEZONE
BEGIN:VTIMEZONE
TZID:UTC
BEGIN:STANDARD
TZOFFSETFROM:+0000
TZOFFSETTO:+0000
TZNAME:UTC
DTSTART:20260101T000000
END:STANDARD
END:VTIMEZONE
BEGIN:VEVENT
DTSTART;TZID=America/New_York:20270922T160000
DTEND;TZID=America/New_York:20270922T170000
DTSTAMP:20260423T031533
CREATED:20240515T032155Z
LAST-MODIFIED:20240515T032155Z
UID:10001229-1821628800-1821632400@www.rockylakesgolf.com
SUMMARY:Roger's League
DESCRIPTION:Scramble Format
URL:https://www.rockylakesgolf.com/event/rogers-league/2027-09-22/
END:VEVENT
BEGIN:VEVENT
DTSTART;TZID=America/New_York:20270922T170000
DTEND;TZID=America/New_York:20270922T180000
DTSTAMP:20260423T031533
CREATED:20240515T032501Z
LAST-MODIFIED:20240515T032501Z
UID:10001490-1821632400-1821636000@www.rockylakesgolf.com
SUMMARY:Spark League
DESCRIPTION:Tee Times
URL:https://www.rockylakesgolf.com/event/spark-league/2027-09-22/
END:VEVENT
BEGIN:VEVENT
DTSTART;TZID=America/New_York:20270923T100000
DTEND;TZID=America/New_York:20270923T130000
DTSTAMP:20260423T031533
CREATED:20240515T032621Z
LAST-MODIFIED:20240515T032621Z
UID:10001751-1821693600-1821704400@www.rockylakesgolf.com
SUMMARY:Kuna League
DESCRIPTION:Tee Times
URL:https://www.rockylakesgolf.com/event/kuna-league/2027-09-23/
END:VEVENT
BEGIN:VEVENT
DTSTART;TZID=UTC:20270923T140000
DTEND;TZID=UTC:20270923T170000
DTSTAMP:20260423T031533
CREATED:20240515T032658Z
LAST-MODIFIED:20240515T032658Z
UID:10002012-1821708000-1821718800@www.rockylakesgolf.com
SUMMARY:Guard League
DESCRIPTION:Tee Times
URL:https://www.rockylakesgolf.com/event/guard-league/2027-09-23/
END:VEVENT
BEGIN:VEVENT
DTSTART;TZID=America/New_York:20270923T170000
DTEND;TZID=America/New_York:20270923T200000
DTSTAMP:20260423T031533
CREATED:20240515T032803Z
LAST-MODIFIED:20240515T032803Z
UID:10002273-1821718800-1821729600@www.rockylakesgolf.com
SUMMARY:Average Joe's
DESCRIPTION:Tee Times
URL:https://www.rockylakesgolf.com/event/average-joes/2027-09-23/
END:VEVENT
BEGIN:VEVENT
DTSTART;TZID=America/New_York:20270926T090000
DTEND;TZID=America/New_York:20270926T120000
DTSTAMP:20260423T031533
CREATED:20240515T032857Z
LAST-MODIFIED:20240515T032857Z
UID:10002534-1821949200-1821960000@www.rockylakesgolf.com
SUMMARY:Best Ball
DESCRIPTION:Tee Times
URL:https://www.rockylakesgolf.com/event/best-ball/2027-09-26/
END:VEVENT
BEGIN:VEVENT
DTSTART;TZID=America/New_York:20270927T140000
DTEND;TZID=America/New_York:20270927T160000
DTSTAMP:20260423T031533
CREATED:20240515T031308Z
LAST-MODIFIED:20240515T031806Z
UID:10000187-1822053600-1822060800@www.rockylakesgolf.com
SUMMARY:Brick Tap & Tavern
DESCRIPTION:Tee Times
URL:https://www.rockylakesgolf.com/event/brick-tap-tavern/2027-09-27/
END:VEVENT
BEGIN:VEVENT
DTSTART;TZID=America/New_York:20270928T160000
DTEND;TZID=America/New_York:20270928T170000
DTSTAMP:20260423T031533
CREATED:20240515T031624Z
LAST-MODIFIED:20240515T031624Z
UID:10000709-1822147200-1822150800@www.rockylakesgolf.com
SUMMARY:Hipps
DESCRIPTION:Tee Times
URL:https://www.rockylakesgolf.com/event/hipps/2027-09-28/
END:VEVENT
BEGIN:VEVENT
DTSTART;TZID=America/New_York:20270928T170000
DTEND;TZID=America/New_York:20270928T180000
DTSTAMP:20260423T031533
CREATED:20240515T031506Z
LAST-MODIFIED:20240516T075910Z
UID:10002795-1822150800-1822154400@www.rockylakesgolf.com
SUMMARY:Playmates
DESCRIPTION:Scramble Format
URL:https://www.rockylakesgolf.com/event/playmates/2027-09-28/
END:VEVENT
BEGIN:VEVENT
DTSTART;TZID=America/New_York:20270929T160000
DTEND;TZID=America/New_York:20270929T170000
DTSTAMP:20260423T031533
CREATED:20240515T032155Z
LAST-MODIFIED:20240515T032155Z
UID:10001230-1822233600-1822237200@www.rockylakesgolf.com
SUMMARY:Roger's League
DESCRIPTION:Scramble Format
URL:https://www.rockylakesgolf.com/event/rogers-league/2027-09-29/
END:VEVENT
BEGIN:VEVENT
DTSTART;TZID=America/New_York:20270929T170000
DTEND;TZID=America/New_York:20270929T180000
DTSTAMP:20260423T031533
CREATED:20240515T032501Z
LAST-MODIFIED:20240515T032501Z
UID:10001491-1822237200-1822240800@www.rockylakesgolf.com
SUMMARY:Spark League
DESCRIPTION:Tee Times
URL:https://www.rockylakesgolf.com/event/spark-league/2027-09-29/
END:VEVENT
BEGIN:VEVENT
DTSTART;TZID=America/New_York:20270930T100000
DTEND;TZID=America/New_York:20270930T130000
DTSTAMP:20260423T031533
CREATED:20240515T032621Z
LAST-MODIFIED:20240515T032621Z
UID:10001752-1822298400-1822309200@www.rockylakesgolf.com
SUMMARY:Kuna League
DESCRIPTION:Tee Times
URL:https://www.rockylakesgolf.com/event/kuna-league/2027-09-30/
END:VEVENT
BEGIN:VEVENT
DTSTART;TZID=UTC:20270930T140000
DTEND;TZID=UTC:20270930T170000
DTSTAMP:20260423T031533
CREATED:20240515T032658Z
LAST-MODIFIED:20240515T032658Z
UID:10002013-1822312800-1822323600@www.rockylakesgolf.com
SUMMARY:Guard League
DESCRIPTION:Tee Times
URL:https://www.rockylakesgolf.com/event/guard-league/2027-09-30/
END:VEVENT
BEGIN:VEVENT
DTSTART;TZID=America/New_York:20270930T170000
DTEND;TZID=America/New_York:20270930T200000
DTSTAMP:20260423T031533
CREATED:20240515T032803Z
LAST-MODIFIED:20240515T032803Z
UID:10002274-1822323600-1822334400@www.rockylakesgolf.com
SUMMARY:Average Joe's
DESCRIPTION:Tee Times
URL:https://www.rockylakesgolf.com/event/average-joes/2027-09-30/
END:VEVENT
BEGIN:VEVENT
DTSTART;TZID=America/New_York:20271003T090000
DTEND;TZID=America/New_York:20271003T120000
DTSTAMP:20260423T031533
CREATED:20240515T032857Z
LAST-MODIFIED:20240515T032857Z
UID:10002535-1822554000-1822564800@www.rockylakesgolf.com
SUMMARY:Best Ball
DESCRIPTION:Tee Times
URL:https://www.rockylakesgolf.com/event/best-ball/2027-10-03/
END:VEVENT
BEGIN:VEVENT
DTSTART;TZID=America/New_York:20271004T140000
DTEND;TZID=America/New_York:20271004T160000
DTSTAMP:20260423T031533
CREATED:20240515T031308Z
LAST-MODIFIED:20240515T031806Z
UID:10000188-1822658400-1822665600@www.rockylakesgolf.com
SUMMARY:Brick Tap & Tavern
DESCRIPTION:Tee Times
URL:https://www.rockylakesgolf.com/event/brick-tap-tavern/2027-10-04/
END:VEVENT
BEGIN:VEVENT
DTSTART;TZID=America/New_York:20271005T160000
DTEND;TZID=America/New_York:20271005T170000
DTSTAMP:20260423T031533
CREATED:20240515T031624Z
LAST-MODIFIED:20240515T031624Z
UID:10000710-1822752000-1822755600@www.rockylakesgolf.com
SUMMARY:Hipps
DESCRIPTION:Tee Times
URL:https://www.rockylakesgolf.com/event/hipps/2027-10-05/
END:VEVENT
BEGIN:VEVENT
DTSTART;TZID=America/New_York:20271005T170000
DTEND;TZID=America/New_York:20271005T180000
DTSTAMP:20260423T031533
CREATED:20240515T031506Z
LAST-MODIFIED:20240516T075910Z
UID:10002796-1822755600-1822759200@www.rockylakesgolf.com
SUMMARY:Playmates
DESCRIPTION:Scramble Format
URL:https://www.rockylakesgolf.com/event/playmates/2027-10-05/
END:VEVENT
BEGIN:VEVENT
DTSTART;TZID=America/New_York:20271006T160000
DTEND;TZID=America/New_York:20271006T170000
DTSTAMP:20260423T031533
CREATED:20240515T032155Z
LAST-MODIFIED:20240515T032155Z
UID:10001231-1822838400-1822842000@www.rockylakesgolf.com
SUMMARY:Roger's League
DESCRIPTION:Scramble Format
URL:https://www.rockylakesgolf.com/event/rogers-league/2027-10-06/
END:VEVENT
BEGIN:VEVENT
DTSTART;TZID=America/New_York:20271006T170000
DTEND;TZID=America/New_York:20271006T180000
DTSTAMP:20260423T031533
CREATED:20240515T032501Z
LAST-MODIFIED:20240515T032501Z
UID:10001492-1822842000-1822845600@www.rockylakesgolf.com
SUMMARY:Spark League
DESCRIPTION:Tee Times
URL:https://www.rockylakesgolf.com/event/spark-league/2027-10-06/
END:VEVENT
BEGIN:VEVENT
DTSTART;TZID=America/New_York:20271007T100000
DTEND;TZID=America/New_York:20271007T130000
DTSTAMP:20260423T031533
CREATED:20240515T032621Z
LAST-MODIFIED:20240515T032621Z
UID:10001753-1822903200-1822914000@www.rockylakesgolf.com
SUMMARY:Kuna League
DESCRIPTION:Tee Times
URL:https://www.rockylakesgolf.com/event/kuna-league/2027-10-07/
END:VEVENT
BEGIN:VEVENT
DTSTART;TZID=UTC:20271007T140000
DTEND;TZID=UTC:20271007T170000
DTSTAMP:20260423T031533
CREATED:20240515T032658Z
LAST-MODIFIED:20240515T032658Z
UID:10002014-1822917600-1822928400@www.rockylakesgolf.com
SUMMARY:Guard League
DESCRIPTION:Tee Times
URL:https://www.rockylakesgolf.com/event/guard-league/2027-10-07/
END:VEVENT
BEGIN:VEVENT
DTSTART;TZID=America/New_York:20271007T170000
DTEND;TZID=America/New_York:20271007T200000
DTSTAMP:20260423T031534
CREATED:20240515T032803Z
LAST-MODIFIED:20240515T032803Z
UID:10002275-1822928400-1822939200@www.rockylakesgolf.com
SUMMARY:Average Joe's
DESCRIPTION:Tee Times
URL:https://www.rockylakesgolf.com/event/average-joes/2027-10-07/
END:VEVENT
BEGIN:VEVENT
DTSTART;TZID=America/New_York:20271010T090000
DTEND;TZID=America/New_York:20271010T120000
DTSTAMP:20260423T031534
CREATED:20240515T032857Z
LAST-MODIFIED:20240515T032857Z
UID:10002536-1823158800-1823169600@www.rockylakesgolf.com
SUMMARY:Best Ball
DESCRIPTION:Tee Times
URL:https://www.rockylakesgolf.com/event/best-ball/2027-10-10/
END:VEVENT
BEGIN:VEVENT
DTSTART;TZID=America/New_York:20271011T140000
DTEND;TZID=America/New_York:20271011T160000
DTSTAMP:20260423T031534
CREATED:20240515T031308Z
LAST-MODIFIED:20240515T031806Z
UID:10000189-1823263200-1823270400@www.rockylakesgolf.com
SUMMARY:Brick Tap & Tavern
DESCRIPTION:Tee Times
URL:https://www.rockylakesgolf.com/event/brick-tap-tavern/2027-10-11/
END:VEVENT
BEGIN:VEVENT
DTSTART;TZID=America/New_York:20271012T160000
DTEND;TZID=America/New_York:20271012T170000
DTSTAMP:20260423T031534
CREATED:20240515T031624Z
LAST-MODIFIED:20240515T031624Z
UID:10000711-1823356800-1823360400@www.rockylakesgolf.com
SUMMARY:Hipps
DESCRIPTION:Tee Times
URL:https://www.rockylakesgolf.com/event/hipps/2027-10-12/
END:VEVENT
BEGIN:VEVENT
DTSTART;TZID=America/New_York:20271012T170000
DTEND;TZID=America/New_York:20271012T180000
DTSTAMP:20260423T031534
CREATED:20240515T031506Z
LAST-MODIFIED:20240516T075910Z
UID:10002797-1823360400-1823364000@www.rockylakesgolf.com
SUMMARY:Playmates
DESCRIPTION:Scramble Format
URL:https://www.rockylakesgolf.com/event/playmates/2027-10-12/
END:VEVENT
BEGIN:VEVENT
DTSTART;TZID=America/New_York:20271013T160000
DTEND;TZID=America/New_York:20271013T170000
DTSTAMP:20260423T031534
CREATED:20240515T032155Z
LAST-MODIFIED:20240515T032155Z
UID:10001232-1823443200-1823446800@www.rockylakesgolf.com
SUMMARY:Roger's League
DESCRIPTION:Scramble Format
URL:https://www.rockylakesgolf.com/event/rogers-league/2027-10-13/
END:VEVENT
BEGIN:VEVENT
DTSTART;TZID=America/New_York:20271013T170000
DTEND;TZID=America/New_York:20271013T180000
DTSTAMP:20260423T031534
CREATED:20240515T032501Z
LAST-MODIFIED:20240515T032501Z
UID:10001493-1823446800-1823450400@www.rockylakesgolf.com
SUMMARY:Spark League
DESCRIPTION:Tee Times
URL:https://www.rockylakesgolf.com/event/spark-league/2027-10-13/
END:VEVENT
BEGIN:VEVENT
DTSTART;TZID=America/New_York:20271014T100000
DTEND;TZID=America/New_York:20271014T130000
DTSTAMP:20260423T031534
CREATED:20240515T032621Z
LAST-MODIFIED:20240515T032621Z
UID:10001754-1823508000-1823518800@www.rockylakesgolf.com
SUMMARY:Kuna League
DESCRIPTION:Tee Times
URL:https://www.rockylakesgolf.com/event/kuna-league/2027-10-14/
END:VEVENT
END:VCALENDAR