BEGIN:VCALENDAR
VERSION:2.0
PRODID:-//Rocky Lakes Golf Course - ECPv6.15.18//NONSGML v1.0//EN
CALSCALE:GREGORIAN
METHOD:PUBLISH
X-WR-CALNAME:Rocky Lakes Golf Course
X-ORIGINAL-URL:https://www.rockylakesgolf.com
X-WR-CALDESC:Events for Rocky Lakes Golf Course
REFRESH-INTERVAL;VALUE=DURATION:PT1H
X-Robots-Tag:noindex
X-PUBLISHED-TTL:PT1H
BEGIN:VTIMEZONE
TZID:America/New_York
BEGIN:DAYLIGHT
TZOFFSETFROM:-0500
TZOFFSETTO:-0400
TZNAME:EDT
DTSTART:20230312T070000
END:DAYLIGHT
BEGIN:STANDARD
TZOFFSETFROM:-0400
TZOFFSETTO:-0500
TZNAME:EST
DTSTART:20231105T060000
END:STANDARD
BEGIN:DAYLIGHT
TZOFFSETFROM:-0500
TZOFFSETTO:-0400
TZNAME:EDT
DTSTART:20240310T070000
END:DAYLIGHT
BEGIN:STANDARD
TZOFFSETFROM:-0400
TZOFFSETTO:-0500
TZNAME:EST
DTSTART:20241103T060000
END:STANDARD
BEGIN:DAYLIGHT
TZOFFSETFROM:-0500
TZOFFSETTO:-0400
TZNAME:EDT
DTSTART:20250309T070000
END:DAYLIGHT
BEGIN:STANDARD
TZOFFSETFROM:-0400
TZOFFSETTO:-0500
TZNAME:EST
DTSTART:20251102T060000
END:STANDARD
END:VTIMEZONE
BEGIN:VTIMEZONE
TZID:UTC
BEGIN:STANDARD
TZOFFSETFROM:+0000
TZOFFSETTO:+0000
TZNAME:UTC
DTSTART:20230101T000000
END:STANDARD
END:VTIMEZONE
BEGIN:VEVENT
DTSTART;TZID=America/New_York:20240714T090000
DTEND;TZID=America/New_York:20240714T120000
DTSTAMP:20260424T123924
CREATED:20240515T032857Z
LAST-MODIFIED:20240515T032857Z
UID:10002367-1720947600-1720958400@www.rockylakesgolf.com
SUMMARY:Best Ball
DESCRIPTION:Tee Times
URL:https://www.rockylakesgolf.com/event/best-ball/2024-07-14/
END:VEVENT
BEGIN:VEVENT
DTSTART;TZID=America/New_York:20240714T090000
DTEND;TZID=America/New_York:20240714T170000
DTSTAMP:20260424T123924
CREATED:20240515T030554Z
LAST-MODIFIED:20240515T031920Z
UID:10000007-1720947600-1720976400@www.rockylakesgolf.com
SUMMARY:Reiter Dairy Outing
DESCRIPTION:Shotgun
URL:https://www.rockylakesgolf.com/event/reiter-dairy-outing/
END:VEVENT
BEGIN:VEVENT
DTSTART;TZID=America/New_York:20240715T140000
DTEND;TZID=America/New_York:20240715T160000
DTSTAMP:20260424T123924
CREATED:20240515T031308Z
LAST-MODIFIED:20240515T031806Z
UID:10000020-1721052000-1721059200@www.rockylakesgolf.com
SUMMARY:Brick Tap & Tavern
DESCRIPTION:Tee Times
URL:https://www.rockylakesgolf.com/event/brick-tap-tavern/2024-07-15/
END:VEVENT
BEGIN:VEVENT
DTSTART;TZID=America/New_York:20240716T160000
DTEND;TZID=America/New_York:20240716T170000
DTSTAMP:20260424T123924
CREATED:20240515T031624Z
LAST-MODIFIED:20240515T031624Z
UID:10000542-1721145600-1721149200@www.rockylakesgolf.com
SUMMARY:Hipps
DESCRIPTION:Tee Times
URL:https://www.rockylakesgolf.com/event/hipps/2024-07-16/
END:VEVENT
BEGIN:VEVENT
DTSTART;TZID=America/New_York:20240716T170000
DTEND;TZID=America/New_York:20240716T180000
DTSTAMP:20260424T123924
CREATED:20240515T031506Z
LAST-MODIFIED:20240516T075910Z
UID:10002628-1721149200-1721152800@www.rockylakesgolf.com
SUMMARY:Playmates
DESCRIPTION:Scramble Format
URL:https://www.rockylakesgolf.com/event/playmates/2024-07-16/
END:VEVENT
BEGIN:VEVENT
DTSTART;TZID=America/New_York:20240717T160000
DTEND;TZID=America/New_York:20240717T170000
DTSTAMP:20260424T123924
CREATED:20240515T032155Z
LAST-MODIFIED:20240515T032155Z
UID:10001063-1721232000-1721235600@www.rockylakesgolf.com
SUMMARY:Roger's League
DESCRIPTION:Scramble Format
URL:https://www.rockylakesgolf.com/event/rogers-league/2024-07-17/
END:VEVENT
BEGIN:VEVENT
DTSTART;TZID=America/New_York:20240717T170000
DTEND;TZID=America/New_York:20240717T180000
DTSTAMP:20260424T123924
CREATED:20240515T032501Z
LAST-MODIFIED:20240515T032501Z
UID:10001324-1721235600-1721239200@www.rockylakesgolf.com
SUMMARY:Spark League
DESCRIPTION:Tee Times
URL:https://www.rockylakesgolf.com/event/spark-league/2024-07-17/
END:VEVENT
BEGIN:VEVENT
DTSTART;TZID=America/New_York:20240718T100000
DTEND;TZID=America/New_York:20240718T130000
DTSTAMP:20260424T123924
CREATED:20240515T032621Z
LAST-MODIFIED:20240515T032621Z
UID:10001585-1721296800-1721307600@www.rockylakesgolf.com
SUMMARY:Kuna League
DESCRIPTION:Tee Times
URL:https://www.rockylakesgolf.com/event/kuna-league/2024-07-18/
END:VEVENT
BEGIN:VEVENT
DTSTART;TZID=UTC:20240718T140000
DTEND;TZID=UTC:20240718T170000
DTSTAMP:20260424T123924
CREATED:20240515T032658Z
LAST-MODIFIED:20240515T032658Z
UID:10001846-1721311200-1721322000@www.rockylakesgolf.com
SUMMARY:Guard League
DESCRIPTION:Tee Times
URL:https://www.rockylakesgolf.com/event/guard-league/2024-07-18/
END:VEVENT
BEGIN:VEVENT
DTSTART;TZID=America/New_York:20240718T170000
DTEND;TZID=America/New_York:20240718T200000
DTSTAMP:20260424T123924
CREATED:20240515T032803Z
LAST-MODIFIED:20240515T032803Z
UID:10002107-1721322000-1721332800@www.rockylakesgolf.com
SUMMARY:Average Joe's
DESCRIPTION:Tee Times
URL:https://www.rockylakesgolf.com/event/average-joes/2024-07-18/
END:VEVENT
BEGIN:VEVENT
DTSTART;TZID=America/New_York:20240721T090000
DTEND;TZID=America/New_York:20240721T120000
DTSTAMP:20260424T123924
CREATED:20240515T032857Z
LAST-MODIFIED:20240515T032857Z
UID:10002368-1721552400-1721563200@www.rockylakesgolf.com
SUMMARY:Best Ball
DESCRIPTION:Tee Times
URL:https://www.rockylakesgolf.com/event/best-ball/2024-07-21/
END:VEVENT
BEGIN:VEVENT
DTSTART;TZID=America/New_York:20240722T140000
DTEND;TZID=America/New_York:20240722T160000
DTSTAMP:20260424T123924
CREATED:20240515T031308Z
LAST-MODIFIED:20240515T031806Z
UID:10000021-1721656800-1721664000@www.rockylakesgolf.com
SUMMARY:Brick Tap & Tavern
DESCRIPTION:Tee Times
URL:https://www.rockylakesgolf.com/event/brick-tap-tavern/2024-07-22/
END:VEVENT
BEGIN:VEVENT
DTSTART;TZID=America/New_York:20240723T160000
DTEND;TZID=America/New_York:20240723T170000
DTSTAMP:20260424T123924
CREATED:20240515T031624Z
LAST-MODIFIED:20240515T031624Z
UID:10000543-1721750400-1721754000@www.rockylakesgolf.com
SUMMARY:Hipps
DESCRIPTION:Tee Times
URL:https://www.rockylakesgolf.com/event/hipps/2024-07-23/
END:VEVENT
BEGIN:VEVENT
DTSTART;TZID=America/New_York:20240723T170000
DTEND;TZID=America/New_York:20240723T180000
DTSTAMP:20260424T123924
CREATED:20240515T031506Z
LAST-MODIFIED:20240516T075910Z
UID:10002629-1721754000-1721757600@www.rockylakesgolf.com
SUMMARY:Playmates
DESCRIPTION:Scramble Format
URL:https://www.rockylakesgolf.com/event/playmates/2024-07-23/
END:VEVENT
BEGIN:VEVENT
DTSTART;TZID=America/New_York:20240724T160000
DTEND;TZID=America/New_York:20240724T170000
DTSTAMP:20260424T123924
CREATED:20240515T032155Z
LAST-MODIFIED:20240515T032155Z
UID:10001064-1721836800-1721840400@www.rockylakesgolf.com
SUMMARY:Roger's League
DESCRIPTION:Scramble Format
URL:https://www.rockylakesgolf.com/event/rogers-league/2024-07-24/
END:VEVENT
BEGIN:VEVENT
DTSTART;TZID=America/New_York:20240724T170000
DTEND;TZID=America/New_York:20240724T180000
DTSTAMP:20260424T123924
CREATED:20240515T032501Z
LAST-MODIFIED:20240515T032501Z
UID:10001325-1721840400-1721844000@www.rockylakesgolf.com
SUMMARY:Spark League
DESCRIPTION:Tee Times
URL:https://www.rockylakesgolf.com/event/spark-league/2024-07-24/
END:VEVENT
BEGIN:VEVENT
DTSTART;TZID=America/New_York:20240725T100000
DTEND;TZID=America/New_York:20240725T130000
DTSTAMP:20260424T123924
CREATED:20240515T032621Z
LAST-MODIFIED:20240515T032621Z
UID:10001586-1721901600-1721912400@www.rockylakesgolf.com
SUMMARY:Kuna League
DESCRIPTION:Tee Times
URL:https://www.rockylakesgolf.com/event/kuna-league/2024-07-25/
END:VEVENT
BEGIN:VEVENT
DTSTART;TZID=UTC:20240725T140000
DTEND;TZID=UTC:20240725T170000
DTSTAMP:20260424T123924
CREATED:20240515T032658Z
LAST-MODIFIED:20240515T032658Z
UID:10001847-1721916000-1721926800@www.rockylakesgolf.com
SUMMARY:Guard League
DESCRIPTION:Tee Times
URL:https://www.rockylakesgolf.com/event/guard-league/2024-07-25/
END:VEVENT
BEGIN:VEVENT
DTSTART;TZID=America/New_York:20240725T170000
DTEND;TZID=America/New_York:20240725T200000
DTSTAMP:20260424T123924
CREATED:20240515T032803Z
LAST-MODIFIED:20240515T032803Z
UID:10002108-1721926800-1721937600@www.rockylakesgolf.com
SUMMARY:Average Joe's
DESCRIPTION:Tee Times
URL:https://www.rockylakesgolf.com/event/average-joes/2024-07-25/
END:VEVENT
BEGIN:VEVENT
DTSTART;TZID=America/New_York:20240728T090000
DTEND;TZID=America/New_York:20240728T120000
DTSTAMP:20260424T123924
CREATED:20240515T032857Z
LAST-MODIFIED:20240515T032857Z
UID:10002369-1722157200-1722168000@www.rockylakesgolf.com
SUMMARY:Best Ball
DESCRIPTION:Tee Times
URL:https://www.rockylakesgolf.com/event/best-ball/2024-07-28/
END:VEVENT
BEGIN:VEVENT
DTSTART;TZID=America/New_York:20240729T140000
DTEND;TZID=America/New_York:20240729T160000
DTSTAMP:20260424T123924
CREATED:20240515T031308Z
LAST-MODIFIED:20240515T031806Z
UID:10000022-1722261600-1722268800@www.rockylakesgolf.com
SUMMARY:Brick Tap & Tavern
DESCRIPTION:Tee Times
URL:https://www.rockylakesgolf.com/event/brick-tap-tavern/2024-07-29/
END:VEVENT
BEGIN:VEVENT
DTSTART;TZID=America/New_York:20240730T160000
DTEND;TZID=America/New_York:20240730T170000
DTSTAMP:20260424T123924
CREATED:20240515T031624Z
LAST-MODIFIED:20240515T031624Z
UID:10000544-1722355200-1722358800@www.rockylakesgolf.com
SUMMARY:Hipps
DESCRIPTION:Tee Times
URL:https://www.rockylakesgolf.com/event/hipps/2024-07-30/
END:VEVENT
BEGIN:VEVENT
DTSTART;TZID=America/New_York:20240730T170000
DTEND;TZID=America/New_York:20240730T180000
DTSTAMP:20260424T123924
CREATED:20240515T031506Z
LAST-MODIFIED:20240516T075910Z
UID:10002630-1722358800-1722362400@www.rockylakesgolf.com
SUMMARY:Playmates
DESCRIPTION:Scramble Format
URL:https://www.rockylakesgolf.com/event/playmates/2024-07-30/
END:VEVENT
BEGIN:VEVENT
DTSTART;TZID=America/New_York:20240731T160000
DTEND;TZID=America/New_York:20240731T170000
DTSTAMP:20260424T123924
CREATED:20240515T032155Z
LAST-MODIFIED:20240515T032155Z
UID:10001065-1722441600-1722445200@www.rockylakesgolf.com
SUMMARY:Roger's League
DESCRIPTION:Scramble Format
URL:https://www.rockylakesgolf.com/event/rogers-league/2024-07-31/
END:VEVENT
BEGIN:VEVENT
DTSTART;TZID=America/New_York:20240731T170000
DTEND;TZID=America/New_York:20240731T180000
DTSTAMP:20260424T123924
CREATED:20240515T032501Z
LAST-MODIFIED:20240515T032501Z
UID:10001326-1722445200-1722448800@www.rockylakesgolf.com
SUMMARY:Spark League
DESCRIPTION:Tee Times
URL:https://www.rockylakesgolf.com/event/spark-league/2024-07-31/
END:VEVENT
BEGIN:VEVENT
DTSTART;TZID=America/New_York:20240801T100000
DTEND;TZID=America/New_York:20240801T130000
DTSTAMP:20260424T123924
CREATED:20240515T032621Z
LAST-MODIFIED:20240515T032621Z
UID:10001587-1722506400-1722517200@www.rockylakesgolf.com
SUMMARY:Kuna League
DESCRIPTION:Tee Times
URL:https://www.rockylakesgolf.com/event/kuna-league/2024-08-01/
END:VEVENT
BEGIN:VEVENT
DTSTART;TZID=UTC:20240801T140000
DTEND;TZID=UTC:20240801T170000
DTSTAMP:20260424T123924
CREATED:20240515T032658Z
LAST-MODIFIED:20240515T032658Z
UID:10001848-1722520800-1722531600@www.rockylakesgolf.com
SUMMARY:Guard League
DESCRIPTION:Tee Times
URL:https://www.rockylakesgolf.com/event/guard-league/2024-08-01/
END:VEVENT
BEGIN:VEVENT
DTSTART;TZID=America/New_York:20240801T170000
DTEND;TZID=America/New_York:20240801T200000
DTSTAMP:20260424T123924
CREATED:20240515T032803Z
LAST-MODIFIED:20240515T032803Z
UID:10002109-1722531600-1722542400@www.rockylakesgolf.com
SUMMARY:Average Joe's
DESCRIPTION:Tee Times
URL:https://www.rockylakesgolf.com/event/average-joes/2024-08-01/
END:VEVENT
BEGIN:VEVENT
DTSTART;TZID=America/New_York:20240803T100000
DTEND;TZID=America/New_York:20240803T170000
DTSTAMP:20260424T123924
CREATED:20240515T030635Z
LAST-MODIFIED:20240515T031928Z
UID:10000008-1722679200-1722704400@www.rockylakesgolf.com
SUMMARY:Breast Cancer Outing
DESCRIPTION:Shotgun
URL:https://www.rockylakesgolf.com/event/breast-cancer-outing/
END:VEVENT
BEGIN:VEVENT
DTSTART;TZID=America/New_York:20240804T090000
DTEND;TZID=America/New_York:20240804T120000
DTSTAMP:20260424T123924
CREATED:20240515T032857Z
LAST-MODIFIED:20240515T032857Z
UID:10002370-1722762000-1722772800@www.rockylakesgolf.com
SUMMARY:Best Ball
DESCRIPTION:Tee Times
URL:https://www.rockylakesgolf.com/event/best-ball/2024-08-04/
END:VEVENT
END:VCALENDAR