BEGIN:VCALENDAR
VERSION:2.0
PRODID:-//Rocky Lakes Golf Course - ECPv6.15.18//NONSGML v1.0//EN
CALSCALE:GREGORIAN
METHOD:PUBLISH
X-WR-CALNAME:Rocky Lakes Golf Course
X-ORIGINAL-URL:https://www.rockylakesgolf.com
X-WR-CALDESC:Events for Rocky Lakes Golf Course
REFRESH-INTERVAL;VALUE=DURATION:PT1H
X-Robots-Tag:noindex
X-PUBLISHED-TTL:PT1H
BEGIN:VTIMEZONE
TZID:America/New_York
BEGIN:DAYLIGHT
TZOFFSETFROM:-0500
TZOFFSETTO:-0400
TZNAME:EDT
DTSTART:20240310T070000
END:DAYLIGHT
BEGIN:STANDARD
TZOFFSETFROM:-0400
TZOFFSETTO:-0500
TZNAME:EST
DTSTART:20241103T060000
END:STANDARD
BEGIN:DAYLIGHT
TZOFFSETFROM:-0500
TZOFFSETTO:-0400
TZNAME:EDT
DTSTART:20250309T070000
END:DAYLIGHT
BEGIN:STANDARD
TZOFFSETFROM:-0400
TZOFFSETTO:-0500
TZNAME:EST
DTSTART:20251102T060000
END:STANDARD
BEGIN:DAYLIGHT
TZOFFSETFROM:-0500
TZOFFSETTO:-0400
TZNAME:EDT
DTSTART:20260308T070000
END:DAYLIGHT
BEGIN:STANDARD
TZOFFSETFROM:-0400
TZOFFSETTO:-0500
TZNAME:EST
DTSTART:20261101T060000
END:STANDARD
END:VTIMEZONE
BEGIN:VTIMEZONE
TZID:UTC
BEGIN:STANDARD
TZOFFSETFROM:+0000
TZOFFSETTO:+0000
TZNAME:UTC
DTSTART:20240101T000000
END:STANDARD
END:VTIMEZONE
BEGIN:VEVENT
DTSTART;TZID=America/New_York:20250617T170000
DTEND;TZID=America/New_York:20250617T180000
DTSTAMP:20260421T211223
CREATED:20240515T031506Z
LAST-MODIFIED:20240516T075910Z
UID:10002676-1750179600-1750183200@www.rockylakesgolf.com
SUMMARY:Playmates
DESCRIPTION:Scramble Format
URL:https://www.rockylakesgolf.com/event/playmates/2025-06-17/
END:VEVENT
BEGIN:VEVENT
DTSTART;TZID=America/New_York:20250618T160000
DTEND;TZID=America/New_York:20250618T170000
DTSTAMP:20260421T211223
CREATED:20240515T032155Z
LAST-MODIFIED:20240515T032155Z
UID:10001111-1750262400-1750266000@www.rockylakesgolf.com
SUMMARY:Roger's League
DESCRIPTION:Scramble Format
URL:https://www.rockylakesgolf.com/event/rogers-league/2025-06-18/
END:VEVENT
BEGIN:VEVENT
DTSTART;TZID=America/New_York:20250618T170000
DTEND;TZID=America/New_York:20250618T180000
DTSTAMP:20260421T211223
CREATED:20240515T032501Z
LAST-MODIFIED:20240515T032501Z
UID:10001372-1750266000-1750269600@www.rockylakesgolf.com
SUMMARY:Spark League
DESCRIPTION:Tee Times
URL:https://www.rockylakesgolf.com/event/spark-league/2025-06-18/
END:VEVENT
BEGIN:VEVENT
DTSTART;TZID=America/New_York:20250619T100000
DTEND;TZID=America/New_York:20250619T130000
DTSTAMP:20260421T211223
CREATED:20240515T032621Z
LAST-MODIFIED:20240515T032621Z
UID:10001633-1750327200-1750338000@www.rockylakesgolf.com
SUMMARY:Kuna League
DESCRIPTION:Tee Times
URL:https://www.rockylakesgolf.com/event/kuna-league/2025-06-19/
END:VEVENT
BEGIN:VEVENT
DTSTART;TZID=UTC:20250619T140000
DTEND;TZID=UTC:20250619T170000
DTSTAMP:20260421T211223
CREATED:20240515T032658Z
LAST-MODIFIED:20240515T032658Z
UID:10001894-1750341600-1750352400@www.rockylakesgolf.com
SUMMARY:Guard League
DESCRIPTION:Tee Times
URL:https://www.rockylakesgolf.com/event/guard-league/2025-06-19/
END:VEVENT
BEGIN:VEVENT
DTSTART;TZID=America/New_York:20250619T170000
DTEND;TZID=America/New_York:20250619T200000
DTSTAMP:20260421T211223
CREATED:20240515T032803Z
LAST-MODIFIED:20240515T032803Z
UID:10002155-1750352400-1750363200@www.rockylakesgolf.com
SUMMARY:Average Joe's
DESCRIPTION:Tee Times
URL:https://www.rockylakesgolf.com/event/average-joes/2025-06-19/
END:VEVENT
BEGIN:VEVENT
DTSTART;TZID=America/New_York:20250622T090000
DTEND;TZID=America/New_York:20250622T120000
DTSTAMP:20260421T211223
CREATED:20240515T032857Z
LAST-MODIFIED:20240515T032857Z
UID:10002416-1750582800-1750593600@www.rockylakesgolf.com
SUMMARY:Best Ball
DESCRIPTION:Tee Times
URL:https://www.rockylakesgolf.com/event/best-ball/2025-06-22/
END:VEVENT
BEGIN:VEVENT
DTSTART;TZID=America/New_York:20250623T140000
DTEND;TZID=America/New_York:20250623T160000
DTSTAMP:20260421T211223
CREATED:20240515T031308Z
LAST-MODIFIED:20240515T031806Z
UID:10000069-1750687200-1750694400@www.rockylakesgolf.com
SUMMARY:Brick Tap & Tavern
DESCRIPTION:Tee Times
URL:https://www.rockylakesgolf.com/event/brick-tap-tavern/2025-06-23/
END:VEVENT
BEGIN:VEVENT
DTSTART;TZID=America/New_York:20250624T160000
DTEND;TZID=America/New_York:20250624T170000
DTSTAMP:20260421T211223
CREATED:20240515T031624Z
LAST-MODIFIED:20240515T031624Z
UID:10000591-1750780800-1750784400@www.rockylakesgolf.com
SUMMARY:Hipps
DESCRIPTION:Tee Times
URL:https://www.rockylakesgolf.com/event/hipps/2025-06-24/
END:VEVENT
BEGIN:VEVENT
DTSTART;TZID=America/New_York:20250624T170000
DTEND;TZID=America/New_York:20250624T180000
DTSTAMP:20260421T211223
CREATED:20240515T031506Z
LAST-MODIFIED:20240516T075910Z
UID:10002677-1750784400-1750788000@www.rockylakesgolf.com
SUMMARY:Playmates
DESCRIPTION:Scramble Format
URL:https://www.rockylakesgolf.com/event/playmates/2025-06-24/
END:VEVENT
BEGIN:VEVENT
DTSTART;TZID=America/New_York:20250625T160000
DTEND;TZID=America/New_York:20250625T170000
DTSTAMP:20260421T211223
CREATED:20240515T032155Z
LAST-MODIFIED:20240515T032155Z
UID:10001112-1750867200-1750870800@www.rockylakesgolf.com
SUMMARY:Roger's League
DESCRIPTION:Scramble Format
URL:https://www.rockylakesgolf.com/event/rogers-league/2025-06-25/
END:VEVENT
BEGIN:VEVENT
DTSTART;TZID=America/New_York:20250625T170000
DTEND;TZID=America/New_York:20250625T180000
DTSTAMP:20260421T211223
CREATED:20240515T032501Z
LAST-MODIFIED:20240515T032501Z
UID:10001373-1750870800-1750874400@www.rockylakesgolf.com
SUMMARY:Spark League
DESCRIPTION:Tee Times
URL:https://www.rockylakesgolf.com/event/spark-league/2025-06-25/
END:VEVENT
BEGIN:VEVENT
DTSTART;TZID=America/New_York:20250626T100000
DTEND;TZID=America/New_York:20250626T130000
DTSTAMP:20260421T211223
CREATED:20240515T032621Z
LAST-MODIFIED:20240515T032621Z
UID:10001634-1750932000-1750942800@www.rockylakesgolf.com
SUMMARY:Kuna League
DESCRIPTION:Tee Times
URL:https://www.rockylakesgolf.com/event/kuna-league/2025-06-26/
END:VEVENT
BEGIN:VEVENT
DTSTART;TZID=UTC:20250626T140000
DTEND;TZID=UTC:20250626T170000
DTSTAMP:20260421T211223
CREATED:20240515T032658Z
LAST-MODIFIED:20240515T032658Z
UID:10001895-1750946400-1750957200@www.rockylakesgolf.com
SUMMARY:Guard League
DESCRIPTION:Tee Times
URL:https://www.rockylakesgolf.com/event/guard-league/2025-06-26/
END:VEVENT
BEGIN:VEVENT
DTSTART;TZID=America/New_York:20250626T170000
DTEND;TZID=America/New_York:20250626T200000
DTSTAMP:20260421T211223
CREATED:20240515T032803Z
LAST-MODIFIED:20240515T032803Z
UID:10002156-1750957200-1750968000@www.rockylakesgolf.com
SUMMARY:Average Joe's
DESCRIPTION:Tee Times
URL:https://www.rockylakesgolf.com/event/average-joes/2025-06-26/
END:VEVENT
BEGIN:VEVENT
DTSTART;TZID=America/New_York:20250629T090000
DTEND;TZID=America/New_York:20250629T120000
DTSTAMP:20260421T211223
CREATED:20240515T032857Z
LAST-MODIFIED:20240515T032857Z
UID:10002417-1751187600-1751198400@www.rockylakesgolf.com
SUMMARY:Best Ball
DESCRIPTION:Tee Times
URL:https://www.rockylakesgolf.com/event/best-ball/2025-06-29/
END:VEVENT
BEGIN:VEVENT
DTSTART;TZID=America/New_York:20250630T140000
DTEND;TZID=America/New_York:20250630T160000
DTSTAMP:20260421T211223
CREATED:20240515T031308Z
LAST-MODIFIED:20240515T031806Z
UID:10000070-1751292000-1751299200@www.rockylakesgolf.com
SUMMARY:Brick Tap & Tavern
DESCRIPTION:Tee Times
URL:https://www.rockylakesgolf.com/event/brick-tap-tavern/2025-06-30/
END:VEVENT
BEGIN:VEVENT
DTSTART;TZID=America/New_York:20250701T160000
DTEND;TZID=America/New_York:20250701T170000
DTSTAMP:20260421T211223
CREATED:20240515T031624Z
LAST-MODIFIED:20240515T031624Z
UID:10000592-1751385600-1751389200@www.rockylakesgolf.com
SUMMARY:Hipps
DESCRIPTION:Tee Times
URL:https://www.rockylakesgolf.com/event/hipps/2025-07-01/
END:VEVENT
BEGIN:VEVENT
DTSTART;TZID=America/New_York:20250701T170000
DTEND;TZID=America/New_York:20250701T180000
DTSTAMP:20260421T211223
CREATED:20240515T031506Z
LAST-MODIFIED:20240516T075910Z
UID:10002678-1751389200-1751392800@www.rockylakesgolf.com
SUMMARY:Playmates
DESCRIPTION:Scramble Format
URL:https://www.rockylakesgolf.com/event/playmates/2025-07-01/
END:VEVENT
BEGIN:VEVENT
DTSTART;TZID=America/New_York:20250702T160000
DTEND;TZID=America/New_York:20250702T170000
DTSTAMP:20260421T211223
CREATED:20240515T032155Z
LAST-MODIFIED:20240515T032155Z
UID:10001113-1751472000-1751475600@www.rockylakesgolf.com
SUMMARY:Roger's League
DESCRIPTION:Scramble Format
URL:https://www.rockylakesgolf.com/event/rogers-league/2025-07-02/
END:VEVENT
BEGIN:VEVENT
DTSTART;TZID=America/New_York:20250702T170000
DTEND;TZID=America/New_York:20250702T180000
DTSTAMP:20260421T211223
CREATED:20240515T032501Z
LAST-MODIFIED:20240515T032501Z
UID:10001374-1751475600-1751479200@www.rockylakesgolf.com
SUMMARY:Spark League
DESCRIPTION:Tee Times
URL:https://www.rockylakesgolf.com/event/spark-league/2025-07-02/
END:VEVENT
BEGIN:VEVENT
DTSTART;TZID=America/New_York:20250703T100000
DTEND;TZID=America/New_York:20250703T130000
DTSTAMP:20260421T211223
CREATED:20240515T032621Z
LAST-MODIFIED:20240515T032621Z
UID:10001635-1751536800-1751547600@www.rockylakesgolf.com
SUMMARY:Kuna League
DESCRIPTION:Tee Times
URL:https://www.rockylakesgolf.com/event/kuna-league/2025-07-03/
END:VEVENT
BEGIN:VEVENT
DTSTART;TZID=UTC:20250703T140000
DTEND;TZID=UTC:20250703T170000
DTSTAMP:20260421T211223
CREATED:20240515T032658Z
LAST-MODIFIED:20240515T032658Z
UID:10001896-1751551200-1751562000@www.rockylakesgolf.com
SUMMARY:Guard League
DESCRIPTION:Tee Times
URL:https://www.rockylakesgolf.com/event/guard-league/2025-07-03/
END:VEVENT
BEGIN:VEVENT
DTSTART;TZID=America/New_York:20250703T170000
DTEND;TZID=America/New_York:20250703T200000
DTSTAMP:20260421T211223
CREATED:20240515T032803Z
LAST-MODIFIED:20240515T032803Z
UID:10002157-1751562000-1751572800@www.rockylakesgolf.com
SUMMARY:Average Joe's
DESCRIPTION:Tee Times
URL:https://www.rockylakesgolf.com/event/average-joes/2025-07-03/
END:VEVENT
BEGIN:VEVENT
DTSTART;TZID=America/New_York:20250706T090000
DTEND;TZID=America/New_York:20250706T120000
DTSTAMP:20260421T211223
CREATED:20240515T032857Z
LAST-MODIFIED:20240515T032857Z
UID:10002418-1751792400-1751803200@www.rockylakesgolf.com
SUMMARY:Best Ball
DESCRIPTION:Tee Times
URL:https://www.rockylakesgolf.com/event/best-ball/2025-07-06/
END:VEVENT
BEGIN:VEVENT
DTSTART;TZID=America/New_York:20250707T140000
DTEND;TZID=America/New_York:20250707T160000
DTSTAMP:20260421T211223
CREATED:20240515T031308Z
LAST-MODIFIED:20240515T031806Z
UID:10000071-1751896800-1751904000@www.rockylakesgolf.com
SUMMARY:Brick Tap & Tavern
DESCRIPTION:Tee Times
URL:https://www.rockylakesgolf.com/event/brick-tap-tavern/2025-07-07/
END:VEVENT
BEGIN:VEVENT
DTSTART;TZID=America/New_York:20250708T160000
DTEND;TZID=America/New_York:20250708T170000
DTSTAMP:20260421T211223
CREATED:20240515T031624Z
LAST-MODIFIED:20240515T031624Z
UID:10000593-1751990400-1751994000@www.rockylakesgolf.com
SUMMARY:Hipps
DESCRIPTION:Tee Times
URL:https://www.rockylakesgolf.com/event/hipps/2025-07-08/
END:VEVENT
BEGIN:VEVENT
DTSTART;TZID=America/New_York:20250708T170000
DTEND;TZID=America/New_York:20250708T180000
DTSTAMP:20260421T211223
CREATED:20240515T031506Z
LAST-MODIFIED:20240516T075910Z
UID:10002679-1751994000-1751997600@www.rockylakesgolf.com
SUMMARY:Playmates
DESCRIPTION:Scramble Format
URL:https://www.rockylakesgolf.com/event/playmates/2025-07-08/
END:VEVENT
BEGIN:VEVENT
DTSTART;TZID=America/New_York:20250709T160000
DTEND;TZID=America/New_York:20250709T170000
DTSTAMP:20260421T211223
CREATED:20240515T032155Z
LAST-MODIFIED:20240515T032155Z
UID:10001114-1752076800-1752080400@www.rockylakesgolf.com
SUMMARY:Roger's League
DESCRIPTION:Scramble Format
URL:https://www.rockylakesgolf.com/event/rogers-league/2025-07-09/
END:VEVENT
BEGIN:VEVENT
DTSTART;TZID=America/New_York:20250709T170000
DTEND;TZID=America/New_York:20250709T180000
DTSTAMP:20260421T211223
CREATED:20240515T032501Z
LAST-MODIFIED:20240515T032501Z
UID:10001375-1752080400-1752084000@www.rockylakesgolf.com
SUMMARY:Spark League
DESCRIPTION:Tee Times
URL:https://www.rockylakesgolf.com/event/spark-league/2025-07-09/
END:VEVENT
END:VCALENDAR