BEGIN:VCALENDAR
VERSION:2.0
PRODID:-//Rocky Lakes Golf Course - ECPv6.15.18//NONSGML v1.0//EN
CALSCALE:GREGORIAN
METHOD:PUBLISH
X-WR-CALNAME:Rocky Lakes Golf Course
X-ORIGINAL-URL:https://www.rockylakesgolf.com
X-WR-CALDESC:Events for Rocky Lakes Golf Course
REFRESH-INTERVAL;VALUE=DURATION:PT1H
X-Robots-Tag:noindex
X-PUBLISHED-TTL:PT1H
BEGIN:VTIMEZONE
TZID:UTC
BEGIN:STANDARD
TZOFFSETFROM:+0000
TZOFFSETTO:+0000
TZNAME:UTC
DTSTART:20260101T000000
END:STANDARD
END:VTIMEZONE
BEGIN:VTIMEZONE
TZID:America/New_York
BEGIN:DAYLIGHT
TZOFFSETFROM:-0500
TZOFFSETTO:-0400
TZNAME:EDT
DTSTART:20260308T070000
END:DAYLIGHT
BEGIN:STANDARD
TZOFFSETFROM:-0400
TZOFFSETTO:-0500
TZNAME:EST
DTSTART:20261101T060000
END:STANDARD
BEGIN:DAYLIGHT
TZOFFSETFROM:-0500
TZOFFSETTO:-0400
TZNAME:EDT
DTSTART:20270314T070000
END:DAYLIGHT
BEGIN:STANDARD
TZOFFSETFROM:-0400
TZOFFSETTO:-0500
TZNAME:EST
DTSTART:20271107T060000
END:STANDARD
BEGIN:DAYLIGHT
TZOFFSETFROM:-0500
TZOFFSETTO:-0400
TZNAME:EDT
DTSTART:20280312T070000
END:DAYLIGHT
BEGIN:STANDARD
TZOFFSETFROM:-0400
TZOFFSETTO:-0500
TZNAME:EST
DTSTART:20281105T060000
END:STANDARD
BEGIN:DAYLIGHT
TZOFFSETFROM:-0500
TZOFFSETTO:-0400
TZNAME:EDT
DTSTART:20290311T070000
END:DAYLIGHT
BEGIN:STANDARD
TZOFFSETFROM:-0400
TZOFFSETTO:-0500
TZNAME:EST
DTSTART:20291104T060000
END:STANDARD
END:VTIMEZONE
BEGIN:VEVENT
DTSTART;TZID=UTC:20271216T140000
DTEND;TZID=UTC:20271216T170000
DTSTAMP:20260422T121759
CREATED:20240515T032658Z
LAST-MODIFIED:20240515T032658Z
UID:10002024-1828965600-1828976400@www.rockylakesgolf.com
SUMMARY:Guard League
DESCRIPTION:Tee Times
URL:https://www.rockylakesgolf.com/event/guard-league/2027-12-16/
END:VEVENT
BEGIN:VEVENT
DTSTART;TZID=America/New_York:20271216T170000
DTEND;TZID=America/New_York:20271216T200000
DTSTAMP:20260422T121759
CREATED:20240515T032803Z
LAST-MODIFIED:20240515T032803Z
UID:10002285-1828976400-1828987200@www.rockylakesgolf.com
SUMMARY:Average Joe's
DESCRIPTION:Tee Times
URL:https://www.rockylakesgolf.com/event/average-joes/2027-12-16/
END:VEVENT
BEGIN:VEVENT
DTSTART;TZID=America/New_York:20271219T090000
DTEND;TZID=America/New_York:20271219T120000
DTSTAMP:20260422T121759
CREATED:20240515T032857Z
LAST-MODIFIED:20240515T032857Z
UID:10002546-1829206800-1829217600@www.rockylakesgolf.com
SUMMARY:Best Ball
DESCRIPTION:Tee Times
URL:https://www.rockylakesgolf.com/event/best-ball/2027-12-19/
END:VEVENT
BEGIN:VEVENT
DTSTART;TZID=America/New_York:20271220T140000
DTEND;TZID=America/New_York:20271220T160000
DTSTAMP:20260422T121759
CREATED:20240515T031308Z
LAST-MODIFIED:20240515T031806Z
UID:10000199-1829311200-1829318400@www.rockylakesgolf.com
SUMMARY:Brick Tap & Tavern
DESCRIPTION:Tee Times
URL:https://www.rockylakesgolf.com/event/brick-tap-tavern/2027-12-20/
END:VEVENT
BEGIN:VEVENT
DTSTART;TZID=America/New_York:20271221T160000
DTEND;TZID=America/New_York:20271221T170000
DTSTAMP:20260422T121759
CREATED:20240515T031624Z
LAST-MODIFIED:20240515T031624Z
UID:10000721-1829404800-1829408400@www.rockylakesgolf.com
SUMMARY:Hipps
DESCRIPTION:Tee Times
URL:https://www.rockylakesgolf.com/event/hipps/2027-12-21/
END:VEVENT
BEGIN:VEVENT
DTSTART;TZID=America/New_York:20271221T170000
DTEND;TZID=America/New_York:20271221T180000
DTSTAMP:20260422T121759
CREATED:20240515T031506Z
LAST-MODIFIED:20240516T075910Z
UID:10002807-1829408400-1829412000@www.rockylakesgolf.com
SUMMARY:Playmates
DESCRIPTION:Scramble Format
URL:https://www.rockylakesgolf.com/event/playmates/2027-12-21/
END:VEVENT
BEGIN:VEVENT
DTSTART;TZID=America/New_York:20271222T160000
DTEND;TZID=America/New_York:20271222T170000
DTSTAMP:20260422T121759
CREATED:20240515T032155Z
LAST-MODIFIED:20240515T032155Z
UID:10001242-1829491200-1829494800@www.rockylakesgolf.com
SUMMARY:Roger's League
DESCRIPTION:Scramble Format
URL:https://www.rockylakesgolf.com/event/rogers-league/2027-12-22/
END:VEVENT
BEGIN:VEVENT
DTSTART;TZID=America/New_York:20271222T170000
DTEND;TZID=America/New_York:20271222T180000
DTSTAMP:20260422T121759
CREATED:20240515T032501Z
LAST-MODIFIED:20240515T032501Z
UID:10001503-1829494800-1829498400@www.rockylakesgolf.com
SUMMARY:Spark League
DESCRIPTION:Tee Times
URL:https://www.rockylakesgolf.com/event/spark-league/2027-12-22/
END:VEVENT
BEGIN:VEVENT
DTSTART;TZID=America/New_York:20271223T100000
DTEND;TZID=America/New_York:20271223T130000
DTSTAMP:20260422T121759
CREATED:20240515T032621Z
LAST-MODIFIED:20240515T032621Z
UID:10001764-1829556000-1829566800@www.rockylakesgolf.com
SUMMARY:Kuna League
DESCRIPTION:Tee Times
URL:https://www.rockylakesgolf.com/event/kuna-league/2027-12-23/
END:VEVENT
BEGIN:VEVENT
DTSTART;TZID=UTC:20271223T140000
DTEND;TZID=UTC:20271223T170000
DTSTAMP:20260422T121759
CREATED:20240515T032658Z
LAST-MODIFIED:20240515T032658Z
UID:10002025-1829570400-1829581200@www.rockylakesgolf.com
SUMMARY:Guard League
DESCRIPTION:Tee Times
URL:https://www.rockylakesgolf.com/event/guard-league/2027-12-23/
END:VEVENT
BEGIN:VEVENT
DTSTART;TZID=America/New_York:20271223T170000
DTEND;TZID=America/New_York:20271223T200000
DTSTAMP:20260422T121759
CREATED:20240515T032803Z
LAST-MODIFIED:20240515T032803Z
UID:10002286-1829581200-1829592000@www.rockylakesgolf.com
SUMMARY:Average Joe's
DESCRIPTION:Tee Times
URL:https://www.rockylakesgolf.com/event/average-joes/2027-12-23/
END:VEVENT
BEGIN:VEVENT
DTSTART;TZID=America/New_York:20271226T090000
DTEND;TZID=America/New_York:20271226T120000
DTSTAMP:20260422T121759
CREATED:20240515T032857Z
LAST-MODIFIED:20240515T032857Z
UID:10002547-1829811600-1829822400@www.rockylakesgolf.com
SUMMARY:Best Ball
DESCRIPTION:Tee Times
URL:https://www.rockylakesgolf.com/event/best-ball/2027-12-26/
END:VEVENT
BEGIN:VEVENT
DTSTART;TZID=America/New_York:20271227T140000
DTEND;TZID=America/New_York:20271227T160000
DTSTAMP:20260422T121759
CREATED:20240515T031308Z
LAST-MODIFIED:20240515T031806Z
UID:10000200-1829916000-1829923200@www.rockylakesgolf.com
SUMMARY:Brick Tap & Tavern
DESCRIPTION:Tee Times
URL:https://www.rockylakesgolf.com/event/brick-tap-tavern/2027-12-27/
END:VEVENT
BEGIN:VEVENT
DTSTART;TZID=America/New_York:20271228T160000
DTEND;TZID=America/New_York:20271228T170000
DTSTAMP:20260422T121759
CREATED:20240515T031624Z
LAST-MODIFIED:20240515T031624Z
UID:10000722-1830009600-1830013200@www.rockylakesgolf.com
SUMMARY:Hipps
DESCRIPTION:Tee Times
URL:https://www.rockylakesgolf.com/event/hipps/2027-12-28/
END:VEVENT
BEGIN:VEVENT
DTSTART;TZID=America/New_York:20271228T170000
DTEND;TZID=America/New_York:20271228T180000
DTSTAMP:20260422T121759
CREATED:20240515T031506Z
LAST-MODIFIED:20240516T075910Z
UID:10002808-1830013200-1830016800@www.rockylakesgolf.com
SUMMARY:Playmates
DESCRIPTION:Scramble Format
URL:https://www.rockylakesgolf.com/event/playmates/2027-12-28/
END:VEVENT
BEGIN:VEVENT
DTSTART;TZID=America/New_York:20271229T160000
DTEND;TZID=America/New_York:20271229T170000
DTSTAMP:20260422T121759
CREATED:20240515T032155Z
LAST-MODIFIED:20240515T032155Z
UID:10001243-1830096000-1830099600@www.rockylakesgolf.com
SUMMARY:Roger's League
DESCRIPTION:Scramble Format
URL:https://www.rockylakesgolf.com/event/rogers-league/2027-12-29/
END:VEVENT
BEGIN:VEVENT
DTSTART;TZID=America/New_York:20271229T170000
DTEND;TZID=America/New_York:20271229T180000
DTSTAMP:20260422T121759
CREATED:20240515T032501Z
LAST-MODIFIED:20240515T032501Z
UID:10001504-1830099600-1830103200@www.rockylakesgolf.com
SUMMARY:Spark League
DESCRIPTION:Tee Times
URL:https://www.rockylakesgolf.com/event/spark-league/2027-12-29/
END:VEVENT
BEGIN:VEVENT
DTSTART;TZID=America/New_York:20271230T100000
DTEND;TZID=America/New_York:20271230T130000
DTSTAMP:20260422T121759
CREATED:20240515T032621Z
LAST-MODIFIED:20240515T032621Z
UID:10001765-1830160800-1830171600@www.rockylakesgolf.com
SUMMARY:Kuna League
DESCRIPTION:Tee Times
URL:https://www.rockylakesgolf.com/event/kuna-league/2027-12-30/
END:VEVENT
BEGIN:VEVENT
DTSTART;TZID=UTC:20271230T140000
DTEND;TZID=UTC:20271230T170000
DTSTAMP:20260422T121759
CREATED:20240515T032658Z
LAST-MODIFIED:20240515T032658Z
UID:10002026-1830175200-1830186000@www.rockylakesgolf.com
SUMMARY:Guard League
DESCRIPTION:Tee Times
URL:https://www.rockylakesgolf.com/event/guard-league/2027-12-30/
END:VEVENT
BEGIN:VEVENT
DTSTART;TZID=America/New_York:20271230T170000
DTEND;TZID=America/New_York:20271230T200000
DTSTAMP:20260422T121759
CREATED:20240515T032803Z
LAST-MODIFIED:20240515T032803Z
UID:10002287-1830186000-1830196800@www.rockylakesgolf.com
SUMMARY:Average Joe's
DESCRIPTION:Tee Times
URL:https://www.rockylakesgolf.com/event/average-joes/2027-12-30/
END:VEVENT
BEGIN:VEVENT
DTSTART;TZID=America/New_York:20280102T090000
DTEND;TZID=America/New_York:20280102T120000
DTSTAMP:20260422T121759
CREATED:20240515T032857Z
LAST-MODIFIED:20240515T032857Z
UID:10002548-1830416400-1830427200@www.rockylakesgolf.com
SUMMARY:Best Ball
DESCRIPTION:Tee Times
URL:https://www.rockylakesgolf.com/event/best-ball/2028-01-02/
END:VEVENT
BEGIN:VEVENT
DTSTART;TZID=America/New_York:20280103T140000
DTEND;TZID=America/New_York:20280103T160000
DTSTAMP:20260422T121759
CREATED:20240515T031308Z
LAST-MODIFIED:20240515T031806Z
UID:10000201-1830520800-1830528000@www.rockylakesgolf.com
SUMMARY:Brick Tap & Tavern
DESCRIPTION:Tee Times
URL:https://www.rockylakesgolf.com/event/brick-tap-tavern/2028-01-03/
END:VEVENT
BEGIN:VEVENT
DTSTART;TZID=America/New_York:20280104T160000
DTEND;TZID=America/New_York:20280104T170000
DTSTAMP:20260422T121759
CREATED:20240515T031624Z
LAST-MODIFIED:20240515T031624Z
UID:10000723-1830614400-1830618000@www.rockylakesgolf.com
SUMMARY:Hipps
DESCRIPTION:Tee Times
URL:https://www.rockylakesgolf.com/event/hipps/2028-01-04/
END:VEVENT
BEGIN:VEVENT
DTSTART;TZID=America/New_York:20280104T170000
DTEND;TZID=America/New_York:20280104T180000
DTSTAMP:20260422T121759
CREATED:20240515T031506Z
LAST-MODIFIED:20240516T075910Z
UID:10002809-1830618000-1830621600@www.rockylakesgolf.com
SUMMARY:Playmates
DESCRIPTION:Scramble Format
URL:https://www.rockylakesgolf.com/event/playmates/2028-01-04/
END:VEVENT
BEGIN:VEVENT
DTSTART;TZID=America/New_York:20280105T160000
DTEND;TZID=America/New_York:20280105T170000
DTSTAMP:20260422T121759
CREATED:20240515T032155Z
LAST-MODIFIED:20240515T032155Z
UID:10001244-1830700800-1830704400@www.rockylakesgolf.com
SUMMARY:Roger's League
DESCRIPTION:Scramble Format
URL:https://www.rockylakesgolf.com/event/rogers-league/2028-01-05/
END:VEVENT
BEGIN:VEVENT
DTSTART;TZID=America/New_York:20280105T170000
DTEND;TZID=America/New_York:20280105T180000
DTSTAMP:20260422T121759
CREATED:20240515T032501Z
LAST-MODIFIED:20240515T032501Z
UID:10001505-1830704400-1830708000@www.rockylakesgolf.com
SUMMARY:Spark League
DESCRIPTION:Tee Times
URL:https://www.rockylakesgolf.com/event/spark-league/2028-01-05/
END:VEVENT
BEGIN:VEVENT
DTSTART;TZID=America/New_York:20280106T100000
DTEND;TZID=America/New_York:20280106T130000
DTSTAMP:20260422T121759
CREATED:20240515T032621Z
LAST-MODIFIED:20240515T032621Z
UID:10001766-1830765600-1830776400@www.rockylakesgolf.com
SUMMARY:Kuna League
DESCRIPTION:Tee Times
URL:https://www.rockylakesgolf.com/event/kuna-league/2028-01-06/
END:VEVENT
BEGIN:VEVENT
DTSTART;TZID=UTC:20280106T140000
DTEND;TZID=UTC:20280106T170000
DTSTAMP:20260422T121759
CREATED:20240515T032658Z
LAST-MODIFIED:20240515T032658Z
UID:10002027-1830780000-1830790800@www.rockylakesgolf.com
SUMMARY:Guard League
DESCRIPTION:Tee Times
URL:https://www.rockylakesgolf.com/event/guard-league/2028-01-06/
END:VEVENT
BEGIN:VEVENT
DTSTART;TZID=America/New_York:20280106T170000
DTEND;TZID=America/New_York:20280106T200000
DTSTAMP:20260422T121759
CREATED:20240515T032803Z
LAST-MODIFIED:20240515T032803Z
UID:10002288-1830790800-1830801600@www.rockylakesgolf.com
SUMMARY:Average Joe's
DESCRIPTION:Tee Times
URL:https://www.rockylakesgolf.com/event/average-joes/2028-01-06/
END:VEVENT
BEGIN:VEVENT
DTSTART;TZID=America/New_York:20280109T090000
DTEND;TZID=America/New_York:20280109T120000
DTSTAMP:20260422T121759
CREATED:20240515T032857Z
LAST-MODIFIED:20240515T032857Z
UID:10002549-1831021200-1831032000@www.rockylakesgolf.com
SUMMARY:Best Ball
DESCRIPTION:Tee Times
URL:https://www.rockylakesgolf.com/event/best-ball/2028-01-09/
END:VEVENT
END:VCALENDAR