BEGIN:VCALENDAR
VERSION:2.0
PRODID:-//Rocky Lakes Golf Course - ECPv6.15.18//NONSGML v1.0//EN
CALSCALE:GREGORIAN
METHOD:PUBLISH
X-WR-CALNAME:Rocky Lakes Golf Course
X-ORIGINAL-URL:https://www.rockylakesgolf.com
X-WR-CALDESC:Events for Rocky Lakes Golf Course
REFRESH-INTERVAL;VALUE=DURATION:PT1H
X-Robots-Tag:noindex
X-PUBLISHED-TTL:PT1H
BEGIN:VTIMEZONE
TZID:America/New_York
BEGIN:DAYLIGHT
TZOFFSETFROM:-0500
TZOFFSETTO:-0400
TZNAME:EDT
DTSTART:20260308T070000
END:DAYLIGHT
BEGIN:STANDARD
TZOFFSETFROM:-0400
TZOFFSETTO:-0500
TZNAME:EST
DTSTART:20261101T060000
END:STANDARD
BEGIN:DAYLIGHT
TZOFFSETFROM:-0500
TZOFFSETTO:-0400
TZNAME:EDT
DTSTART:20270314T070000
END:DAYLIGHT
BEGIN:STANDARD
TZOFFSETFROM:-0400
TZOFFSETTO:-0500
TZNAME:EST
DTSTART:20271107T060000
END:STANDARD
BEGIN:DAYLIGHT
TZOFFSETFROM:-0500
TZOFFSETTO:-0400
TZNAME:EDT
DTSTART:20280312T070000
END:DAYLIGHT
BEGIN:STANDARD
TZOFFSETFROM:-0400
TZOFFSETTO:-0500
TZNAME:EST
DTSTART:20281105T060000
END:STANDARD
END:VTIMEZONE
BEGIN:VTIMEZONE
TZID:UTC
BEGIN:STANDARD
TZOFFSETFROM:+0000
TZOFFSETTO:+0000
TZNAME:UTC
DTSTART:20260101T000000
END:STANDARD
END:VTIMEZONE
BEGIN:VEVENT
DTSTART;TZID=America/New_York:20271011T140000
DTEND;TZID=America/New_York:20271011T160000
DTSTAMP:20260423T070528
CREATED:20240515T031308Z
LAST-MODIFIED:20240515T031806Z
UID:10000189-1823263200-1823270400@www.rockylakesgolf.com
SUMMARY:Brick Tap & Tavern
DESCRIPTION:Tee Times
URL:https://www.rockylakesgolf.com/event/brick-tap-tavern/2027-10-11/
END:VEVENT
BEGIN:VEVENT
DTSTART;TZID=America/New_York:20271012T160000
DTEND;TZID=America/New_York:20271012T170000
DTSTAMP:20260423T070528
CREATED:20240515T031624Z
LAST-MODIFIED:20240515T031624Z
UID:10000711-1823356800-1823360400@www.rockylakesgolf.com
SUMMARY:Hipps
DESCRIPTION:Tee Times
URL:https://www.rockylakesgolf.com/event/hipps/2027-10-12/
END:VEVENT
BEGIN:VEVENT
DTSTART;TZID=America/New_York:20271012T170000
DTEND;TZID=America/New_York:20271012T180000
DTSTAMP:20260423T070528
CREATED:20240515T031506Z
LAST-MODIFIED:20240516T075910Z
UID:10002797-1823360400-1823364000@www.rockylakesgolf.com
SUMMARY:Playmates
DESCRIPTION:Scramble Format
URL:https://www.rockylakesgolf.com/event/playmates/2027-10-12/
END:VEVENT
BEGIN:VEVENT
DTSTART;TZID=America/New_York:20271013T160000
DTEND;TZID=America/New_York:20271013T170000
DTSTAMP:20260423T070528
CREATED:20240515T032155Z
LAST-MODIFIED:20240515T032155Z
UID:10001232-1823443200-1823446800@www.rockylakesgolf.com
SUMMARY:Roger's League
DESCRIPTION:Scramble Format
URL:https://www.rockylakesgolf.com/event/rogers-league/2027-10-13/
END:VEVENT
BEGIN:VEVENT
DTSTART;TZID=America/New_York:20271013T170000
DTEND;TZID=America/New_York:20271013T180000
DTSTAMP:20260423T070528
CREATED:20240515T032501Z
LAST-MODIFIED:20240515T032501Z
UID:10001493-1823446800-1823450400@www.rockylakesgolf.com
SUMMARY:Spark League
DESCRIPTION:Tee Times
URL:https://www.rockylakesgolf.com/event/spark-league/2027-10-13/
END:VEVENT
BEGIN:VEVENT
DTSTART;TZID=America/New_York:20271014T100000
DTEND;TZID=America/New_York:20271014T130000
DTSTAMP:20260423T070528
CREATED:20240515T032621Z
LAST-MODIFIED:20240515T032621Z
UID:10001754-1823508000-1823518800@www.rockylakesgolf.com
SUMMARY:Kuna League
DESCRIPTION:Tee Times
URL:https://www.rockylakesgolf.com/event/kuna-league/2027-10-14/
END:VEVENT
BEGIN:VEVENT
DTSTART;TZID=UTC:20271014T140000
DTEND;TZID=UTC:20271014T170000
DTSTAMP:20260423T070528
CREATED:20240515T032658Z
LAST-MODIFIED:20240515T032658Z
UID:10002015-1823522400-1823533200@www.rockylakesgolf.com
SUMMARY:Guard League
DESCRIPTION:Tee Times
URL:https://www.rockylakesgolf.com/event/guard-league/2027-10-14/
END:VEVENT
BEGIN:VEVENT
DTSTART;TZID=America/New_York:20271014T170000
DTEND;TZID=America/New_York:20271014T200000
DTSTAMP:20260423T070528
CREATED:20240515T032803Z
LAST-MODIFIED:20240515T032803Z
UID:10002276-1823533200-1823544000@www.rockylakesgolf.com
SUMMARY:Average Joe's
DESCRIPTION:Tee Times
URL:https://www.rockylakesgolf.com/event/average-joes/2027-10-14/
END:VEVENT
BEGIN:VEVENT
DTSTART;TZID=America/New_York:20271017T090000
DTEND;TZID=America/New_York:20271017T120000
DTSTAMP:20260423T070528
CREATED:20240515T032857Z
LAST-MODIFIED:20240515T032857Z
UID:10002537-1823763600-1823774400@www.rockylakesgolf.com
SUMMARY:Best Ball
DESCRIPTION:Tee Times
URL:https://www.rockylakesgolf.com/event/best-ball/2027-10-17/
END:VEVENT
BEGIN:VEVENT
DTSTART;TZID=America/New_York:20271018T140000
DTEND;TZID=America/New_York:20271018T160000
DTSTAMP:20260423T070528
CREATED:20240515T031308Z
LAST-MODIFIED:20240515T031806Z
UID:10000190-1823868000-1823875200@www.rockylakesgolf.com
SUMMARY:Brick Tap & Tavern
DESCRIPTION:Tee Times
URL:https://www.rockylakesgolf.com/event/brick-tap-tavern/2027-10-18/
END:VEVENT
BEGIN:VEVENT
DTSTART;TZID=America/New_York:20271019T160000
DTEND;TZID=America/New_York:20271019T170000
DTSTAMP:20260423T070528
CREATED:20240515T031624Z
LAST-MODIFIED:20240515T031624Z
UID:10000712-1823961600-1823965200@www.rockylakesgolf.com
SUMMARY:Hipps
DESCRIPTION:Tee Times
URL:https://www.rockylakesgolf.com/event/hipps/2027-10-19/
END:VEVENT
BEGIN:VEVENT
DTSTART;TZID=America/New_York:20271019T170000
DTEND;TZID=America/New_York:20271019T180000
DTSTAMP:20260423T070528
CREATED:20240515T031506Z
LAST-MODIFIED:20240516T075910Z
UID:10002798-1823965200-1823968800@www.rockylakesgolf.com
SUMMARY:Playmates
DESCRIPTION:Scramble Format
URL:https://www.rockylakesgolf.com/event/playmates/2027-10-19/
END:VEVENT
BEGIN:VEVENT
DTSTART;TZID=America/New_York:20271020T160000
DTEND;TZID=America/New_York:20271020T170000
DTSTAMP:20260423T070528
CREATED:20240515T032155Z
LAST-MODIFIED:20240515T032155Z
UID:10001233-1824048000-1824051600@www.rockylakesgolf.com
SUMMARY:Roger's League
DESCRIPTION:Scramble Format
URL:https://www.rockylakesgolf.com/event/rogers-league/2027-10-20/
END:VEVENT
BEGIN:VEVENT
DTSTART;TZID=America/New_York:20271020T170000
DTEND;TZID=America/New_York:20271020T180000
DTSTAMP:20260423T070528
CREATED:20240515T032501Z
LAST-MODIFIED:20240515T032501Z
UID:10001494-1824051600-1824055200@www.rockylakesgolf.com
SUMMARY:Spark League
DESCRIPTION:Tee Times
URL:https://www.rockylakesgolf.com/event/spark-league/2027-10-20/
END:VEVENT
BEGIN:VEVENT
DTSTART;TZID=America/New_York:20271021T100000
DTEND;TZID=America/New_York:20271021T130000
DTSTAMP:20260423T070528
CREATED:20240515T032621Z
LAST-MODIFIED:20240515T032621Z
UID:10001755-1824112800-1824123600@www.rockylakesgolf.com
SUMMARY:Kuna League
DESCRIPTION:Tee Times
URL:https://www.rockylakesgolf.com/event/kuna-league/2027-10-21/
END:VEVENT
BEGIN:VEVENT
DTSTART;TZID=UTC:20271021T140000
DTEND;TZID=UTC:20271021T170000
DTSTAMP:20260423T070528
CREATED:20240515T032658Z
LAST-MODIFIED:20240515T032658Z
UID:10002016-1824127200-1824138000@www.rockylakesgolf.com
SUMMARY:Guard League
DESCRIPTION:Tee Times
URL:https://www.rockylakesgolf.com/event/guard-league/2027-10-21/
END:VEVENT
BEGIN:VEVENT
DTSTART;TZID=America/New_York:20271021T170000
DTEND;TZID=America/New_York:20271021T200000
DTSTAMP:20260423T070528
CREATED:20240515T032803Z
LAST-MODIFIED:20240515T032803Z
UID:10002277-1824138000-1824148800@www.rockylakesgolf.com
SUMMARY:Average Joe's
DESCRIPTION:Tee Times
URL:https://www.rockylakesgolf.com/event/average-joes/2027-10-21/
END:VEVENT
BEGIN:VEVENT
DTSTART;TZID=America/New_York:20271024T090000
DTEND;TZID=America/New_York:20271024T120000
DTSTAMP:20260423T070528
CREATED:20240515T032857Z
LAST-MODIFIED:20240515T032857Z
UID:10002538-1824368400-1824379200@www.rockylakesgolf.com
SUMMARY:Best Ball
DESCRIPTION:Tee Times
URL:https://www.rockylakesgolf.com/event/best-ball/2027-10-24/
END:VEVENT
BEGIN:VEVENT
DTSTART;TZID=America/New_York:20271025T140000
DTEND;TZID=America/New_York:20271025T160000
DTSTAMP:20260423T070528
CREATED:20240515T031308Z
LAST-MODIFIED:20240515T031806Z
UID:10000191-1824472800-1824480000@www.rockylakesgolf.com
SUMMARY:Brick Tap & Tavern
DESCRIPTION:Tee Times
URL:https://www.rockylakesgolf.com/event/brick-tap-tavern/2027-10-25/
END:VEVENT
BEGIN:VEVENT
DTSTART;TZID=America/New_York:20271026T160000
DTEND;TZID=America/New_York:20271026T170000
DTSTAMP:20260423T070528
CREATED:20240515T031624Z
LAST-MODIFIED:20240515T031624Z
UID:10000713-1824566400-1824570000@www.rockylakesgolf.com
SUMMARY:Hipps
DESCRIPTION:Tee Times
URL:https://www.rockylakesgolf.com/event/hipps/2027-10-26/
END:VEVENT
BEGIN:VEVENT
DTSTART;TZID=America/New_York:20271026T170000
DTEND;TZID=America/New_York:20271026T180000
DTSTAMP:20260423T070528
CREATED:20240515T031506Z
LAST-MODIFIED:20240516T075910Z
UID:10002799-1824570000-1824573600@www.rockylakesgolf.com
SUMMARY:Playmates
DESCRIPTION:Scramble Format
URL:https://www.rockylakesgolf.com/event/playmates/2027-10-26/
END:VEVENT
BEGIN:VEVENT
DTSTART;TZID=America/New_York:20271027T160000
DTEND;TZID=America/New_York:20271027T170000
DTSTAMP:20260423T070528
CREATED:20240515T032155Z
LAST-MODIFIED:20240515T032155Z
UID:10001234-1824652800-1824656400@www.rockylakesgolf.com
SUMMARY:Roger's League
DESCRIPTION:Scramble Format
URL:https://www.rockylakesgolf.com/event/rogers-league/2027-10-27/
END:VEVENT
BEGIN:VEVENT
DTSTART;TZID=America/New_York:20271027T170000
DTEND;TZID=America/New_York:20271027T180000
DTSTAMP:20260423T070528
CREATED:20240515T032501Z
LAST-MODIFIED:20240515T032501Z
UID:10001495-1824656400-1824660000@www.rockylakesgolf.com
SUMMARY:Spark League
DESCRIPTION:Tee Times
URL:https://www.rockylakesgolf.com/event/spark-league/2027-10-27/
END:VEVENT
BEGIN:VEVENT
DTSTART;TZID=America/New_York:20271028T100000
DTEND;TZID=America/New_York:20271028T130000
DTSTAMP:20260423T070528
CREATED:20240515T032621Z
LAST-MODIFIED:20240515T032621Z
UID:10001756-1824717600-1824728400@www.rockylakesgolf.com
SUMMARY:Kuna League
DESCRIPTION:Tee Times
URL:https://www.rockylakesgolf.com/event/kuna-league/2027-10-28/
END:VEVENT
BEGIN:VEVENT
DTSTART;TZID=UTC:20271028T140000
DTEND;TZID=UTC:20271028T170000
DTSTAMP:20260423T070528
CREATED:20240515T032658Z
LAST-MODIFIED:20240515T032658Z
UID:10002017-1824732000-1824742800@www.rockylakesgolf.com
SUMMARY:Guard League
DESCRIPTION:Tee Times
URL:https://www.rockylakesgolf.com/event/guard-league/2027-10-28/
END:VEVENT
BEGIN:VEVENT
DTSTART;TZID=America/New_York:20271028T170000
DTEND;TZID=America/New_York:20271028T200000
DTSTAMP:20260423T070528
CREATED:20240515T032803Z
LAST-MODIFIED:20240515T032803Z
UID:10002278-1824742800-1824753600@www.rockylakesgolf.com
SUMMARY:Average Joe's
DESCRIPTION:Tee Times
URL:https://www.rockylakesgolf.com/event/average-joes/2027-10-28/
END:VEVENT
BEGIN:VEVENT
DTSTART;TZID=America/New_York:20271031T090000
DTEND;TZID=America/New_York:20271031T120000
DTSTAMP:20260423T070528
CREATED:20240515T032857Z
LAST-MODIFIED:20240515T032857Z
UID:10002539-1824973200-1824984000@www.rockylakesgolf.com
SUMMARY:Best Ball
DESCRIPTION:Tee Times
URL:https://www.rockylakesgolf.com/event/best-ball/2027-10-31/
END:VEVENT
BEGIN:VEVENT
DTSTART;TZID=America/New_York:20271101T140000
DTEND;TZID=America/New_York:20271101T160000
DTSTAMP:20260423T070528
CREATED:20240515T031308Z
LAST-MODIFIED:20240515T031806Z
UID:10000192-1825077600-1825084800@www.rockylakesgolf.com
SUMMARY:Brick Tap & Tavern
DESCRIPTION:Tee Times
URL:https://www.rockylakesgolf.com/event/brick-tap-tavern/2027-11-01/
END:VEVENT
BEGIN:VEVENT
DTSTART;TZID=America/New_York:20271102T160000
DTEND;TZID=America/New_York:20271102T170000
DTSTAMP:20260423T070528
CREATED:20240515T031624Z
LAST-MODIFIED:20240515T031624Z
UID:10000714-1825171200-1825174800@www.rockylakesgolf.com
SUMMARY:Hipps
DESCRIPTION:Tee Times
URL:https://www.rockylakesgolf.com/event/hipps/2027-11-02/
END:VEVENT
BEGIN:VEVENT
DTSTART;TZID=America/New_York:20271102T170000
DTEND;TZID=America/New_York:20271102T180000
DTSTAMP:20260423T070528
CREATED:20240515T031506Z
LAST-MODIFIED:20240516T075910Z
UID:10002800-1825174800-1825178400@www.rockylakesgolf.com
SUMMARY:Playmates
DESCRIPTION:Scramble Format
URL:https://www.rockylakesgolf.com/event/playmates/2027-11-02/
END:VEVENT
END:VCALENDAR