BEGIN:VCALENDAR
VERSION:2.0
PRODID:-//Rocky Lakes Golf Course - ECPv6.15.18//NONSGML v1.0//EN
CALSCALE:GREGORIAN
METHOD:PUBLISH
X-WR-CALNAME:Rocky Lakes Golf Course
X-ORIGINAL-URL:https://www.rockylakesgolf.com
X-WR-CALDESC:Events for Rocky Lakes Golf Course
REFRESH-INTERVAL;VALUE=DURATION:PT1H
X-Robots-Tag:noindex
X-PUBLISHED-TTL:PT1H
BEGIN:VTIMEZONE
TZID:America/New_York
BEGIN:DAYLIGHT
TZOFFSETFROM:-0500
TZOFFSETTO:-0400
TZNAME:EDT
DTSTART:20240310T070000
END:DAYLIGHT
BEGIN:STANDARD
TZOFFSETFROM:-0400
TZOFFSETTO:-0500
TZNAME:EST
DTSTART:20241103T060000
END:STANDARD
BEGIN:DAYLIGHT
TZOFFSETFROM:-0500
TZOFFSETTO:-0400
TZNAME:EDT
DTSTART:20250309T070000
END:DAYLIGHT
BEGIN:STANDARD
TZOFFSETFROM:-0400
TZOFFSETTO:-0500
TZNAME:EST
DTSTART:20251102T060000
END:STANDARD
BEGIN:DAYLIGHT
TZOFFSETFROM:-0500
TZOFFSETTO:-0400
TZNAME:EDT
DTSTART:20260308T070000
END:DAYLIGHT
BEGIN:STANDARD
TZOFFSETFROM:-0400
TZOFFSETTO:-0500
TZNAME:EST
DTSTART:20261101T060000
END:STANDARD
END:VTIMEZONE
BEGIN:VTIMEZONE
TZID:UTC
BEGIN:STANDARD
TZOFFSETFROM:+0000
TZOFFSETTO:+0000
TZNAME:UTC
DTSTART:20240101T000000
END:STANDARD
END:VTIMEZONE
BEGIN:VEVENT
DTSTART;TZID=America/New_York:20250915T140000
DTEND;TZID=America/New_York:20250915T160000
DTSTAMP:20260420T043503
CREATED:20240515T031308Z
LAST-MODIFIED:20240515T031806Z
UID:10000081-1757944800-1757952000@www.rockylakesgolf.com
SUMMARY:Brick Tap & Tavern
DESCRIPTION:Tee Times
URL:https://www.rockylakesgolf.com/event/brick-tap-tavern/2025-09-15/
END:VEVENT
BEGIN:VEVENT
DTSTART;TZID=America/New_York:20250916T160000
DTEND;TZID=America/New_York:20250916T170000
DTSTAMP:20260420T043503
CREATED:20240515T031624Z
LAST-MODIFIED:20240515T031624Z
UID:10000603-1758038400-1758042000@www.rockylakesgolf.com
SUMMARY:Hipps
DESCRIPTION:Tee Times
URL:https://www.rockylakesgolf.com/event/hipps/2025-09-16/
END:VEVENT
BEGIN:VEVENT
DTSTART;TZID=America/New_York:20250916T170000
DTEND;TZID=America/New_York:20250916T180000
DTSTAMP:20260420T043503
CREATED:20240515T031506Z
LAST-MODIFIED:20240516T075910Z
UID:10002689-1758042000-1758045600@www.rockylakesgolf.com
SUMMARY:Playmates
DESCRIPTION:Scramble Format
URL:https://www.rockylakesgolf.com/event/playmates/2025-09-16/
END:VEVENT
BEGIN:VEVENT
DTSTART;TZID=America/New_York:20250917T160000
DTEND;TZID=America/New_York:20250917T170000
DTSTAMP:20260420T043503
CREATED:20240515T032155Z
LAST-MODIFIED:20240515T032155Z
UID:10001124-1758124800-1758128400@www.rockylakesgolf.com
SUMMARY:Roger's League
DESCRIPTION:Scramble Format
URL:https://www.rockylakesgolf.com/event/rogers-league/2025-09-17/
END:VEVENT
BEGIN:VEVENT
DTSTART;TZID=America/New_York:20250917T170000
DTEND;TZID=America/New_York:20250917T180000
DTSTAMP:20260420T043503
CREATED:20240515T032501Z
LAST-MODIFIED:20240515T032501Z
UID:10001385-1758128400-1758132000@www.rockylakesgolf.com
SUMMARY:Spark League
DESCRIPTION:Tee Times
URL:https://www.rockylakesgolf.com/event/spark-league/2025-09-17/
END:VEVENT
BEGIN:VEVENT
DTSTART;TZID=America/New_York:20250918T100000
DTEND;TZID=America/New_York:20250918T130000
DTSTAMP:20260420T043503
CREATED:20240515T032621Z
LAST-MODIFIED:20240515T032621Z
UID:10001646-1758189600-1758200400@www.rockylakesgolf.com
SUMMARY:Kuna League
DESCRIPTION:Tee Times
URL:https://www.rockylakesgolf.com/event/kuna-league/2025-09-18/
END:VEVENT
BEGIN:VEVENT
DTSTART;TZID=UTC:20250918T140000
DTEND;TZID=UTC:20250918T170000
DTSTAMP:20260420T043503
CREATED:20240515T032658Z
LAST-MODIFIED:20240515T032658Z
UID:10001907-1758204000-1758214800@www.rockylakesgolf.com
SUMMARY:Guard League
DESCRIPTION:Tee Times
URL:https://www.rockylakesgolf.com/event/guard-league/2025-09-18/
END:VEVENT
BEGIN:VEVENT
DTSTART;TZID=America/New_York:20250918T170000
DTEND;TZID=America/New_York:20250918T200000
DTSTAMP:20260420T043503
CREATED:20240515T032803Z
LAST-MODIFIED:20240515T032803Z
UID:10002168-1758214800-1758225600@www.rockylakesgolf.com
SUMMARY:Average Joe's
DESCRIPTION:Tee Times
URL:https://www.rockylakesgolf.com/event/average-joes/2025-09-18/
END:VEVENT
BEGIN:VEVENT
DTSTART;TZID=America/New_York:20250921T090000
DTEND;TZID=America/New_York:20250921T120000
DTSTAMP:20260420T043503
CREATED:20240515T032857Z
LAST-MODIFIED:20240515T032857Z
UID:10002429-1758445200-1758456000@www.rockylakesgolf.com
SUMMARY:Best Ball
DESCRIPTION:Tee Times
URL:https://www.rockylakesgolf.com/event/best-ball/2025-09-21/
END:VEVENT
BEGIN:VEVENT
DTSTART;TZID=America/New_York:20250922T140000
DTEND;TZID=America/New_York:20250922T160000
DTSTAMP:20260420T043503
CREATED:20240515T031308Z
LAST-MODIFIED:20240515T031806Z
UID:10000082-1758549600-1758556800@www.rockylakesgolf.com
SUMMARY:Brick Tap & Tavern
DESCRIPTION:Tee Times
URL:https://www.rockylakesgolf.com/event/brick-tap-tavern/2025-09-22/
END:VEVENT
BEGIN:VEVENT
DTSTART;TZID=America/New_York:20250923T160000
DTEND;TZID=America/New_York:20250923T170000
DTSTAMP:20260420T043503
CREATED:20240515T031624Z
LAST-MODIFIED:20240515T031624Z
UID:10000604-1758643200-1758646800@www.rockylakesgolf.com
SUMMARY:Hipps
DESCRIPTION:Tee Times
URL:https://www.rockylakesgolf.com/event/hipps/2025-09-23/
END:VEVENT
BEGIN:VEVENT
DTSTART;TZID=America/New_York:20250923T170000
DTEND;TZID=America/New_York:20250923T180000
DTSTAMP:20260420T043503
CREATED:20240515T031506Z
LAST-MODIFIED:20240516T075910Z
UID:10002690-1758646800-1758650400@www.rockylakesgolf.com
SUMMARY:Playmates
DESCRIPTION:Scramble Format
URL:https://www.rockylakesgolf.com/event/playmates/2025-09-23/
END:VEVENT
BEGIN:VEVENT
DTSTART;TZID=America/New_York:20250924T160000
DTEND;TZID=America/New_York:20250924T170000
DTSTAMP:20260420T043503
CREATED:20240515T032155Z
LAST-MODIFIED:20240515T032155Z
UID:10001125-1758729600-1758733200@www.rockylakesgolf.com
SUMMARY:Roger's League
DESCRIPTION:Scramble Format
URL:https://www.rockylakesgolf.com/event/rogers-league/2025-09-24/
END:VEVENT
BEGIN:VEVENT
DTSTART;TZID=America/New_York:20250924T170000
DTEND;TZID=America/New_York:20250924T180000
DTSTAMP:20260420T043503
CREATED:20240515T032501Z
LAST-MODIFIED:20240515T032501Z
UID:10001386-1758733200-1758736800@www.rockylakesgolf.com
SUMMARY:Spark League
DESCRIPTION:Tee Times
URL:https://www.rockylakesgolf.com/event/spark-league/2025-09-24/
END:VEVENT
BEGIN:VEVENT
DTSTART;TZID=America/New_York:20250925T100000
DTEND;TZID=America/New_York:20250925T130000
DTSTAMP:20260420T043503
CREATED:20240515T032621Z
LAST-MODIFIED:20240515T032621Z
UID:10001647-1758794400-1758805200@www.rockylakesgolf.com
SUMMARY:Kuna League
DESCRIPTION:Tee Times
URL:https://www.rockylakesgolf.com/event/kuna-league/2025-09-25/
END:VEVENT
BEGIN:VEVENT
DTSTART;TZID=UTC:20250925T140000
DTEND;TZID=UTC:20250925T170000
DTSTAMP:20260420T043503
CREATED:20240515T032658Z
LAST-MODIFIED:20240515T032658Z
UID:10001908-1758808800-1758819600@www.rockylakesgolf.com
SUMMARY:Guard League
DESCRIPTION:Tee Times
URL:https://www.rockylakesgolf.com/event/guard-league/2025-09-25/
END:VEVENT
BEGIN:VEVENT
DTSTART;TZID=America/New_York:20250925T170000
DTEND;TZID=America/New_York:20250925T200000
DTSTAMP:20260420T043503
CREATED:20240515T032803Z
LAST-MODIFIED:20240515T032803Z
UID:10002169-1758819600-1758830400@www.rockylakesgolf.com
SUMMARY:Average Joe's
DESCRIPTION:Tee Times
URL:https://www.rockylakesgolf.com/event/average-joes/2025-09-25/
END:VEVENT
BEGIN:VEVENT
DTSTART;TZID=America/New_York:20250928T090000
DTEND;TZID=America/New_York:20250928T120000
DTSTAMP:20260420T043503
CREATED:20240515T032857Z
LAST-MODIFIED:20240515T032857Z
UID:10002430-1759050000-1759060800@www.rockylakesgolf.com
SUMMARY:Best Ball
DESCRIPTION:Tee Times
URL:https://www.rockylakesgolf.com/event/best-ball/2025-09-28/
END:VEVENT
BEGIN:VEVENT
DTSTART;TZID=America/New_York:20250929T140000
DTEND;TZID=America/New_York:20250929T160000
DTSTAMP:20260420T043503
CREATED:20240515T031308Z
LAST-MODIFIED:20240515T031806Z
UID:10000083-1759154400-1759161600@www.rockylakesgolf.com
SUMMARY:Brick Tap & Tavern
DESCRIPTION:Tee Times
URL:https://www.rockylakesgolf.com/event/brick-tap-tavern/2025-09-29/
END:VEVENT
BEGIN:VEVENT
DTSTART;TZID=America/New_York:20250930T160000
DTEND;TZID=America/New_York:20250930T170000
DTSTAMP:20260420T043503
CREATED:20240515T031624Z
LAST-MODIFIED:20240515T031624Z
UID:10000605-1759248000-1759251600@www.rockylakesgolf.com
SUMMARY:Hipps
DESCRIPTION:Tee Times
URL:https://www.rockylakesgolf.com/event/hipps/2025-09-30/
END:VEVENT
BEGIN:VEVENT
DTSTART;TZID=America/New_York:20250930T170000
DTEND;TZID=America/New_York:20250930T180000
DTSTAMP:20260420T043503
CREATED:20240515T031506Z
LAST-MODIFIED:20240516T075910Z
UID:10002691-1759251600-1759255200@www.rockylakesgolf.com
SUMMARY:Playmates
DESCRIPTION:Scramble Format
URL:https://www.rockylakesgolf.com/event/playmates/2025-09-30/
END:VEVENT
BEGIN:VEVENT
DTSTART;TZID=America/New_York:20251001T160000
DTEND;TZID=America/New_York:20251001T170000
DTSTAMP:20260420T043503
CREATED:20240515T032155Z
LAST-MODIFIED:20240515T032155Z
UID:10001126-1759334400-1759338000@www.rockylakesgolf.com
SUMMARY:Roger's League
DESCRIPTION:Scramble Format
URL:https://www.rockylakesgolf.com/event/rogers-league/2025-10-01/
END:VEVENT
BEGIN:VEVENT
DTSTART;TZID=America/New_York:20251001T170000
DTEND;TZID=America/New_York:20251001T180000
DTSTAMP:20260420T043503
CREATED:20240515T032501Z
LAST-MODIFIED:20240515T032501Z
UID:10001387-1759338000-1759341600@www.rockylakesgolf.com
SUMMARY:Spark League
DESCRIPTION:Tee Times
URL:https://www.rockylakesgolf.com/event/spark-league/2025-10-01/
END:VEVENT
BEGIN:VEVENT
DTSTART;TZID=America/New_York:20251002T100000
DTEND;TZID=America/New_York:20251002T130000
DTSTAMP:20260420T043503
CREATED:20240515T032621Z
LAST-MODIFIED:20240515T032621Z
UID:10001648-1759399200-1759410000@www.rockylakesgolf.com
SUMMARY:Kuna League
DESCRIPTION:Tee Times
URL:https://www.rockylakesgolf.com/event/kuna-league/2025-10-02/
END:VEVENT
BEGIN:VEVENT
DTSTART;TZID=UTC:20251002T140000
DTEND;TZID=UTC:20251002T170000
DTSTAMP:20260420T043503
CREATED:20240515T032658Z
LAST-MODIFIED:20240515T032658Z
UID:10001909-1759413600-1759424400@www.rockylakesgolf.com
SUMMARY:Guard League
DESCRIPTION:Tee Times
URL:https://www.rockylakesgolf.com/event/guard-league/2025-10-02/
END:VEVENT
BEGIN:VEVENT
DTSTART;TZID=America/New_York:20251002T170000
DTEND;TZID=America/New_York:20251002T200000
DTSTAMP:20260420T043503
CREATED:20240515T032803Z
LAST-MODIFIED:20240515T032803Z
UID:10002170-1759424400-1759435200@www.rockylakesgolf.com
SUMMARY:Average Joe's
DESCRIPTION:Tee Times
URL:https://www.rockylakesgolf.com/event/average-joes/2025-10-02/
END:VEVENT
BEGIN:VEVENT
DTSTART;TZID=America/New_York:20251005T090000
DTEND;TZID=America/New_York:20251005T120000
DTSTAMP:20260420T043503
CREATED:20240515T032857Z
LAST-MODIFIED:20240515T032857Z
UID:10002431-1759654800-1759665600@www.rockylakesgolf.com
SUMMARY:Best Ball
DESCRIPTION:Tee Times
URL:https://www.rockylakesgolf.com/event/best-ball/2025-10-05/
END:VEVENT
BEGIN:VEVENT
DTSTART;TZID=America/New_York:20251006T140000
DTEND;TZID=America/New_York:20251006T160000
DTSTAMP:20260420T043503
CREATED:20240515T031308Z
LAST-MODIFIED:20240515T031806Z
UID:10000084-1759759200-1759766400@www.rockylakesgolf.com
SUMMARY:Brick Tap & Tavern
DESCRIPTION:Tee Times
URL:https://www.rockylakesgolf.com/event/brick-tap-tavern/2025-10-06/
END:VEVENT
BEGIN:VEVENT
DTSTART;TZID=America/New_York:20251007T160000
DTEND;TZID=America/New_York:20251007T170000
DTSTAMP:20260420T043503
CREATED:20240515T031624Z
LAST-MODIFIED:20240515T031624Z
UID:10000606-1759852800-1759856400@www.rockylakesgolf.com
SUMMARY:Hipps
DESCRIPTION:Tee Times
URL:https://www.rockylakesgolf.com/event/hipps/2025-10-07/
END:VEVENT
BEGIN:VEVENT
DTSTART;TZID=America/New_York:20251007T170000
DTEND;TZID=America/New_York:20251007T180000
DTSTAMP:20260420T043503
CREATED:20240515T031506Z
LAST-MODIFIED:20240516T075910Z
UID:10002692-1759856400-1759860000@www.rockylakesgolf.com
SUMMARY:Playmates
DESCRIPTION:Scramble Format
URL:https://www.rockylakesgolf.com/event/playmates/2025-10-07/
END:VEVENT
END:VCALENDAR