BEGIN:VCALENDAR
VERSION:2.0
PRODID:-//Rocky Lakes Golf Course - ECPv6.15.18//NONSGML v1.0//EN
CALSCALE:GREGORIAN
METHOD:PUBLISH
X-WR-CALNAME:Rocky Lakes Golf Course
X-ORIGINAL-URL:https://www.rockylakesgolf.com
X-WR-CALDESC:Events for Rocky Lakes Golf Course
REFRESH-INTERVAL;VALUE=DURATION:PT1H
X-Robots-Tag:noindex
X-PUBLISHED-TTL:PT1H
BEGIN:VTIMEZONE
TZID:America/New_York
BEGIN:DAYLIGHT
TZOFFSETFROM:-0500
TZOFFSETTO:-0400
TZNAME:EDT
DTSTART:20260308T070000
END:DAYLIGHT
BEGIN:STANDARD
TZOFFSETFROM:-0400
TZOFFSETTO:-0500
TZNAME:EST
DTSTART:20261101T060000
END:STANDARD
BEGIN:DAYLIGHT
TZOFFSETFROM:-0500
TZOFFSETTO:-0400
TZNAME:EDT
DTSTART:20270314T070000
END:DAYLIGHT
BEGIN:STANDARD
TZOFFSETFROM:-0400
TZOFFSETTO:-0500
TZNAME:EST
DTSTART:20271107T060000
END:STANDARD
BEGIN:DAYLIGHT
TZOFFSETFROM:-0500
TZOFFSETTO:-0400
TZNAME:EDT
DTSTART:20280312T070000
END:DAYLIGHT
BEGIN:STANDARD
TZOFFSETFROM:-0400
TZOFFSETTO:-0500
TZNAME:EST
DTSTART:20281105T060000
END:STANDARD
END:VTIMEZONE
BEGIN:VTIMEZONE
TZID:UTC
BEGIN:STANDARD
TZOFFSETFROM:+0000
TZOFFSETTO:+0000
TZNAME:UTC
DTSTART:20260101T000000
END:STANDARD
END:VTIMEZONE
BEGIN:VEVENT
DTSTART;TZID=America/New_York:20270426T140000
DTEND;TZID=America/New_York:20270426T160000
DTSTAMP:20260421T235352
CREATED:20240515T031308Z
LAST-MODIFIED:20240515T031806Z
UID:10000165-1808748000-1808755200@www.rockylakesgolf.com
SUMMARY:Brick Tap & Tavern
DESCRIPTION:Tee Times
URL:https://www.rockylakesgolf.com/event/brick-tap-tavern/2027-04-26/
END:VEVENT
BEGIN:VEVENT
DTSTART;TZID=America/New_York:20270427T160000
DTEND;TZID=America/New_York:20270427T170000
DTSTAMP:20260421T235352
CREATED:20240515T031624Z
LAST-MODIFIED:20240515T031624Z
UID:10000687-1808841600-1808845200@www.rockylakesgolf.com
SUMMARY:Hipps
DESCRIPTION:Tee Times
URL:https://www.rockylakesgolf.com/event/hipps/2027-04-27/
END:VEVENT
BEGIN:VEVENT
DTSTART;TZID=America/New_York:20270427T170000
DTEND;TZID=America/New_York:20270427T180000
DTSTAMP:20260421T235352
CREATED:20240515T031506Z
LAST-MODIFIED:20240516T075910Z
UID:10002773-1808845200-1808848800@www.rockylakesgolf.com
SUMMARY:Playmates
DESCRIPTION:Scramble Format
URL:https://www.rockylakesgolf.com/event/playmates/2027-04-27/
END:VEVENT
BEGIN:VEVENT
DTSTART;TZID=America/New_York:20270428T160000
DTEND;TZID=America/New_York:20270428T170000
DTSTAMP:20260421T235352
CREATED:20240515T032155Z
LAST-MODIFIED:20240515T032155Z
UID:10001208-1808928000-1808931600@www.rockylakesgolf.com
SUMMARY:Roger's League
DESCRIPTION:Scramble Format
URL:https://www.rockylakesgolf.com/event/rogers-league/2027-04-28/
END:VEVENT
BEGIN:VEVENT
DTSTART;TZID=America/New_York:20270428T170000
DTEND;TZID=America/New_York:20270428T180000
DTSTAMP:20260421T235352
CREATED:20240515T032501Z
LAST-MODIFIED:20240515T032501Z
UID:10001469-1808931600-1808935200@www.rockylakesgolf.com
SUMMARY:Spark League
DESCRIPTION:Tee Times
URL:https://www.rockylakesgolf.com/event/spark-league/2027-04-28/
END:VEVENT
BEGIN:VEVENT
DTSTART;TZID=America/New_York:20270429T100000
DTEND;TZID=America/New_York:20270429T130000
DTSTAMP:20260421T235352
CREATED:20240515T032621Z
LAST-MODIFIED:20240515T032621Z
UID:10001730-1808992800-1809003600@www.rockylakesgolf.com
SUMMARY:Kuna League
DESCRIPTION:Tee Times
URL:https://www.rockylakesgolf.com/event/kuna-league/2027-04-29/
END:VEVENT
BEGIN:VEVENT
DTSTART;TZID=UTC:20270429T140000
DTEND;TZID=UTC:20270429T170000
DTSTAMP:20260421T235352
CREATED:20240515T032658Z
LAST-MODIFIED:20240515T032658Z
UID:10001991-1809007200-1809018000@www.rockylakesgolf.com
SUMMARY:Guard League
DESCRIPTION:Tee Times
URL:https://www.rockylakesgolf.com/event/guard-league/2027-04-29/
END:VEVENT
BEGIN:VEVENT
DTSTART;TZID=America/New_York:20270429T170000
DTEND;TZID=America/New_York:20270429T200000
DTSTAMP:20260421T235352
CREATED:20240515T032803Z
LAST-MODIFIED:20240515T032803Z
UID:10002252-1809018000-1809028800@www.rockylakesgolf.com
SUMMARY:Average Joe's
DESCRIPTION:Tee Times
URL:https://www.rockylakesgolf.com/event/average-joes/2027-04-29/
END:VEVENT
BEGIN:VEVENT
DTSTART;TZID=America/New_York:20270502T090000
DTEND;TZID=America/New_York:20270502T120000
DTSTAMP:20260421T235352
CREATED:20240515T032857Z
LAST-MODIFIED:20240515T032857Z
UID:10002513-1809248400-1809259200@www.rockylakesgolf.com
SUMMARY:Best Ball
DESCRIPTION:Tee Times
URL:https://www.rockylakesgolf.com/event/best-ball/2027-05-02/
END:VEVENT
BEGIN:VEVENT
DTSTART;TZID=America/New_York:20270503T140000
DTEND;TZID=America/New_York:20270503T160000
DTSTAMP:20260421T235352
CREATED:20240515T031308Z
LAST-MODIFIED:20240515T031806Z
UID:10000166-1809352800-1809360000@www.rockylakesgolf.com
SUMMARY:Brick Tap & Tavern
DESCRIPTION:Tee Times
URL:https://www.rockylakesgolf.com/event/brick-tap-tavern/2027-05-03/
END:VEVENT
BEGIN:VEVENT
DTSTART;TZID=America/New_York:20270504T160000
DTEND;TZID=America/New_York:20270504T170000
DTSTAMP:20260421T235352
CREATED:20240515T031624Z
LAST-MODIFIED:20240515T031624Z
UID:10000688-1809446400-1809450000@www.rockylakesgolf.com
SUMMARY:Hipps
DESCRIPTION:Tee Times
URL:https://www.rockylakesgolf.com/event/hipps/2027-05-04/
END:VEVENT
BEGIN:VEVENT
DTSTART;TZID=America/New_York:20270504T170000
DTEND;TZID=America/New_York:20270504T180000
DTSTAMP:20260421T235352
CREATED:20240515T031506Z
LAST-MODIFIED:20240516T075910Z
UID:10002774-1809450000-1809453600@www.rockylakesgolf.com
SUMMARY:Playmates
DESCRIPTION:Scramble Format
URL:https://www.rockylakesgolf.com/event/playmates/2027-05-04/
END:VEVENT
BEGIN:VEVENT
DTSTART;TZID=America/New_York:20270505T160000
DTEND;TZID=America/New_York:20270505T170000
DTSTAMP:20260421T235352
CREATED:20240515T032155Z
LAST-MODIFIED:20240515T032155Z
UID:10001209-1809532800-1809536400@www.rockylakesgolf.com
SUMMARY:Roger's League
DESCRIPTION:Scramble Format
URL:https://www.rockylakesgolf.com/event/rogers-league/2027-05-05/
END:VEVENT
BEGIN:VEVENT
DTSTART;TZID=America/New_York:20270505T170000
DTEND;TZID=America/New_York:20270505T180000
DTSTAMP:20260421T235352
CREATED:20240515T032501Z
LAST-MODIFIED:20240515T032501Z
UID:10001470-1809536400-1809540000@www.rockylakesgolf.com
SUMMARY:Spark League
DESCRIPTION:Tee Times
URL:https://www.rockylakesgolf.com/event/spark-league/2027-05-05/
END:VEVENT
BEGIN:VEVENT
DTSTART;TZID=America/New_York:20270506T100000
DTEND;TZID=America/New_York:20270506T130000
DTSTAMP:20260421T235352
CREATED:20240515T032621Z
LAST-MODIFIED:20240515T032621Z
UID:10001731-1809597600-1809608400@www.rockylakesgolf.com
SUMMARY:Kuna League
DESCRIPTION:Tee Times
URL:https://www.rockylakesgolf.com/event/kuna-league/2027-05-06/
END:VEVENT
BEGIN:VEVENT
DTSTART;TZID=UTC:20270506T140000
DTEND;TZID=UTC:20270506T170000
DTSTAMP:20260421T235352
CREATED:20240515T032658Z
LAST-MODIFIED:20240515T032658Z
UID:10001992-1809612000-1809622800@www.rockylakesgolf.com
SUMMARY:Guard League
DESCRIPTION:Tee Times
URL:https://www.rockylakesgolf.com/event/guard-league/2027-05-06/
END:VEVENT
BEGIN:VEVENT
DTSTART;TZID=America/New_York:20270506T170000
DTEND;TZID=America/New_York:20270506T200000
DTSTAMP:20260421T235352
CREATED:20240515T032803Z
LAST-MODIFIED:20240515T032803Z
UID:10002253-1809622800-1809633600@www.rockylakesgolf.com
SUMMARY:Average Joe's
DESCRIPTION:Tee Times
URL:https://www.rockylakesgolf.com/event/average-joes/2027-05-06/
END:VEVENT
BEGIN:VEVENT
DTSTART;TZID=America/New_York:20270509T090000
DTEND;TZID=America/New_York:20270509T120000
DTSTAMP:20260421T235352
CREATED:20240515T032857Z
LAST-MODIFIED:20240515T032857Z
UID:10002514-1809853200-1809864000@www.rockylakesgolf.com
SUMMARY:Best Ball
DESCRIPTION:Tee Times
URL:https://www.rockylakesgolf.com/event/best-ball/2027-05-09/
END:VEVENT
BEGIN:VEVENT
DTSTART;TZID=America/New_York:20270510T140000
DTEND;TZID=America/New_York:20270510T160000
DTSTAMP:20260421T235352
CREATED:20240515T031308Z
LAST-MODIFIED:20240515T031806Z
UID:10000167-1809957600-1809964800@www.rockylakesgolf.com
SUMMARY:Brick Tap & Tavern
DESCRIPTION:Tee Times
URL:https://www.rockylakesgolf.com/event/brick-tap-tavern/2027-05-10/
END:VEVENT
BEGIN:VEVENT
DTSTART;TZID=America/New_York:20270511T160000
DTEND;TZID=America/New_York:20270511T170000
DTSTAMP:20260421T235352
CREATED:20240515T031624Z
LAST-MODIFIED:20240515T031624Z
UID:10000689-1810051200-1810054800@www.rockylakesgolf.com
SUMMARY:Hipps
DESCRIPTION:Tee Times
URL:https://www.rockylakesgolf.com/event/hipps/2027-05-11/
END:VEVENT
BEGIN:VEVENT
DTSTART;TZID=America/New_York:20270511T170000
DTEND;TZID=America/New_York:20270511T180000
DTSTAMP:20260421T235352
CREATED:20240515T031506Z
LAST-MODIFIED:20240516T075910Z
UID:10002775-1810054800-1810058400@www.rockylakesgolf.com
SUMMARY:Playmates
DESCRIPTION:Scramble Format
URL:https://www.rockylakesgolf.com/event/playmates/2027-05-11/
END:VEVENT
BEGIN:VEVENT
DTSTART;TZID=America/New_York:20270512T160000
DTEND;TZID=America/New_York:20270512T170000
DTSTAMP:20260421T235352
CREATED:20240515T032155Z
LAST-MODIFIED:20240515T032155Z
UID:10001210-1810137600-1810141200@www.rockylakesgolf.com
SUMMARY:Roger's League
DESCRIPTION:Scramble Format
URL:https://www.rockylakesgolf.com/event/rogers-league/2027-05-12/
END:VEVENT
BEGIN:VEVENT
DTSTART;TZID=America/New_York:20270512T170000
DTEND;TZID=America/New_York:20270512T180000
DTSTAMP:20260421T235352
CREATED:20240515T032501Z
LAST-MODIFIED:20240515T032501Z
UID:10001471-1810141200-1810144800@www.rockylakesgolf.com
SUMMARY:Spark League
DESCRIPTION:Tee Times
URL:https://www.rockylakesgolf.com/event/spark-league/2027-05-12/
END:VEVENT
BEGIN:VEVENT
DTSTART;TZID=America/New_York:20270513T100000
DTEND;TZID=America/New_York:20270513T130000
DTSTAMP:20260421T235352
CREATED:20240515T032621Z
LAST-MODIFIED:20240515T032621Z
UID:10001732-1810202400-1810213200@www.rockylakesgolf.com
SUMMARY:Kuna League
DESCRIPTION:Tee Times
URL:https://www.rockylakesgolf.com/event/kuna-league/2027-05-13/
END:VEVENT
BEGIN:VEVENT
DTSTART;TZID=UTC:20270513T140000
DTEND;TZID=UTC:20270513T170000
DTSTAMP:20260421T235352
CREATED:20240515T032658Z
LAST-MODIFIED:20240515T032658Z
UID:10001993-1810216800-1810227600@www.rockylakesgolf.com
SUMMARY:Guard League
DESCRIPTION:Tee Times
URL:https://www.rockylakesgolf.com/event/guard-league/2027-05-13/
END:VEVENT
BEGIN:VEVENT
DTSTART;TZID=America/New_York:20270513T170000
DTEND;TZID=America/New_York:20270513T200000
DTSTAMP:20260421T235352
CREATED:20240515T032803Z
LAST-MODIFIED:20240515T032803Z
UID:10002254-1810227600-1810238400@www.rockylakesgolf.com
SUMMARY:Average Joe's
DESCRIPTION:Tee Times
URL:https://www.rockylakesgolf.com/event/average-joes/2027-05-13/
END:VEVENT
BEGIN:VEVENT
DTSTART;TZID=America/New_York:20270516T090000
DTEND;TZID=America/New_York:20270516T120000
DTSTAMP:20260421T235352
CREATED:20240515T032857Z
LAST-MODIFIED:20240515T032857Z
UID:10002515-1810458000-1810468800@www.rockylakesgolf.com
SUMMARY:Best Ball
DESCRIPTION:Tee Times
URL:https://www.rockylakesgolf.com/event/best-ball/2027-05-16/
END:VEVENT
BEGIN:VEVENT
DTSTART;TZID=America/New_York:20270517T140000
DTEND;TZID=America/New_York:20270517T160000
DTSTAMP:20260421T235352
CREATED:20240515T031308Z
LAST-MODIFIED:20240515T031806Z
UID:10000168-1810562400-1810569600@www.rockylakesgolf.com
SUMMARY:Brick Tap & Tavern
DESCRIPTION:Tee Times
URL:https://www.rockylakesgolf.com/event/brick-tap-tavern/2027-05-17/
END:VEVENT
BEGIN:VEVENT
DTSTART;TZID=America/New_York:20270518T160000
DTEND;TZID=America/New_York:20270518T170000
DTSTAMP:20260421T235352
CREATED:20240515T031624Z
LAST-MODIFIED:20240515T031624Z
UID:10000690-1810656000-1810659600@www.rockylakesgolf.com
SUMMARY:Hipps
DESCRIPTION:Tee Times
URL:https://www.rockylakesgolf.com/event/hipps/2027-05-18/
END:VEVENT
BEGIN:VEVENT
DTSTART;TZID=America/New_York:20270518T170000
DTEND;TZID=America/New_York:20270518T180000
DTSTAMP:20260421T235352
CREATED:20240515T031506Z
LAST-MODIFIED:20240516T075910Z
UID:10002776-1810659600-1810663200@www.rockylakesgolf.com
SUMMARY:Playmates
DESCRIPTION:Scramble Format
URL:https://www.rockylakesgolf.com/event/playmates/2027-05-18/
END:VEVENT
END:VCALENDAR