BEGIN:VCALENDAR
VERSION:2.0
PRODID:-//Rocky Lakes Golf Course - ECPv6.15.18//NONSGML v1.0//EN
CALSCALE:GREGORIAN
METHOD:PUBLISH
X-WR-CALNAME:Rocky Lakes Golf Course
X-ORIGINAL-URL:https://www.rockylakesgolf.com
X-WR-CALDESC:Events for Rocky Lakes Golf Course
REFRESH-INTERVAL;VALUE=DURATION:PT1H
X-Robots-Tag:noindex
X-PUBLISHED-TTL:PT1H
BEGIN:VTIMEZONE
TZID:America/New_York
BEGIN:DAYLIGHT
TZOFFSETFROM:-0500
TZOFFSETTO:-0400
TZNAME:EDT
DTSTART:20230312T070000
END:DAYLIGHT
BEGIN:STANDARD
TZOFFSETFROM:-0400
TZOFFSETTO:-0500
TZNAME:EST
DTSTART:20231105T060000
END:STANDARD
BEGIN:DAYLIGHT
TZOFFSETFROM:-0500
TZOFFSETTO:-0400
TZNAME:EDT
DTSTART:20240310T070000
END:DAYLIGHT
BEGIN:STANDARD
TZOFFSETFROM:-0400
TZOFFSETTO:-0500
TZNAME:EST
DTSTART:20241103T060000
END:STANDARD
BEGIN:DAYLIGHT
TZOFFSETFROM:-0500
TZOFFSETTO:-0400
TZNAME:EDT
DTSTART:20250309T070000
END:DAYLIGHT
BEGIN:STANDARD
TZOFFSETFROM:-0400
TZOFFSETTO:-0500
TZNAME:EST
DTSTART:20251102T060000
END:STANDARD
END:VTIMEZONE
BEGIN:VTIMEZONE
TZID:UTC
BEGIN:STANDARD
TZOFFSETFROM:+0000
TZOFFSETTO:+0000
TZNAME:UTC
DTSTART:20230101T000000
END:STANDARD
END:VTIMEZONE
BEGIN:VEVENT
DTSTART;TZID=America/New_York:20240807T170000
DTEND;TZID=America/New_York:20240807T180000
DTSTAMP:20260424T165107
CREATED:20240515T032501Z
LAST-MODIFIED:20240515T032501Z
UID:10001327-1723050000-1723053600@www.rockylakesgolf.com
SUMMARY:Spark League
DESCRIPTION:Tee Times
URL:https://www.rockylakesgolf.com/event/spark-league/2024-08-07/
END:VEVENT
BEGIN:VEVENT
DTSTART;TZID=America/New_York:20240808T100000
DTEND;TZID=America/New_York:20240808T130000
DTSTAMP:20260424T165107
CREATED:20240515T032621Z
LAST-MODIFIED:20240515T032621Z
UID:10001588-1723111200-1723122000@www.rockylakesgolf.com
SUMMARY:Kuna League
DESCRIPTION:Tee Times
URL:https://www.rockylakesgolf.com/event/kuna-league/2024-08-08/
END:VEVENT
BEGIN:VEVENT
DTSTART;TZID=UTC:20240808T140000
DTEND;TZID=UTC:20240808T170000
DTSTAMP:20260424T165107
CREATED:20240515T032658Z
LAST-MODIFIED:20240515T032658Z
UID:10001849-1723125600-1723136400@www.rockylakesgolf.com
SUMMARY:Guard League
DESCRIPTION:Tee Times
URL:https://www.rockylakesgolf.com/event/guard-league/2024-08-08/
END:VEVENT
BEGIN:VEVENT
DTSTART;TZID=America/New_York:20240808T170000
DTEND;TZID=America/New_York:20240808T200000
DTSTAMP:20260424T165107
CREATED:20240515T032803Z
LAST-MODIFIED:20240515T032803Z
UID:10002110-1723136400-1723147200@www.rockylakesgolf.com
SUMMARY:Average Joe's
DESCRIPTION:Tee Times
URL:https://www.rockylakesgolf.com/event/average-joes/2024-08-08/
END:VEVENT
BEGIN:VEVENT
DTSTART;TZID=America/New_York:20240810T100000
DTEND;TZID=America/New_York:20240810T170000
DTSTAMP:20260424T165107
CREATED:20240515T030823Z
LAST-MODIFIED:20240515T031936Z
UID:10000009-1723284000-1723309200@www.rockylakesgolf.com
SUMMARY:JoJo Memorial Outing
DESCRIPTION:Shotgun
URL:https://www.rockylakesgolf.com/event/jojo-memorial-outing/
END:VEVENT
BEGIN:VEVENT
DTSTART;TZID=America/New_York:20240811T090000
DTEND;TZID=America/New_York:20240811T120000
DTSTAMP:20260424T165107
CREATED:20240515T032857Z
LAST-MODIFIED:20240515T032857Z
UID:10002371-1723366800-1723377600@www.rockylakesgolf.com
SUMMARY:Best Ball
DESCRIPTION:Tee Times
URL:https://www.rockylakesgolf.com/event/best-ball/2024-08-11/
END:VEVENT
BEGIN:VEVENT
DTSTART;TZID=America/New_York:20240812T140000
DTEND;TZID=America/New_York:20240812T160000
DTSTAMP:20260424T165107
CREATED:20240515T031308Z
LAST-MODIFIED:20240515T031806Z
UID:10000024-1723471200-1723478400@www.rockylakesgolf.com
SUMMARY:Brick Tap & Tavern
DESCRIPTION:Tee Times
URL:https://www.rockylakesgolf.com/event/brick-tap-tavern/2024-08-12/
END:VEVENT
BEGIN:VEVENT
DTSTART;TZID=America/New_York:20240813T160000
DTEND;TZID=America/New_York:20240813T170000
DTSTAMP:20260424T165107
CREATED:20240515T031624Z
LAST-MODIFIED:20240515T031624Z
UID:10000546-1723564800-1723568400@www.rockylakesgolf.com
SUMMARY:Hipps
DESCRIPTION:Tee Times
URL:https://www.rockylakesgolf.com/event/hipps/2024-08-13/
END:VEVENT
BEGIN:VEVENT
DTSTART;TZID=America/New_York:20240813T170000
DTEND;TZID=America/New_York:20240813T180000
DTSTAMP:20260424T165107
CREATED:20240515T031506Z
LAST-MODIFIED:20240516T075910Z
UID:10002632-1723568400-1723572000@www.rockylakesgolf.com
SUMMARY:Playmates
DESCRIPTION:Scramble Format
URL:https://www.rockylakesgolf.com/event/playmates/2024-08-13/
END:VEVENT
BEGIN:VEVENT
DTSTART;TZID=America/New_York:20240814T160000
DTEND;TZID=America/New_York:20240814T170000
DTSTAMP:20260424T165107
CREATED:20240515T032155Z
LAST-MODIFIED:20240515T032155Z
UID:10001067-1723651200-1723654800@www.rockylakesgolf.com
SUMMARY:Roger's League
DESCRIPTION:Scramble Format
URL:https://www.rockylakesgolf.com/event/rogers-league/2024-08-14/
END:VEVENT
BEGIN:VEVENT
DTSTART;TZID=America/New_York:20240814T170000
DTEND;TZID=America/New_York:20240814T180000
DTSTAMP:20260424T165107
CREATED:20240515T032501Z
LAST-MODIFIED:20240515T032501Z
UID:10001328-1723654800-1723658400@www.rockylakesgolf.com
SUMMARY:Spark League
DESCRIPTION:Tee Times
URL:https://www.rockylakesgolf.com/event/spark-league/2024-08-14/
END:VEVENT
BEGIN:VEVENT
DTSTART;TZID=America/New_York:20240815T100000
DTEND;TZID=America/New_York:20240815T130000
DTSTAMP:20260424T165107
CREATED:20240515T032621Z
LAST-MODIFIED:20240515T032621Z
UID:10001589-1723716000-1723726800@www.rockylakesgolf.com
SUMMARY:Kuna League
DESCRIPTION:Tee Times
URL:https://www.rockylakesgolf.com/event/kuna-league/2024-08-15/
END:VEVENT
BEGIN:VEVENT
DTSTART;TZID=UTC:20240815T140000
DTEND;TZID=UTC:20240815T170000
DTSTAMP:20260424T165107
CREATED:20240515T032658Z
LAST-MODIFIED:20240515T032658Z
UID:10001850-1723730400-1723741200@www.rockylakesgolf.com
SUMMARY:Guard League
DESCRIPTION:Tee Times
URL:https://www.rockylakesgolf.com/event/guard-league/2024-08-15/
END:VEVENT
BEGIN:VEVENT
DTSTART;TZID=America/New_York:20240815T170000
DTEND;TZID=America/New_York:20240815T200000
DTSTAMP:20260424T165107
CREATED:20240515T032803Z
LAST-MODIFIED:20240515T032803Z
UID:10002111-1723741200-1723752000@www.rockylakesgolf.com
SUMMARY:Average Joe's
DESCRIPTION:Tee Times
URL:https://www.rockylakesgolf.com/event/average-joes/2024-08-15/
END:VEVENT
BEGIN:VEVENT
DTSTART;TZID=America/New_York:20240818T090000
DTEND;TZID=America/New_York:20240818T120000
DTSTAMP:20260424T165107
CREATED:20240515T032857Z
LAST-MODIFIED:20240515T032857Z
UID:10002372-1723971600-1723982400@www.rockylakesgolf.com
SUMMARY:Best Ball
DESCRIPTION:Tee Times
URL:https://www.rockylakesgolf.com/event/best-ball/2024-08-18/
END:VEVENT
BEGIN:VEVENT
DTSTART;TZID=America/New_York:20240819T140000
DTEND;TZID=America/New_York:20240819T160000
DTSTAMP:20260424T165107
CREATED:20240515T031308Z
LAST-MODIFIED:20240515T031806Z
UID:10000025-1724076000-1724083200@www.rockylakesgolf.com
SUMMARY:Brick Tap & Tavern
DESCRIPTION:Tee Times
URL:https://www.rockylakesgolf.com/event/brick-tap-tavern/2024-08-19/
END:VEVENT
BEGIN:VEVENT
DTSTART;TZID=America/New_York:20240820T160000
DTEND;TZID=America/New_York:20240820T170000
DTSTAMP:20260424T165107
CREATED:20240515T031624Z
LAST-MODIFIED:20240515T031624Z
UID:10000547-1724169600-1724173200@www.rockylakesgolf.com
SUMMARY:Hipps
DESCRIPTION:Tee Times
URL:https://www.rockylakesgolf.com/event/hipps/2024-08-20/
END:VEVENT
BEGIN:VEVENT
DTSTART;TZID=America/New_York:20240820T170000
DTEND;TZID=America/New_York:20240820T180000
DTSTAMP:20260424T165107
CREATED:20240515T031506Z
LAST-MODIFIED:20240516T075910Z
UID:10002633-1724173200-1724176800@www.rockylakesgolf.com
SUMMARY:Playmates
DESCRIPTION:Scramble Format
URL:https://www.rockylakesgolf.com/event/playmates/2024-08-20/
END:VEVENT
BEGIN:VEVENT
DTSTART;TZID=America/New_York:20240821T160000
DTEND;TZID=America/New_York:20240821T170000
DTSTAMP:20260424T165107
CREATED:20240515T032155Z
LAST-MODIFIED:20240515T032155Z
UID:10001068-1724256000-1724259600@www.rockylakesgolf.com
SUMMARY:Roger's League
DESCRIPTION:Scramble Format
URL:https://www.rockylakesgolf.com/event/rogers-league/2024-08-21/
END:VEVENT
BEGIN:VEVENT
DTSTART;TZID=America/New_York:20240821T170000
DTEND;TZID=America/New_York:20240821T180000
DTSTAMP:20260424T165107
CREATED:20240515T032501Z
LAST-MODIFIED:20240515T032501Z
UID:10001329-1724259600-1724263200@www.rockylakesgolf.com
SUMMARY:Spark League
DESCRIPTION:Tee Times
URL:https://www.rockylakesgolf.com/event/spark-league/2024-08-21/
END:VEVENT
BEGIN:VEVENT
DTSTART;TZID=America/New_York:20240822T100000
DTEND;TZID=America/New_York:20240822T130000
DTSTAMP:20260424T165107
CREATED:20240515T032621Z
LAST-MODIFIED:20240515T032621Z
UID:10001590-1724320800-1724331600@www.rockylakesgolf.com
SUMMARY:Kuna League
DESCRIPTION:Tee Times
URL:https://www.rockylakesgolf.com/event/kuna-league/2024-08-22/
END:VEVENT
BEGIN:VEVENT
DTSTART;TZID=UTC:20240822T140000
DTEND;TZID=UTC:20240822T170000
DTSTAMP:20260424T165107
CREATED:20240515T032658Z
LAST-MODIFIED:20240515T032658Z
UID:10001851-1724335200-1724346000@www.rockylakesgolf.com
SUMMARY:Guard League
DESCRIPTION:Tee Times
URL:https://www.rockylakesgolf.com/event/guard-league/2024-08-22/
END:VEVENT
BEGIN:VEVENT
DTSTART;TZID=America/New_York:20240822T170000
DTEND;TZID=America/New_York:20240822T200000
DTSTAMP:20260424T165107
CREATED:20240515T032803Z
LAST-MODIFIED:20240515T032803Z
UID:10002112-1724346000-1724356800@www.rockylakesgolf.com
SUMMARY:Average Joe's
DESCRIPTION:Tee Times
URL:https://www.rockylakesgolf.com/event/average-joes/2024-08-22/
END:VEVENT
BEGIN:VEVENT
DTSTART;TZID=America/New_York:20240825T090000
DTEND;TZID=America/New_York:20240825T120000
DTSTAMP:20260424T165107
CREATED:20240515T032857Z
LAST-MODIFIED:20240515T032857Z
UID:10002373-1724576400-1724587200@www.rockylakesgolf.com
SUMMARY:Best Ball
DESCRIPTION:Tee Times
URL:https://www.rockylakesgolf.com/event/best-ball/2024-08-25/
END:VEVENT
BEGIN:VEVENT
DTSTART;TZID=America/New_York:20240826T140000
DTEND;TZID=America/New_York:20240826T160000
DTSTAMP:20260424T165107
CREATED:20240515T031308Z
LAST-MODIFIED:20240515T031806Z
UID:10000026-1724680800-1724688000@www.rockylakesgolf.com
SUMMARY:Brick Tap & Tavern
DESCRIPTION:Tee Times
URL:https://www.rockylakesgolf.com/event/brick-tap-tavern/2024-08-26/
END:VEVENT
BEGIN:VEVENT
DTSTART;TZID=America/New_York:20240827T160000
DTEND;TZID=America/New_York:20240827T170000
DTSTAMP:20260424T165107
CREATED:20240515T031624Z
LAST-MODIFIED:20240515T031624Z
UID:10000548-1724774400-1724778000@www.rockylakesgolf.com
SUMMARY:Hipps
DESCRIPTION:Tee Times
URL:https://www.rockylakesgolf.com/event/hipps/2024-08-27/
END:VEVENT
BEGIN:VEVENT
DTSTART;TZID=America/New_York:20240827T170000
DTEND;TZID=America/New_York:20240827T180000
DTSTAMP:20260424T165107
CREATED:20240515T031506Z
LAST-MODIFIED:20240516T075910Z
UID:10002634-1724778000-1724781600@www.rockylakesgolf.com
SUMMARY:Playmates
DESCRIPTION:Scramble Format
URL:https://www.rockylakesgolf.com/event/playmates/2024-08-27/
END:VEVENT
BEGIN:VEVENT
DTSTART;TZID=America/New_York:20240828T160000
DTEND;TZID=America/New_York:20240828T170000
DTSTAMP:20260424T165107
CREATED:20240515T032155Z
LAST-MODIFIED:20240515T032155Z
UID:10001069-1724860800-1724864400@www.rockylakesgolf.com
SUMMARY:Roger's League
DESCRIPTION:Scramble Format
URL:https://www.rockylakesgolf.com/event/rogers-league/2024-08-28/
END:VEVENT
BEGIN:VEVENT
DTSTART;TZID=America/New_York:20240828T170000
DTEND;TZID=America/New_York:20240828T180000
DTSTAMP:20260424T165107
CREATED:20240515T032501Z
LAST-MODIFIED:20240515T032501Z
UID:10001330-1724864400-1724868000@www.rockylakesgolf.com
SUMMARY:Spark League
DESCRIPTION:Tee Times
URL:https://www.rockylakesgolf.com/event/spark-league/2024-08-28/
END:VEVENT
BEGIN:VEVENT
DTSTART;TZID=America/New_York:20240829T100000
DTEND;TZID=America/New_York:20240829T130000
DTSTAMP:20260424T165107
CREATED:20240515T032621Z
LAST-MODIFIED:20240515T032621Z
UID:10001591-1724925600-1724936400@www.rockylakesgolf.com
SUMMARY:Kuna League
DESCRIPTION:Tee Times
URL:https://www.rockylakesgolf.com/event/kuna-league/2024-08-29/
END:VEVENT
END:VCALENDAR