BEGIN:VCALENDAR
VERSION:2.0
PRODID:-//Rocky Lakes Golf Course - ECPv6.15.18//NONSGML v1.0//EN
CALSCALE:GREGORIAN
METHOD:PUBLISH
X-ORIGINAL-URL:https://www.rockylakesgolf.com
X-WR-CALDESC:Events for Rocky Lakes Golf Course
REFRESH-INTERVAL;VALUE=DURATION:PT1H
X-Robots-Tag:noindex
X-PUBLISHED-TTL:PT1H
BEGIN:VTIMEZONE
TZID:America/New_York
BEGIN:DAYLIGHT
TZOFFSETFROM:-0500
TZOFFSETTO:-0400
TZNAME:EDT
DTSTART:20270314T070000
END:DAYLIGHT
BEGIN:STANDARD
TZOFFSETFROM:-0400
TZOFFSETTO:-0500
TZNAME:EST
DTSTART:20271107T060000
END:STANDARD
BEGIN:DAYLIGHT
TZOFFSETFROM:-0500
TZOFFSETTO:-0400
TZNAME:EDT
DTSTART:20280312T070000
END:DAYLIGHT
BEGIN:STANDARD
TZOFFSETFROM:-0400
TZOFFSETTO:-0500
TZNAME:EST
DTSTART:20281105T060000
END:STANDARD
BEGIN:DAYLIGHT
TZOFFSETFROM:-0500
TZOFFSETTO:-0400
TZNAME:EDT
DTSTART:20290311T070000
END:DAYLIGHT
BEGIN:STANDARD
TZOFFSETFROM:-0400
TZOFFSETTO:-0500
TZNAME:EST
DTSTART:20291104T060000
END:STANDARD
END:VTIMEZONE
BEGIN:VTIMEZONE
TZID:UTC
BEGIN:STANDARD
TZOFFSETFROM:+0000
TZOFFSETTO:+0000
TZNAME:UTC
DTSTART:20270101T000000
END:STANDARD
END:VTIMEZONE
BEGIN:VEVENT
DTSTART;TZID=America/New_York:20280720T170000
DTEND;TZID=America/New_York:20280720T200000
DTSTAMP:20260423T022623
CREATED:20240515T032803Z
LAST-MODIFIED:20240515T032803Z
UID:10002316-1847725200-1847736000@www.rockylakesgolf.com
SUMMARY:Average Joe's
DESCRIPTION:Tee Times
URL:https://www.rockylakesgolf.com/event/average-joes/2028-07-20/
END:VEVENT
BEGIN:VEVENT
DTSTART;TZID=America/New_York:20280723T090000
DTEND;TZID=America/New_York:20280723T120000
DTSTAMP:20260423T022623
CREATED:20240515T032857Z
LAST-MODIFIED:20240515T032857Z
UID:10002577-1847955600-1847966400@www.rockylakesgolf.com
SUMMARY:Best Ball
DESCRIPTION:Tee Times
URL:https://www.rockylakesgolf.com/event/best-ball/2028-07-23/
END:VEVENT
BEGIN:VEVENT
DTSTART;TZID=America/New_York:20280724T140000
DTEND;TZID=America/New_York:20280724T160000
DTSTAMP:20260423T022623
CREATED:20240515T031308Z
LAST-MODIFIED:20240515T031806Z
UID:10000230-1848060000-1848067200@www.rockylakesgolf.com
SUMMARY:Brick Tap & Tavern
DESCRIPTION:Tee Times
URL:https://www.rockylakesgolf.com/event/brick-tap-tavern/2028-07-24/
END:VEVENT
BEGIN:VEVENT
DTSTART;TZID=America/New_York:20280725T160000
DTEND;TZID=America/New_York:20280725T170000
DTSTAMP:20260423T022623
CREATED:20240515T031624Z
LAST-MODIFIED:20240515T031624Z
UID:10000752-1848153600-1848157200@www.rockylakesgolf.com
SUMMARY:Hipps
DESCRIPTION:Tee Times
URL:https://www.rockylakesgolf.com/event/hipps/2028-07-25/
END:VEVENT
BEGIN:VEVENT
DTSTART;TZID=America/New_York:20280725T170000
DTEND;TZID=America/New_York:20280725T180000
DTSTAMP:20260423T022623
CREATED:20240515T031506Z
LAST-MODIFIED:20240516T075910Z
UID:10002838-1848157200-1848160800@www.rockylakesgolf.com
SUMMARY:Playmates
DESCRIPTION:Scramble Format
URL:https://www.rockylakesgolf.com/event/playmates/2028-07-25/
END:VEVENT
BEGIN:VEVENT
DTSTART;TZID=America/New_York:20280726T160000
DTEND;TZID=America/New_York:20280726T170000
DTSTAMP:20260423T022623
CREATED:20240515T032155Z
LAST-MODIFIED:20240515T032155Z
UID:10001273-1848240000-1848243600@www.rockylakesgolf.com
SUMMARY:Roger's League
DESCRIPTION:Scramble Format
URL:https://www.rockylakesgolf.com/event/rogers-league/2028-07-26/
END:VEVENT
BEGIN:VEVENT
DTSTART;TZID=America/New_York:20280726T170000
DTEND;TZID=America/New_York:20280726T180000
DTSTAMP:20260423T022623
CREATED:20240515T032501Z
LAST-MODIFIED:20240515T032501Z
UID:10001534-1848243600-1848247200@www.rockylakesgolf.com
SUMMARY:Spark League
DESCRIPTION:Tee Times
URL:https://www.rockylakesgolf.com/event/spark-league/2028-07-26/
END:VEVENT
BEGIN:VEVENT
DTSTART;TZID=America/New_York:20280727T100000
DTEND;TZID=America/New_York:20280727T130000
DTSTAMP:20260423T022623
CREATED:20240515T032621Z
LAST-MODIFIED:20240515T032621Z
UID:10001795-1848304800-1848315600@www.rockylakesgolf.com
SUMMARY:Kuna League
DESCRIPTION:Tee Times
URL:https://www.rockylakesgolf.com/event/kuna-league/2028-07-27/
END:VEVENT
BEGIN:VEVENT
DTSTART;TZID=UTC:20280727T140000
DTEND;TZID=UTC:20280727T170000
DTSTAMP:20260423T022623
CREATED:20240515T032658Z
LAST-MODIFIED:20240515T032658Z
UID:10002056-1848319200-1848330000@www.rockylakesgolf.com
SUMMARY:Guard League
DESCRIPTION:Tee Times
URL:https://www.rockylakesgolf.com/event/guard-league/2028-07-27/
END:VEVENT
BEGIN:VEVENT
DTSTART;TZID=America/New_York:20280727T170000
DTEND;TZID=America/New_York:20280727T200000
DTSTAMP:20260423T022623
CREATED:20240515T032803Z
LAST-MODIFIED:20240515T032803Z
UID:10002317-1848330000-1848340800@www.rockylakesgolf.com
SUMMARY:Average Joe's
DESCRIPTION:Tee Times
URL:https://www.rockylakesgolf.com/event/average-joes/2028-07-27/
END:VEVENT
BEGIN:VEVENT
DTSTART;TZID=America/New_York:20280730T090000
DTEND;TZID=America/New_York:20280730T120000
DTSTAMP:20260423T022623
CREATED:20240515T032857Z
LAST-MODIFIED:20240515T032857Z
UID:10002578-1848560400-1848571200@www.rockylakesgolf.com
SUMMARY:Best Ball
DESCRIPTION:Tee Times
URL:https://www.rockylakesgolf.com/event/best-ball/2028-07-30/
END:VEVENT
BEGIN:VEVENT
DTSTART;TZID=America/New_York:20280731T140000
DTEND;TZID=America/New_York:20280731T160000
DTSTAMP:20260423T022623
CREATED:20240515T031308Z
LAST-MODIFIED:20240515T031806Z
UID:10000231-1848664800-1848672000@www.rockylakesgolf.com
SUMMARY:Brick Tap & Tavern
DESCRIPTION:Tee Times
URL:https://www.rockylakesgolf.com/event/brick-tap-tavern/2028-07-31/
END:VEVENT
BEGIN:VEVENT
DTSTART;TZID=America/New_York:20280801T160000
DTEND;TZID=America/New_York:20280801T170000
DTSTAMP:20260423T022623
CREATED:20240515T031624Z
LAST-MODIFIED:20240515T031624Z
UID:10000753-1848758400-1848762000@www.rockylakesgolf.com
SUMMARY:Hipps
DESCRIPTION:Tee Times
URL:https://www.rockylakesgolf.com/event/hipps/2028-08-01/
END:VEVENT
BEGIN:VEVENT
DTSTART;TZID=America/New_York:20280801T170000
DTEND;TZID=America/New_York:20280801T180000
DTSTAMP:20260423T022623
CREATED:20240515T031506Z
LAST-MODIFIED:20240516T075910Z
UID:10002839-1848762000-1848765600@www.rockylakesgolf.com
SUMMARY:Playmates
DESCRIPTION:Scramble Format
URL:https://www.rockylakesgolf.com/event/playmates/2028-08-01/
END:VEVENT
BEGIN:VEVENT
DTSTART;TZID=America/New_York:20280802T160000
DTEND;TZID=America/New_York:20280802T170000
DTSTAMP:20260423T022623
CREATED:20240515T032155Z
LAST-MODIFIED:20240515T032155Z
UID:10001274-1848844800-1848848400@www.rockylakesgolf.com
SUMMARY:Roger's League
DESCRIPTION:Scramble Format
URL:https://www.rockylakesgolf.com/event/rogers-league/2028-08-02/
END:VEVENT
BEGIN:VEVENT
DTSTART;TZID=America/New_York:20280802T170000
DTEND;TZID=America/New_York:20280802T180000
DTSTAMP:20260423T022623
CREATED:20240515T032501Z
LAST-MODIFIED:20240515T032501Z
UID:10001535-1848848400-1848852000@www.rockylakesgolf.com
SUMMARY:Spark League
DESCRIPTION:Tee Times
URL:https://www.rockylakesgolf.com/event/spark-league/2028-08-02/
END:VEVENT
BEGIN:VEVENT
DTSTART;TZID=America/New_York:20280803T100000
DTEND;TZID=America/New_York:20280803T130000
DTSTAMP:20260423T022623
CREATED:20240515T032621Z
LAST-MODIFIED:20240515T032621Z
UID:10001796-1848909600-1848920400@www.rockylakesgolf.com
SUMMARY:Kuna League
DESCRIPTION:Tee Times
URL:https://www.rockylakesgolf.com/event/kuna-league/2028-08-03/
END:VEVENT
BEGIN:VEVENT
DTSTART;TZID=UTC:20280803T140000
DTEND;TZID=UTC:20280803T170000
DTSTAMP:20260423T022623
CREATED:20240515T032658Z
LAST-MODIFIED:20240515T032658Z
UID:10002057-1848924000-1848934800@www.rockylakesgolf.com
SUMMARY:Guard League
DESCRIPTION:Tee Times
URL:https://www.rockylakesgolf.com/event/guard-league/2028-08-03/
END:VEVENT
BEGIN:VEVENT
DTSTART;TZID=America/New_York:20280803T170000
DTEND;TZID=America/New_York:20280803T200000
DTSTAMP:20260423T022623
CREATED:20240515T032803Z
LAST-MODIFIED:20240515T032803Z
UID:10002318-1848934800-1848945600@www.rockylakesgolf.com
SUMMARY:Average Joe's
DESCRIPTION:Tee Times
URL:https://www.rockylakesgolf.com/event/average-joes/2028-08-03/
END:VEVENT
BEGIN:VEVENT
DTSTART;TZID=America/New_York:20280806T090000
DTEND;TZID=America/New_York:20280806T120000
DTSTAMP:20260423T022623
CREATED:20240515T032857Z
LAST-MODIFIED:20240515T032857Z
UID:10002579-1849165200-1849176000@www.rockylakesgolf.com
SUMMARY:Best Ball
DESCRIPTION:Tee Times
URL:https://www.rockylakesgolf.com/event/best-ball/2028-08-06/
END:VEVENT
BEGIN:VEVENT
DTSTART;TZID=America/New_York:20280807T140000
DTEND;TZID=America/New_York:20280807T160000
DTSTAMP:20260423T022623
CREATED:20240515T031308Z
LAST-MODIFIED:20240515T031806Z
UID:10000232-1849269600-1849276800@www.rockylakesgolf.com
SUMMARY:Brick Tap & Tavern
DESCRIPTION:Tee Times
URL:https://www.rockylakesgolf.com/event/brick-tap-tavern/2028-08-07/
END:VEVENT
BEGIN:VEVENT
DTSTART;TZID=America/New_York:20280808T160000
DTEND;TZID=America/New_York:20280808T170000
DTSTAMP:20260423T022623
CREATED:20240515T031624Z
LAST-MODIFIED:20240515T031624Z
UID:10000754-1849363200-1849366800@www.rockylakesgolf.com
SUMMARY:Hipps
DESCRIPTION:Tee Times
URL:https://www.rockylakesgolf.com/event/hipps/2028-08-08/
END:VEVENT
BEGIN:VEVENT
DTSTART;TZID=America/New_York:20280808T170000
DTEND;TZID=America/New_York:20280808T180000
DTSTAMP:20260423T022623
CREATED:20240515T031506Z
LAST-MODIFIED:20240516T075910Z
UID:10002840-1849366800-1849370400@www.rockylakesgolf.com
SUMMARY:Playmates
DESCRIPTION:Scramble Format
URL:https://www.rockylakesgolf.com/event/playmates/2028-08-08/
END:VEVENT
BEGIN:VEVENT
DTSTART;TZID=America/New_York:20280809T160000
DTEND;TZID=America/New_York:20280809T170000
DTSTAMP:20260423T022623
CREATED:20240515T032155Z
LAST-MODIFIED:20240515T032155Z
UID:10001275-1849449600-1849453200@www.rockylakesgolf.com
SUMMARY:Roger's League
DESCRIPTION:Scramble Format
URL:https://www.rockylakesgolf.com/event/rogers-league/2028-08-09/
END:VEVENT
BEGIN:VEVENT
DTSTART;TZID=America/New_York:20280809T170000
DTEND;TZID=America/New_York:20280809T180000
DTSTAMP:20260423T022623
CREATED:20240515T032501Z
LAST-MODIFIED:20240515T032501Z
UID:10001536-1849453200-1849456800@www.rockylakesgolf.com
SUMMARY:Spark League
DESCRIPTION:Tee Times
URL:https://www.rockylakesgolf.com/event/spark-league/2028-08-09/
END:VEVENT
BEGIN:VEVENT
DTSTART;TZID=America/New_York:20280810T100000
DTEND;TZID=America/New_York:20280810T130000
DTSTAMP:20260423T022623
CREATED:20240515T032621Z
LAST-MODIFIED:20240515T032621Z
UID:10001797-1849514400-1849525200@www.rockylakesgolf.com
SUMMARY:Kuna League
DESCRIPTION:Tee Times
URL:https://www.rockylakesgolf.com/event/kuna-league/2028-08-10/
END:VEVENT
BEGIN:VEVENT
DTSTART;TZID=UTC:20280810T140000
DTEND;TZID=UTC:20280810T170000
DTSTAMP:20260423T022623
CREATED:20240515T032658Z
LAST-MODIFIED:20240515T032658Z
UID:10002058-1849528800-1849539600@www.rockylakesgolf.com
SUMMARY:Guard League
DESCRIPTION:Tee Times
URL:https://www.rockylakesgolf.com/event/guard-league/2028-08-10/
END:VEVENT
BEGIN:VEVENT
DTSTART;TZID=America/New_York:20280810T170000
DTEND;TZID=America/New_York:20280810T200000
DTSTAMP:20260423T022623
CREATED:20240515T032803Z
LAST-MODIFIED:20240515T032803Z
UID:10002319-1849539600-1849550400@www.rockylakesgolf.com
SUMMARY:Average Joe's
DESCRIPTION:Tee Times
URL:https://www.rockylakesgolf.com/event/average-joes/2028-08-10/
END:VEVENT
BEGIN:VEVENT
DTSTART;TZID=America/New_York:20280813T090000
DTEND;TZID=America/New_York:20280813T120000
DTSTAMP:20260423T022623
CREATED:20240515T032857Z
LAST-MODIFIED:20240515T032857Z
UID:10002580-1849770000-1849780800@www.rockylakesgolf.com
SUMMARY:Best Ball
DESCRIPTION:Tee Times
URL:https://www.rockylakesgolf.com/event/best-ball/2028-08-13/
END:VEVENT
BEGIN:VEVENT
DTSTART;TZID=America/New_York:20280814T140000
DTEND;TZID=America/New_York:20280814T160000
DTSTAMP:20260423T022623
CREATED:20240515T031308Z
LAST-MODIFIED:20240515T031806Z
UID:10000233-1849874400-1849881600@www.rockylakesgolf.com
SUMMARY:Brick Tap & Tavern
DESCRIPTION:Tee Times
URL:https://www.rockylakesgolf.com/event/brick-tap-tavern/2028-08-14/
END:VEVENT
END:VCALENDAR