BEGIN:VCALENDAR
VERSION:2.0
PRODID:-//Rocky Lakes Golf Course - ECPv6.15.18//NONSGML v1.0//EN
CALSCALE:GREGORIAN
METHOD:PUBLISH
X-WR-CALNAME:Rocky Lakes Golf Course
X-ORIGINAL-URL:https://www.rockylakesgolf.com
X-WR-CALDESC:Events for Rocky Lakes Golf Course
REFRESH-INTERVAL;VALUE=DURATION:PT1H
X-Robots-Tag:noindex
X-PUBLISHED-TTL:PT1H
BEGIN:VTIMEZONE
TZID:America/New_York
BEGIN:DAYLIGHT
TZOFFSETFROM:-0500
TZOFFSETTO:-0400
TZNAME:EDT
DTSTART:20230312T070000
END:DAYLIGHT
BEGIN:STANDARD
TZOFFSETFROM:-0400
TZOFFSETTO:-0500
TZNAME:EST
DTSTART:20231105T060000
END:STANDARD
BEGIN:DAYLIGHT
TZOFFSETFROM:-0500
TZOFFSETTO:-0400
TZNAME:EDT
DTSTART:20240310T070000
END:DAYLIGHT
BEGIN:STANDARD
TZOFFSETFROM:-0400
TZOFFSETTO:-0500
TZNAME:EST
DTSTART:20241103T060000
END:STANDARD
BEGIN:DAYLIGHT
TZOFFSETFROM:-0500
TZOFFSETTO:-0400
TZNAME:EDT
DTSTART:20250309T070000
END:DAYLIGHT
BEGIN:STANDARD
TZOFFSETFROM:-0400
TZOFFSETTO:-0500
TZNAME:EST
DTSTART:20251102T060000
END:STANDARD
END:VTIMEZONE
BEGIN:VTIMEZONE
TZID:UTC
BEGIN:STANDARD
TZOFFSETFROM:+0000
TZOFFSETTO:+0000
TZNAME:UTC
DTSTART:20230101T000000
END:STANDARD
END:VTIMEZONE
BEGIN:VEVENT
DTSTART;TZID=America/New_York:20240619T170000
DTEND;TZID=America/New_York:20240619T180000
DTSTAMP:20260424T203307
CREATED:20240515T032501Z
LAST-MODIFIED:20240515T032501Z
UID:10001320-1718816400-1718820000@www.rockylakesgolf.com
SUMMARY:Spark League
DESCRIPTION:Tee Times
URL:https://www.rockylakesgolf.com/event/spark-league/2024-06-19/
END:VEVENT
BEGIN:VEVENT
DTSTART;TZID=America/New_York:20240620T100000
DTEND;TZID=America/New_York:20240620T130000
DTSTAMP:20260424T203307
CREATED:20240515T032621Z
LAST-MODIFIED:20240515T032621Z
UID:10001581-1718877600-1718888400@www.rockylakesgolf.com
SUMMARY:Kuna League
DESCRIPTION:Tee Times
URL:https://www.rockylakesgolf.com/event/kuna-league/2024-06-20/
END:VEVENT
BEGIN:VEVENT
DTSTART;TZID=UTC:20240620T140000
DTEND;TZID=UTC:20240620T170000
DTSTAMP:20260424T203307
CREATED:20240515T032658Z
LAST-MODIFIED:20240515T032658Z
UID:10001842-1718892000-1718902800@www.rockylakesgolf.com
SUMMARY:Guard League
DESCRIPTION:Tee Times
URL:https://www.rockylakesgolf.com/event/guard-league/2024-06-20/
END:VEVENT
BEGIN:VEVENT
DTSTART;TZID=America/New_York:20240620T170000
DTEND;TZID=America/New_York:20240620T200000
DTSTAMP:20260424T203307
CREATED:20240515T032803Z
LAST-MODIFIED:20240515T032803Z
UID:10002103-1718902800-1718913600@www.rockylakesgolf.com
SUMMARY:Average Joe's
DESCRIPTION:Tee Times
URL:https://www.rockylakesgolf.com/event/average-joes/2024-06-20/
END:VEVENT
BEGIN:VEVENT
DTSTART;TZID=America/New_York:20240622T100000
DTEND;TZID=America/New_York:20240622T170000
DTSTAMP:20260424T203307
CREATED:20240515T030352Z
LAST-MODIFIED:20240515T032034Z
UID:10000005-1719050400-1719075600@www.rockylakesgolf.com
SUMMARY:Xema Mase Outing
DESCRIPTION:Shotgun
URL:https://www.rockylakesgolf.com/event/xema-mase-outing/
END:VEVENT
BEGIN:VEVENT
DTSTART;TZID=America/New_York:20240623T090000
DTEND;TZID=America/New_York:20240623T120000
DTSTAMP:20260424T203307
CREATED:20240515T032857Z
LAST-MODIFIED:20240515T032857Z
UID:10002364-1719133200-1719144000@www.rockylakesgolf.com
SUMMARY:Best Ball
DESCRIPTION:Tee Times
URL:https://www.rockylakesgolf.com/event/best-ball/2024-06-23/
END:VEVENT
BEGIN:VEVENT
DTSTART;TZID=America/New_York:20240624T140000
DTEND;TZID=America/New_York:20240624T160000
DTSTAMP:20260424T203307
CREATED:20240515T031308Z
LAST-MODIFIED:20240515T031806Z
UID:10000017-1719237600-1719244800@www.rockylakesgolf.com
SUMMARY:Brick Tap & Tavern
DESCRIPTION:Tee Times
URL:https://www.rockylakesgolf.com/event/brick-tap-tavern/2024-06-24/
END:VEVENT
BEGIN:VEVENT
DTSTART;TZID=America/New_York:20240625T160000
DTEND;TZID=America/New_York:20240625T170000
DTSTAMP:20260424T203307
CREATED:20240515T031624Z
LAST-MODIFIED:20240515T031624Z
UID:10000539-1719331200-1719334800@www.rockylakesgolf.com
SUMMARY:Hipps
DESCRIPTION:Tee Times
URL:https://www.rockylakesgolf.com/event/hipps/2024-06-25/
END:VEVENT
BEGIN:VEVENT
DTSTART;TZID=America/New_York:20240625T170000
DTEND;TZID=America/New_York:20240625T180000
DTSTAMP:20260424T203307
CREATED:20240515T031506Z
LAST-MODIFIED:20240516T075910Z
UID:10002625-1719334800-1719338400@www.rockylakesgolf.com
SUMMARY:Playmates
DESCRIPTION:Scramble Format
URL:https://www.rockylakesgolf.com/event/playmates/2024-06-25/
END:VEVENT
BEGIN:VEVENT
DTSTART;TZID=America/New_York:20240626T160000
DTEND;TZID=America/New_York:20240626T170000
DTSTAMP:20260424T203307
CREATED:20240515T032155Z
LAST-MODIFIED:20240515T032155Z
UID:10001060-1719417600-1719421200@www.rockylakesgolf.com
SUMMARY:Roger's League
DESCRIPTION:Scramble Format
URL:https://www.rockylakesgolf.com/event/rogers-league/2024-06-26/
END:VEVENT
BEGIN:VEVENT
DTSTART;TZID=America/New_York:20240626T170000
DTEND;TZID=America/New_York:20240626T180000
DTSTAMP:20260424T203307
CREATED:20240515T032501Z
LAST-MODIFIED:20240515T032501Z
UID:10001321-1719421200-1719424800@www.rockylakesgolf.com
SUMMARY:Spark League
DESCRIPTION:Tee Times
URL:https://www.rockylakesgolf.com/event/spark-league/2024-06-26/
END:VEVENT
BEGIN:VEVENT
DTSTART;TZID=America/New_York:20240627T100000
DTEND;TZID=America/New_York:20240627T130000
DTSTAMP:20260424T203307
CREATED:20240515T032621Z
LAST-MODIFIED:20240515T032621Z
UID:10001582-1719482400-1719493200@www.rockylakesgolf.com
SUMMARY:Kuna League
DESCRIPTION:Tee Times
URL:https://www.rockylakesgolf.com/event/kuna-league/2024-06-27/
END:VEVENT
BEGIN:VEVENT
DTSTART;TZID=UTC:20240627T140000
DTEND;TZID=UTC:20240627T170000
DTSTAMP:20260424T203307
CREATED:20240515T032658Z
LAST-MODIFIED:20240515T032658Z
UID:10001843-1719496800-1719507600@www.rockylakesgolf.com
SUMMARY:Guard League
DESCRIPTION:Tee Times
URL:https://www.rockylakesgolf.com/event/guard-league/2024-06-27/
END:VEVENT
BEGIN:VEVENT
DTSTART;TZID=America/New_York:20240627T170000
DTEND;TZID=America/New_York:20240627T200000
DTSTAMP:20260424T203307
CREATED:20240515T032803Z
LAST-MODIFIED:20240515T032803Z
UID:10002104-1719507600-1719518400@www.rockylakesgolf.com
SUMMARY:Average Joe's
DESCRIPTION:Tee Times
URL:https://www.rockylakesgolf.com/event/average-joes/2024-06-27/
END:VEVENT
BEGIN:VEVENT
DTSTART;TZID=America/New_York:20240628T080000
DTEND;TZID=America/New_York:20240628T170000
DTSTAMP:20260424T203307
CREATED:20240515T030435Z
LAST-MODIFIED:20240515T031958Z
UID:10000006-1719561600-1719594000@www.rockylakesgolf.com
SUMMARY:Amys 445 Outing
DESCRIPTION:Shotgun
URL:https://www.rockylakesgolf.com/event/amys-445-outing/
END:VEVENT
BEGIN:VEVENT
DTSTART;TZID=America/New_York:20240630T090000
DTEND;TZID=America/New_York:20240630T120000
DTSTAMP:20260424T203307
CREATED:20240515T032857Z
LAST-MODIFIED:20240515T032857Z
UID:10002365-1719738000-1719748800@www.rockylakesgolf.com
SUMMARY:Best Ball
DESCRIPTION:Tee Times
URL:https://www.rockylakesgolf.com/event/best-ball/2024-06-30/
END:VEVENT
BEGIN:VEVENT
DTSTART;TZID=America/New_York:20240701T140000
DTEND;TZID=America/New_York:20240701T160000
DTSTAMP:20260424T203307
CREATED:20240515T031308Z
LAST-MODIFIED:20240515T031806Z
UID:10000018-1719842400-1719849600@www.rockylakesgolf.com
SUMMARY:Brick Tap & Tavern
DESCRIPTION:Tee Times
URL:https://www.rockylakesgolf.com/event/brick-tap-tavern/2024-07-01/
END:VEVENT
BEGIN:VEVENT
DTSTART;TZID=America/New_York:20240702T160000
DTEND;TZID=America/New_York:20240702T170000
DTSTAMP:20260424T203307
CREATED:20240515T031624Z
LAST-MODIFIED:20240515T031624Z
UID:10000540-1719936000-1719939600@www.rockylakesgolf.com
SUMMARY:Hipps
DESCRIPTION:Tee Times
URL:https://www.rockylakesgolf.com/event/hipps/2024-07-02/
END:VEVENT
BEGIN:VEVENT
DTSTART;TZID=America/New_York:20240702T170000
DTEND;TZID=America/New_York:20240702T180000
DTSTAMP:20260424T203307
CREATED:20240515T031506Z
LAST-MODIFIED:20240516T075910Z
UID:10002626-1719939600-1719943200@www.rockylakesgolf.com
SUMMARY:Playmates
DESCRIPTION:Scramble Format
URL:https://www.rockylakesgolf.com/event/playmates/2024-07-02/
END:VEVENT
BEGIN:VEVENT
DTSTART;TZID=America/New_York:20240703T160000
DTEND;TZID=America/New_York:20240703T170000
DTSTAMP:20260424T203307
CREATED:20240515T032155Z
LAST-MODIFIED:20240515T032155Z
UID:10001061-1720022400-1720026000@www.rockylakesgolf.com
SUMMARY:Roger's League
DESCRIPTION:Scramble Format
URL:https://www.rockylakesgolf.com/event/rogers-league/2024-07-03/
END:VEVENT
BEGIN:VEVENT
DTSTART;TZID=America/New_York:20240703T170000
DTEND;TZID=America/New_York:20240703T180000
DTSTAMP:20260424T203307
CREATED:20240515T032501Z
LAST-MODIFIED:20240515T032501Z
UID:10001322-1720026000-1720029600@www.rockylakesgolf.com
SUMMARY:Spark League
DESCRIPTION:Tee Times
URL:https://www.rockylakesgolf.com/event/spark-league/2024-07-03/
END:VEVENT
BEGIN:VEVENT
DTSTART;TZID=America/New_York:20240704T100000
DTEND;TZID=America/New_York:20240704T130000
DTSTAMP:20260424T203307
CREATED:20240515T032621Z
LAST-MODIFIED:20240515T032621Z
UID:10001583-1720087200-1720098000@www.rockylakesgolf.com
SUMMARY:Kuna League
DESCRIPTION:Tee Times
URL:https://www.rockylakesgolf.com/event/kuna-league/2024-07-04/
END:VEVENT
BEGIN:VEVENT
DTSTART;TZID=UTC:20240704T140000
DTEND;TZID=UTC:20240704T170000
DTSTAMP:20260424T203307
CREATED:20240515T032658Z
LAST-MODIFIED:20240515T032658Z
UID:10001844-1720101600-1720112400@www.rockylakesgolf.com
SUMMARY:Guard League
DESCRIPTION:Tee Times
URL:https://www.rockylakesgolf.com/event/guard-league/2024-07-04/
END:VEVENT
BEGIN:VEVENT
DTSTART;TZID=America/New_York:20240704T170000
DTEND;TZID=America/New_York:20240704T200000
DTSTAMP:20260424T203307
CREATED:20240515T032803Z
LAST-MODIFIED:20240515T032803Z
UID:10002105-1720112400-1720123200@www.rockylakesgolf.com
SUMMARY:Average Joe's
DESCRIPTION:Tee Times
URL:https://www.rockylakesgolf.com/event/average-joes/2024-07-04/
END:VEVENT
BEGIN:VEVENT
DTSTART;TZID=America/New_York:20240707T090000
DTEND;TZID=America/New_York:20240707T120000
DTSTAMP:20260424T203307
CREATED:20240515T032857Z
LAST-MODIFIED:20240515T032857Z
UID:10002366-1720342800-1720353600@www.rockylakesgolf.com
SUMMARY:Best Ball
DESCRIPTION:Tee Times
URL:https://www.rockylakesgolf.com/event/best-ball/2024-07-07/
END:VEVENT
BEGIN:VEVENT
DTSTART;TZID=America/New_York:20240708T140000
DTEND;TZID=America/New_York:20240708T160000
DTSTAMP:20260424T203307
CREATED:20240515T031308Z
LAST-MODIFIED:20240515T031806Z
UID:10000019-1720447200-1720454400@www.rockylakesgolf.com
SUMMARY:Brick Tap & Tavern
DESCRIPTION:Tee Times
URL:https://www.rockylakesgolf.com/event/brick-tap-tavern/2024-07-08/
END:VEVENT
BEGIN:VEVENT
DTSTART;TZID=America/New_York:20240709T160000
DTEND;TZID=America/New_York:20240709T170000
DTSTAMP:20260424T203307
CREATED:20240515T031624Z
LAST-MODIFIED:20240515T031624Z
UID:10000541-1720540800-1720544400@www.rockylakesgolf.com
SUMMARY:Hipps
DESCRIPTION:Tee Times
URL:https://www.rockylakesgolf.com/event/hipps/2024-07-09/
END:VEVENT
BEGIN:VEVENT
DTSTART;TZID=America/New_York:20240709T170000
DTEND;TZID=America/New_York:20240709T180000
DTSTAMP:20260424T203307
CREATED:20240515T031506Z
LAST-MODIFIED:20240516T075910Z
UID:10002627-1720544400-1720548000@www.rockylakesgolf.com
SUMMARY:Playmates
DESCRIPTION:Scramble Format
URL:https://www.rockylakesgolf.com/event/playmates/2024-07-09/
END:VEVENT
BEGIN:VEVENT
DTSTART;TZID=America/New_York:20240710T160000
DTEND;TZID=America/New_York:20240710T170000
DTSTAMP:20260424T203307
CREATED:20240515T032155Z
LAST-MODIFIED:20240515T032155Z
UID:10001062-1720627200-1720630800@www.rockylakesgolf.com
SUMMARY:Roger's League
DESCRIPTION:Scramble Format
URL:https://www.rockylakesgolf.com/event/rogers-league/2024-07-10/
END:VEVENT
BEGIN:VEVENT
DTSTART;TZID=America/New_York:20240710T170000
DTEND;TZID=America/New_York:20240710T180000
DTSTAMP:20260424T203307
CREATED:20240515T032501Z
LAST-MODIFIED:20240515T032501Z
UID:10001323-1720630800-1720634400@www.rockylakesgolf.com
SUMMARY:Spark League
DESCRIPTION:Tee Times
URL:https://www.rockylakesgolf.com/event/spark-league/2024-07-10/
END:VEVENT
END:VCALENDAR