BEGIN:VCALENDAR
VERSION:2.0
PRODID:-//Rocky Lakes Golf Course - ECPv6.15.18//NONSGML v1.0//EN
CALSCALE:GREGORIAN
METHOD:PUBLISH
X-WR-CALNAME:Rocky Lakes Golf Course
X-ORIGINAL-URL:https://www.rockylakesgolf.com
X-WR-CALDESC:Events for Rocky Lakes Golf Course
REFRESH-INTERVAL;VALUE=DURATION:PT1H
X-Robots-Tag:noindex
X-PUBLISHED-TTL:PT1H
BEGIN:VTIMEZONE
TZID:America/New_York
BEGIN:DAYLIGHT
TZOFFSETFROM:-0500
TZOFFSETTO:-0400
TZNAME:EDT
DTSTART:20240310T070000
END:DAYLIGHT
BEGIN:STANDARD
TZOFFSETFROM:-0400
TZOFFSETTO:-0500
TZNAME:EST
DTSTART:20241103T060000
END:STANDARD
BEGIN:DAYLIGHT
TZOFFSETFROM:-0500
TZOFFSETTO:-0400
TZNAME:EDT
DTSTART:20250309T070000
END:DAYLIGHT
BEGIN:STANDARD
TZOFFSETFROM:-0400
TZOFFSETTO:-0500
TZNAME:EST
DTSTART:20251102T060000
END:STANDARD
BEGIN:DAYLIGHT
TZOFFSETFROM:-0500
TZOFFSETTO:-0400
TZNAME:EDT
DTSTART:20260308T070000
END:DAYLIGHT
BEGIN:STANDARD
TZOFFSETFROM:-0400
TZOFFSETTO:-0500
TZNAME:EST
DTSTART:20261101T060000
END:STANDARD
END:VTIMEZONE
BEGIN:VTIMEZONE
TZID:UTC
BEGIN:STANDARD
TZOFFSETFROM:+0000
TZOFFSETTO:+0000
TZNAME:UTC
DTSTART:20240101T000000
END:STANDARD
END:VTIMEZONE
BEGIN:VEVENT
DTSTART;TZID=America/New_York:20251112T160000
DTEND;TZID=America/New_York:20251112T170000
DTSTAMP:20260419T195131
CREATED:20240515T032155Z
LAST-MODIFIED:20240515T032155Z
UID:10001132-1762963200-1762966800@www.rockylakesgolf.com
SUMMARY:Roger's League
DESCRIPTION:Scramble Format
URL:https://www.rockylakesgolf.com/event/rogers-league/2025-11-12/
END:VEVENT
BEGIN:VEVENT
DTSTART;TZID=America/New_York:20251112T170000
DTEND;TZID=America/New_York:20251112T180000
DTSTAMP:20260419T195131
CREATED:20240515T032501Z
LAST-MODIFIED:20240515T032501Z
UID:10001393-1762966800-1762970400@www.rockylakesgolf.com
SUMMARY:Spark League
DESCRIPTION:Tee Times
URL:https://www.rockylakesgolf.com/event/spark-league/2025-11-12/
END:VEVENT
BEGIN:VEVENT
DTSTART;TZID=America/New_York:20251113T100000
DTEND;TZID=America/New_York:20251113T130000
DTSTAMP:20260419T195131
CREATED:20240515T032621Z
LAST-MODIFIED:20240515T032621Z
UID:10001654-1763028000-1763038800@www.rockylakesgolf.com
SUMMARY:Kuna League
DESCRIPTION:Tee Times
URL:https://www.rockylakesgolf.com/event/kuna-league/2025-11-13/
END:VEVENT
BEGIN:VEVENT
DTSTART;TZID=UTC:20251113T140000
DTEND;TZID=UTC:20251113T170000
DTSTAMP:20260419T195131
CREATED:20240515T032658Z
LAST-MODIFIED:20240515T032658Z
UID:10001915-1763042400-1763053200@www.rockylakesgolf.com
SUMMARY:Guard League
DESCRIPTION:Tee Times
URL:https://www.rockylakesgolf.com/event/guard-league/2025-11-13/
END:VEVENT
BEGIN:VEVENT
DTSTART;TZID=America/New_York:20251113T170000
DTEND;TZID=America/New_York:20251113T200000
DTSTAMP:20260419T195131
CREATED:20240515T032803Z
LAST-MODIFIED:20240515T032803Z
UID:10002176-1763053200-1763064000@www.rockylakesgolf.com
SUMMARY:Average Joe's
DESCRIPTION:Tee Times
URL:https://www.rockylakesgolf.com/event/average-joes/2025-11-13/
END:VEVENT
BEGIN:VEVENT
DTSTART;TZID=America/New_York:20251116T090000
DTEND;TZID=America/New_York:20251116T120000
DTSTAMP:20260419T195131
CREATED:20240515T032857Z
LAST-MODIFIED:20240515T032857Z
UID:10002437-1763283600-1763294400@www.rockylakesgolf.com
SUMMARY:Best Ball
DESCRIPTION:Tee Times
URL:https://www.rockylakesgolf.com/event/best-ball/2025-11-16/
END:VEVENT
BEGIN:VEVENT
DTSTART;TZID=America/New_York:20251117T140000
DTEND;TZID=America/New_York:20251117T160000
DTSTAMP:20260419T195131
CREATED:20240515T031308Z
LAST-MODIFIED:20240515T031806Z
UID:10000090-1763388000-1763395200@www.rockylakesgolf.com
SUMMARY:Brick Tap & Tavern
DESCRIPTION:Tee Times
URL:https://www.rockylakesgolf.com/event/brick-tap-tavern/2025-11-17/
END:VEVENT
BEGIN:VEVENT
DTSTART;TZID=America/New_York:20251118T160000
DTEND;TZID=America/New_York:20251118T170000
DTSTAMP:20260419T195131
CREATED:20240515T031624Z
LAST-MODIFIED:20240515T031624Z
UID:10000612-1763481600-1763485200@www.rockylakesgolf.com
SUMMARY:Hipps
DESCRIPTION:Tee Times
URL:https://www.rockylakesgolf.com/event/hipps/2025-11-18/
END:VEVENT
BEGIN:VEVENT
DTSTART;TZID=America/New_York:20251118T170000
DTEND;TZID=America/New_York:20251118T180000
DTSTAMP:20260419T195131
CREATED:20240515T031506Z
LAST-MODIFIED:20240516T075910Z
UID:10002698-1763485200-1763488800@www.rockylakesgolf.com
SUMMARY:Playmates
DESCRIPTION:Scramble Format
URL:https://www.rockylakesgolf.com/event/playmates/2025-11-18/
END:VEVENT
BEGIN:VEVENT
DTSTART;TZID=America/New_York:20251119T160000
DTEND;TZID=America/New_York:20251119T170000
DTSTAMP:20260419T195131
CREATED:20240515T032155Z
LAST-MODIFIED:20240515T032155Z
UID:10001133-1763568000-1763571600@www.rockylakesgolf.com
SUMMARY:Roger's League
DESCRIPTION:Scramble Format
URL:https://www.rockylakesgolf.com/event/rogers-league/2025-11-19/
END:VEVENT
BEGIN:VEVENT
DTSTART;TZID=America/New_York:20251119T170000
DTEND;TZID=America/New_York:20251119T180000
DTSTAMP:20260419T195131
CREATED:20240515T032501Z
LAST-MODIFIED:20240515T032501Z
UID:10001394-1763571600-1763575200@www.rockylakesgolf.com
SUMMARY:Spark League
DESCRIPTION:Tee Times
URL:https://www.rockylakesgolf.com/event/spark-league/2025-11-19/
END:VEVENT
BEGIN:VEVENT
DTSTART;TZID=America/New_York:20251120T100000
DTEND;TZID=America/New_York:20251120T130000
DTSTAMP:20260419T195131
CREATED:20240515T032621Z
LAST-MODIFIED:20240515T032621Z
UID:10001655-1763632800-1763643600@www.rockylakesgolf.com
SUMMARY:Kuna League
DESCRIPTION:Tee Times
URL:https://www.rockylakesgolf.com/event/kuna-league/2025-11-20/
END:VEVENT
BEGIN:VEVENT
DTSTART;TZID=UTC:20251120T140000
DTEND;TZID=UTC:20251120T170000
DTSTAMP:20260419T195131
CREATED:20240515T032658Z
LAST-MODIFIED:20240515T032658Z
UID:10001916-1763647200-1763658000@www.rockylakesgolf.com
SUMMARY:Guard League
DESCRIPTION:Tee Times
URL:https://www.rockylakesgolf.com/event/guard-league/2025-11-20/
END:VEVENT
BEGIN:VEVENT
DTSTART;TZID=America/New_York:20251120T170000
DTEND;TZID=America/New_York:20251120T200000
DTSTAMP:20260419T195131
CREATED:20240515T032803Z
LAST-MODIFIED:20240515T032803Z
UID:10002177-1763658000-1763668800@www.rockylakesgolf.com
SUMMARY:Average Joe's
DESCRIPTION:Tee Times
URL:https://www.rockylakesgolf.com/event/average-joes/2025-11-20/
END:VEVENT
BEGIN:VEVENT
DTSTART;TZID=America/New_York:20251123T090000
DTEND;TZID=America/New_York:20251123T120000
DTSTAMP:20260419T195131
CREATED:20240515T032857Z
LAST-MODIFIED:20240515T032857Z
UID:10002438-1763888400-1763899200@www.rockylakesgolf.com
SUMMARY:Best Ball
DESCRIPTION:Tee Times
URL:https://www.rockylakesgolf.com/event/best-ball/2025-11-23/
END:VEVENT
BEGIN:VEVENT
DTSTART;TZID=America/New_York:20251124T140000
DTEND;TZID=America/New_York:20251124T160000
DTSTAMP:20260419T195131
CREATED:20240515T031308Z
LAST-MODIFIED:20240515T031806Z
UID:10000091-1763992800-1764000000@www.rockylakesgolf.com
SUMMARY:Brick Tap & Tavern
DESCRIPTION:Tee Times
URL:https://www.rockylakesgolf.com/event/brick-tap-tavern/2025-11-24/
END:VEVENT
BEGIN:VEVENT
DTSTART;TZID=America/New_York:20251125T160000
DTEND;TZID=America/New_York:20251125T170000
DTSTAMP:20260419T195131
CREATED:20240515T031624Z
LAST-MODIFIED:20240515T031624Z
UID:10000613-1764086400-1764090000@www.rockylakesgolf.com
SUMMARY:Hipps
DESCRIPTION:Tee Times
URL:https://www.rockylakesgolf.com/event/hipps/2025-11-25/
END:VEVENT
BEGIN:VEVENT
DTSTART;TZID=America/New_York:20251125T170000
DTEND;TZID=America/New_York:20251125T180000
DTSTAMP:20260419T195131
CREATED:20240515T031506Z
LAST-MODIFIED:20240516T075910Z
UID:10002699-1764090000-1764093600@www.rockylakesgolf.com
SUMMARY:Playmates
DESCRIPTION:Scramble Format
URL:https://www.rockylakesgolf.com/event/playmates/2025-11-25/
END:VEVENT
BEGIN:VEVENT
DTSTART;TZID=America/New_York:20251126T160000
DTEND;TZID=America/New_York:20251126T170000
DTSTAMP:20260419T195131
CREATED:20240515T032155Z
LAST-MODIFIED:20240515T032155Z
UID:10001134-1764172800-1764176400@www.rockylakesgolf.com
SUMMARY:Roger's League
DESCRIPTION:Scramble Format
URL:https://www.rockylakesgolf.com/event/rogers-league/2025-11-26/
END:VEVENT
BEGIN:VEVENT
DTSTART;TZID=America/New_York:20251126T170000
DTEND;TZID=America/New_York:20251126T180000
DTSTAMP:20260419T195131
CREATED:20240515T032501Z
LAST-MODIFIED:20240515T032501Z
UID:10001395-1764176400-1764180000@www.rockylakesgolf.com
SUMMARY:Spark League
DESCRIPTION:Tee Times
URL:https://www.rockylakesgolf.com/event/spark-league/2025-11-26/
END:VEVENT
BEGIN:VEVENT
DTSTART;TZID=America/New_York:20251127T100000
DTEND;TZID=America/New_York:20251127T130000
DTSTAMP:20260419T195131
CREATED:20240515T032621Z
LAST-MODIFIED:20240515T032621Z
UID:10001656-1764237600-1764248400@www.rockylakesgolf.com
SUMMARY:Kuna League
DESCRIPTION:Tee Times
URL:https://www.rockylakesgolf.com/event/kuna-league/2025-11-27/
END:VEVENT
BEGIN:VEVENT
DTSTART;TZID=UTC:20251127T140000
DTEND;TZID=UTC:20251127T170000
DTSTAMP:20260419T195131
CREATED:20240515T032658Z
LAST-MODIFIED:20240515T032658Z
UID:10001917-1764252000-1764262800@www.rockylakesgolf.com
SUMMARY:Guard League
DESCRIPTION:Tee Times
URL:https://www.rockylakesgolf.com/event/guard-league/2025-11-27/
END:VEVENT
BEGIN:VEVENT
DTSTART;TZID=America/New_York:20251127T170000
DTEND;TZID=America/New_York:20251127T200000
DTSTAMP:20260419T195131
CREATED:20240515T032803Z
LAST-MODIFIED:20240515T032803Z
UID:10002178-1764262800-1764273600@www.rockylakesgolf.com
SUMMARY:Average Joe's
DESCRIPTION:Tee Times
URL:https://www.rockylakesgolf.com/event/average-joes/2025-11-27/
END:VEVENT
BEGIN:VEVENT
DTSTART;TZID=America/New_York:20251130T090000
DTEND;TZID=America/New_York:20251130T120000
DTSTAMP:20260419T195131
CREATED:20240515T032857Z
LAST-MODIFIED:20240515T032857Z
UID:10002439-1764493200-1764504000@www.rockylakesgolf.com
SUMMARY:Best Ball
DESCRIPTION:Tee Times
URL:https://www.rockylakesgolf.com/event/best-ball/2025-11-30/
END:VEVENT
BEGIN:VEVENT
DTSTART;TZID=America/New_York:20251201T140000
DTEND;TZID=America/New_York:20251201T160000
DTSTAMP:20260419T195131
CREATED:20240515T031308Z
LAST-MODIFIED:20240515T031806Z
UID:10000092-1764597600-1764604800@www.rockylakesgolf.com
SUMMARY:Brick Tap & Tavern
DESCRIPTION:Tee Times
URL:https://www.rockylakesgolf.com/event/brick-tap-tavern/2025-12-01/
END:VEVENT
BEGIN:VEVENT
DTSTART;TZID=America/New_York:20251202T160000
DTEND;TZID=America/New_York:20251202T170000
DTSTAMP:20260419T195131
CREATED:20240515T031624Z
LAST-MODIFIED:20240515T031624Z
UID:10000614-1764691200-1764694800@www.rockylakesgolf.com
SUMMARY:Hipps
DESCRIPTION:Tee Times
URL:https://www.rockylakesgolf.com/event/hipps/2025-12-02/
END:VEVENT
BEGIN:VEVENT
DTSTART;TZID=America/New_York:20251202T170000
DTEND;TZID=America/New_York:20251202T180000
DTSTAMP:20260419T195131
CREATED:20240515T031506Z
LAST-MODIFIED:20240516T075910Z
UID:10002700-1764694800-1764698400@www.rockylakesgolf.com
SUMMARY:Playmates
DESCRIPTION:Scramble Format
URL:https://www.rockylakesgolf.com/event/playmates/2025-12-02/
END:VEVENT
BEGIN:VEVENT
DTSTART;TZID=America/New_York:20251203T160000
DTEND;TZID=America/New_York:20251203T170000
DTSTAMP:20260419T195131
CREATED:20240515T032155Z
LAST-MODIFIED:20240515T032155Z
UID:10001135-1764777600-1764781200@www.rockylakesgolf.com
SUMMARY:Roger's League
DESCRIPTION:Scramble Format
URL:https://www.rockylakesgolf.com/event/rogers-league/2025-12-03/
END:VEVENT
BEGIN:VEVENT
DTSTART;TZID=America/New_York:20251203T170000
DTEND;TZID=America/New_York:20251203T180000
DTSTAMP:20260419T195131
CREATED:20240515T032501Z
LAST-MODIFIED:20240515T032501Z
UID:10001396-1764781200-1764784800@www.rockylakesgolf.com
SUMMARY:Spark League
DESCRIPTION:Tee Times
URL:https://www.rockylakesgolf.com/event/spark-league/2025-12-03/
END:VEVENT
BEGIN:VEVENT
DTSTART;TZID=America/New_York:20251204T100000
DTEND;TZID=America/New_York:20251204T130000
DTSTAMP:20260419T195131
CREATED:20240515T032621Z
LAST-MODIFIED:20240515T032621Z
UID:10001657-1764842400-1764853200@www.rockylakesgolf.com
SUMMARY:Kuna League
DESCRIPTION:Tee Times
URL:https://www.rockylakesgolf.com/event/kuna-league/2025-12-04/
END:VEVENT
END:VCALENDAR