BEGIN:VCALENDAR
VERSION:2.0
PRODID:-//Rocky Lakes Golf Course - ECPv6.15.18//NONSGML v1.0//EN
CALSCALE:GREGORIAN
METHOD:PUBLISH
X-ORIGINAL-URL:https://www.rockylakesgolf.com
X-WR-CALDESC:Events for Rocky Lakes Golf Course
REFRESH-INTERVAL;VALUE=DURATION:PT1H
X-Robots-Tag:noindex
X-PUBLISHED-TTL:PT1H
BEGIN:VTIMEZONE
TZID:America/New_York
BEGIN:DAYLIGHT
TZOFFSETFROM:-0500
TZOFFSETTO:-0400
TZNAME:EDT
DTSTART:20240310T070000
END:DAYLIGHT
BEGIN:STANDARD
TZOFFSETFROM:-0400
TZOFFSETTO:-0500
TZNAME:EST
DTSTART:20241103T060000
END:STANDARD
BEGIN:DAYLIGHT
TZOFFSETFROM:-0500
TZOFFSETTO:-0400
TZNAME:EDT
DTSTART:20250309T070000
END:DAYLIGHT
BEGIN:STANDARD
TZOFFSETFROM:-0400
TZOFFSETTO:-0500
TZNAME:EST
DTSTART:20251102T060000
END:STANDARD
BEGIN:DAYLIGHT
TZOFFSETFROM:-0500
TZOFFSETTO:-0400
TZNAME:EDT
DTSTART:20260308T070000
END:DAYLIGHT
BEGIN:STANDARD
TZOFFSETFROM:-0400
TZOFFSETTO:-0500
TZNAME:EST
DTSTART:20261101T060000
END:STANDARD
END:VTIMEZONE
BEGIN:VTIMEZONE
TZID:UTC
BEGIN:STANDARD
TZOFFSETFROM:+0000
TZOFFSETTO:+0000
TZNAME:UTC
DTSTART:20240101T000000
END:STANDARD
END:VTIMEZONE
BEGIN:VEVENT
DTSTART;TZID=America/New_York:20250526T140000
DTEND;TZID=America/New_York:20250526T160000
DTSTAMP:20260422T013628
CREATED:20240515T031308Z
LAST-MODIFIED:20240515T031806Z
UID:10000065-1748268000-1748275200@www.rockylakesgolf.com
SUMMARY:Brick Tap & Tavern
DESCRIPTION:Tee Times
URL:https://www.rockylakesgolf.com/event/brick-tap-tavern/2025-05-26/
END:VEVENT
BEGIN:VEVENT
DTSTART;TZID=America/New_York:20250527T160000
DTEND;TZID=America/New_York:20250527T170000
DTSTAMP:20260422T013628
CREATED:20240515T031624Z
LAST-MODIFIED:20240515T031624Z
UID:10000587-1748361600-1748365200@www.rockylakesgolf.com
SUMMARY:Hipps
DESCRIPTION:Tee Times
URL:https://www.rockylakesgolf.com/event/hipps/2025-05-27/
END:VEVENT
BEGIN:VEVENT
DTSTART;TZID=America/New_York:20250527T170000
DTEND;TZID=America/New_York:20250527T180000
DTSTAMP:20260422T013628
CREATED:20240515T031506Z
LAST-MODIFIED:20240516T075910Z
UID:10002673-1748365200-1748368800@www.rockylakesgolf.com
SUMMARY:Playmates
DESCRIPTION:Scramble Format
URL:https://www.rockylakesgolf.com/event/playmates/2025-05-27/
END:VEVENT
BEGIN:VEVENT
DTSTART;TZID=America/New_York:20250528T160000
DTEND;TZID=America/New_York:20250528T170000
DTSTAMP:20260422T013628
CREATED:20240515T032155Z
LAST-MODIFIED:20240515T032155Z
UID:10001108-1748448000-1748451600@www.rockylakesgolf.com
SUMMARY:Roger's League
DESCRIPTION:Scramble Format
URL:https://www.rockylakesgolf.com/event/rogers-league/2025-05-28/
END:VEVENT
BEGIN:VEVENT
DTSTART;TZID=America/New_York:20250528T170000
DTEND;TZID=America/New_York:20250528T180000
DTSTAMP:20260422T013628
CREATED:20240515T032501Z
LAST-MODIFIED:20240515T032501Z
UID:10001369-1748451600-1748455200@www.rockylakesgolf.com
SUMMARY:Spark League
DESCRIPTION:Tee Times
URL:https://www.rockylakesgolf.com/event/spark-league/2025-05-28/
END:VEVENT
BEGIN:VEVENT
DTSTART;TZID=America/New_York:20250529T100000
DTEND;TZID=America/New_York:20250529T130000
DTSTAMP:20260422T013628
CREATED:20240515T032621Z
LAST-MODIFIED:20240515T032621Z
UID:10001630-1748512800-1748523600@www.rockylakesgolf.com
SUMMARY:Kuna League
DESCRIPTION:Tee Times
URL:https://www.rockylakesgolf.com/event/kuna-league/2025-05-29/
END:VEVENT
BEGIN:VEVENT
DTSTART;TZID=UTC:20250529T140000
DTEND;TZID=UTC:20250529T170000
DTSTAMP:20260422T013628
CREATED:20240515T032658Z
LAST-MODIFIED:20240515T032658Z
UID:10001891-1748527200-1748538000@www.rockylakesgolf.com
SUMMARY:Guard League
DESCRIPTION:Tee Times
URL:https://www.rockylakesgolf.com/event/guard-league/2025-05-29/
END:VEVENT
BEGIN:VEVENT
DTSTART;TZID=America/New_York:20250529T170000
DTEND;TZID=America/New_York:20250529T200000
DTSTAMP:20260422T013628
CREATED:20240515T032803Z
LAST-MODIFIED:20240515T032803Z
UID:10002152-1748538000-1748548800@www.rockylakesgolf.com
SUMMARY:Average Joe's
DESCRIPTION:Tee Times
URL:https://www.rockylakesgolf.com/event/average-joes/2025-05-29/
END:VEVENT
BEGIN:VEVENT
DTSTART;TZID=America/New_York:20250601T090000
DTEND;TZID=America/New_York:20250601T120000
DTSTAMP:20260422T013628
CREATED:20240515T032857Z
LAST-MODIFIED:20240515T032857Z
UID:10002413-1748768400-1748779200@www.rockylakesgolf.com
SUMMARY:Best Ball
DESCRIPTION:Tee Times
URL:https://www.rockylakesgolf.com/event/best-ball/2025-06-01/
END:VEVENT
BEGIN:VEVENT
DTSTART;TZID=America/New_York:20250602T140000
DTEND;TZID=America/New_York:20250602T160000
DTSTAMP:20260422T013628
CREATED:20240515T031308Z
LAST-MODIFIED:20240515T031806Z
UID:10000066-1748872800-1748880000@www.rockylakesgolf.com
SUMMARY:Brick Tap & Tavern
DESCRIPTION:Tee Times
URL:https://www.rockylakesgolf.com/event/brick-tap-tavern/2025-06-02/
END:VEVENT
BEGIN:VEVENT
DTSTART;TZID=America/New_York:20250603T160000
DTEND;TZID=America/New_York:20250603T170000
DTSTAMP:20260422T013628
CREATED:20240515T031624Z
LAST-MODIFIED:20240515T031624Z
UID:10000588-1748966400-1748970000@www.rockylakesgolf.com
SUMMARY:Hipps
DESCRIPTION:Tee Times
URL:https://www.rockylakesgolf.com/event/hipps/2025-06-03/
END:VEVENT
BEGIN:VEVENT
DTSTART;TZID=America/New_York:20250603T170000
DTEND;TZID=America/New_York:20250603T180000
DTSTAMP:20260422T013628
CREATED:20240515T031506Z
LAST-MODIFIED:20240516T075910Z
UID:10002674-1748970000-1748973600@www.rockylakesgolf.com
SUMMARY:Playmates
DESCRIPTION:Scramble Format
URL:https://www.rockylakesgolf.com/event/playmates/2025-06-03/
END:VEVENT
BEGIN:VEVENT
DTSTART;TZID=America/New_York:20250604T160000
DTEND;TZID=America/New_York:20250604T170000
DTSTAMP:20260422T013628
CREATED:20240515T032155Z
LAST-MODIFIED:20240515T032155Z
UID:10001109-1749052800-1749056400@www.rockylakesgolf.com
SUMMARY:Roger's League
DESCRIPTION:Scramble Format
URL:https://www.rockylakesgolf.com/event/rogers-league/2025-06-04/
END:VEVENT
BEGIN:VEVENT
DTSTART;TZID=America/New_York:20250604T170000
DTEND;TZID=America/New_York:20250604T180000
DTSTAMP:20260422T013628
CREATED:20240515T032501Z
LAST-MODIFIED:20240515T032501Z
UID:10001370-1749056400-1749060000@www.rockylakesgolf.com
SUMMARY:Spark League
DESCRIPTION:Tee Times
URL:https://www.rockylakesgolf.com/event/spark-league/2025-06-04/
END:VEVENT
BEGIN:VEVENT
DTSTART;TZID=America/New_York:20250605T100000
DTEND;TZID=America/New_York:20250605T130000
DTSTAMP:20260422T013628
CREATED:20240515T032621Z
LAST-MODIFIED:20240515T032621Z
UID:10001631-1749117600-1749128400@www.rockylakesgolf.com
SUMMARY:Kuna League
DESCRIPTION:Tee Times
URL:https://www.rockylakesgolf.com/event/kuna-league/2025-06-05/
END:VEVENT
BEGIN:VEVENT
DTSTART;TZID=UTC:20250605T140000
DTEND;TZID=UTC:20250605T170000
DTSTAMP:20260422T013628
CREATED:20240515T032658Z
LAST-MODIFIED:20240515T032658Z
UID:10001892-1749132000-1749142800@www.rockylakesgolf.com
SUMMARY:Guard League
DESCRIPTION:Tee Times
URL:https://www.rockylakesgolf.com/event/guard-league/2025-06-05/
END:VEVENT
BEGIN:VEVENT
DTSTART;TZID=America/New_York:20250605T170000
DTEND;TZID=America/New_York:20250605T200000
DTSTAMP:20260422T013628
CREATED:20240515T032803Z
LAST-MODIFIED:20240515T032803Z
UID:10002153-1749142800-1749153600@www.rockylakesgolf.com
SUMMARY:Average Joe's
DESCRIPTION:Tee Times
URL:https://www.rockylakesgolf.com/event/average-joes/2025-06-05/
END:VEVENT
BEGIN:VEVENT
DTSTART;TZID=America/New_York:20250608T090000
DTEND;TZID=America/New_York:20250608T120000
DTSTAMP:20260422T013628
CREATED:20240515T032857Z
LAST-MODIFIED:20240515T032857Z
UID:10002414-1749373200-1749384000@www.rockylakesgolf.com
SUMMARY:Best Ball
DESCRIPTION:Tee Times
URL:https://www.rockylakesgolf.com/event/best-ball/2025-06-08/
END:VEVENT
BEGIN:VEVENT
DTSTART;TZID=America/New_York:20250609T140000
DTEND;TZID=America/New_York:20250609T160000
DTSTAMP:20260422T013628
CREATED:20240515T031308Z
LAST-MODIFIED:20240515T031806Z
UID:10000067-1749477600-1749484800@www.rockylakesgolf.com
SUMMARY:Brick Tap & Tavern
DESCRIPTION:Tee Times
URL:https://www.rockylakesgolf.com/event/brick-tap-tavern/2025-06-09/
END:VEVENT
BEGIN:VEVENT
DTSTART;TZID=America/New_York:20250610T160000
DTEND;TZID=America/New_York:20250610T170000
DTSTAMP:20260422T013628
CREATED:20240515T031624Z
LAST-MODIFIED:20240515T031624Z
UID:10000589-1749571200-1749574800@www.rockylakesgolf.com
SUMMARY:Hipps
DESCRIPTION:Tee Times
URL:https://www.rockylakesgolf.com/event/hipps/2025-06-10/
END:VEVENT
BEGIN:VEVENT
DTSTART;TZID=America/New_York:20250610T170000
DTEND;TZID=America/New_York:20250610T180000
DTSTAMP:20260422T013628
CREATED:20240515T031506Z
LAST-MODIFIED:20240516T075910Z
UID:10002675-1749574800-1749578400@www.rockylakesgolf.com
SUMMARY:Playmates
DESCRIPTION:Scramble Format
URL:https://www.rockylakesgolf.com/event/playmates/2025-06-10/
END:VEVENT
BEGIN:VEVENT
DTSTART;TZID=America/New_York:20250611T160000
DTEND;TZID=America/New_York:20250611T170000
DTSTAMP:20260422T013628
CREATED:20240515T032155Z
LAST-MODIFIED:20240515T032155Z
UID:10001110-1749657600-1749661200@www.rockylakesgolf.com
SUMMARY:Roger's League
DESCRIPTION:Scramble Format
URL:https://www.rockylakesgolf.com/event/rogers-league/2025-06-11/
END:VEVENT
BEGIN:VEVENT
DTSTART;TZID=America/New_York:20250611T170000
DTEND;TZID=America/New_York:20250611T180000
DTSTAMP:20260422T013628
CREATED:20240515T032501Z
LAST-MODIFIED:20240515T032501Z
UID:10001371-1749661200-1749664800@www.rockylakesgolf.com
SUMMARY:Spark League
DESCRIPTION:Tee Times
URL:https://www.rockylakesgolf.com/event/spark-league/2025-06-11/
END:VEVENT
BEGIN:VEVENT
DTSTART;TZID=America/New_York:20250612T100000
DTEND;TZID=America/New_York:20250612T130000
DTSTAMP:20260422T013628
CREATED:20240515T032621Z
LAST-MODIFIED:20240515T032621Z
UID:10001632-1749722400-1749733200@www.rockylakesgolf.com
SUMMARY:Kuna League
DESCRIPTION:Tee Times
URL:https://www.rockylakesgolf.com/event/kuna-league/2025-06-12/
END:VEVENT
BEGIN:VEVENT
DTSTART;TZID=UTC:20250612T140000
DTEND;TZID=UTC:20250612T170000
DTSTAMP:20260422T013628
CREATED:20240515T032658Z
LAST-MODIFIED:20240515T032658Z
UID:10001893-1749736800-1749747600@www.rockylakesgolf.com
SUMMARY:Guard League
DESCRIPTION:Tee Times
URL:https://www.rockylakesgolf.com/event/guard-league/2025-06-12/
END:VEVENT
BEGIN:VEVENT
DTSTART;TZID=America/New_York:20250612T170000
DTEND;TZID=America/New_York:20250612T200000
DTSTAMP:20260422T013628
CREATED:20240515T032803Z
LAST-MODIFIED:20240515T032803Z
UID:10002154-1749747600-1749758400@www.rockylakesgolf.com
SUMMARY:Average Joe's
DESCRIPTION:Tee Times
URL:https://www.rockylakesgolf.com/event/average-joes/2025-06-12/
END:VEVENT
BEGIN:VEVENT
DTSTART;TZID=America/New_York:20250615T090000
DTEND;TZID=America/New_York:20250615T120000
DTSTAMP:20260422T013628
CREATED:20240515T032857Z
LAST-MODIFIED:20240515T032857Z
UID:10002415-1749978000-1749988800@www.rockylakesgolf.com
SUMMARY:Best Ball
DESCRIPTION:Tee Times
URL:https://www.rockylakesgolf.com/event/best-ball/2025-06-15/
END:VEVENT
BEGIN:VEVENT
DTSTART;TZID=America/New_York:20250616T140000
DTEND;TZID=America/New_York:20250616T160000
DTSTAMP:20260422T013628
CREATED:20240515T031308Z
LAST-MODIFIED:20240515T031806Z
UID:10000068-1750082400-1750089600@www.rockylakesgolf.com
SUMMARY:Brick Tap & Tavern
DESCRIPTION:Tee Times
URL:https://www.rockylakesgolf.com/event/brick-tap-tavern/2025-06-16/
END:VEVENT
BEGIN:VEVENT
DTSTART;TZID=America/New_York:20250617T160000
DTEND;TZID=America/New_York:20250617T170000
DTSTAMP:20260422T013628
CREATED:20240515T031624Z
LAST-MODIFIED:20240515T031624Z
UID:10000590-1750176000-1750179600@www.rockylakesgolf.com
SUMMARY:Hipps
DESCRIPTION:Tee Times
URL:https://www.rockylakesgolf.com/event/hipps/2025-06-17/
END:VEVENT
BEGIN:VEVENT
DTSTART;TZID=America/New_York:20250617T170000
DTEND;TZID=America/New_York:20250617T180000
DTSTAMP:20260422T013628
CREATED:20240515T031506Z
LAST-MODIFIED:20240516T075910Z
UID:10002676-1750179600-1750183200@www.rockylakesgolf.com
SUMMARY:Playmates
DESCRIPTION:Scramble Format
URL:https://www.rockylakesgolf.com/event/playmates/2025-06-17/
END:VEVENT
END:VCALENDAR