BEGIN:VCALENDAR
VERSION:2.0
PRODID:-//Rocky Lakes Golf Course - ECPv6.15.18//NONSGML v1.0//EN
CALSCALE:GREGORIAN
METHOD:PUBLISH
X-ORIGINAL-URL:https://www.rockylakesgolf.com
X-WR-CALDESC:Events for Rocky Lakes Golf Course
REFRESH-INTERVAL;VALUE=DURATION:PT1H
X-Robots-Tag:noindex
X-PUBLISHED-TTL:PT1H
BEGIN:VTIMEZONE
TZID:America/New_York
BEGIN:DAYLIGHT
TZOFFSETFROM:-0500
TZOFFSETTO:-0400
TZNAME:EDT
DTSTART:20250309T070000
END:DAYLIGHT
BEGIN:STANDARD
TZOFFSETFROM:-0400
TZOFFSETTO:-0500
TZNAME:EST
DTSTART:20251102T060000
END:STANDARD
BEGIN:DAYLIGHT
TZOFFSETFROM:-0500
TZOFFSETTO:-0400
TZNAME:EDT
DTSTART:20260308T070000
END:DAYLIGHT
BEGIN:STANDARD
TZOFFSETFROM:-0400
TZOFFSETTO:-0500
TZNAME:EST
DTSTART:20261101T060000
END:STANDARD
BEGIN:DAYLIGHT
TZOFFSETFROM:-0500
TZOFFSETTO:-0400
TZNAME:EDT
DTSTART:20270314T070000
END:DAYLIGHT
BEGIN:STANDARD
TZOFFSETFROM:-0400
TZOFFSETTO:-0500
TZNAME:EST
DTSTART:20271107T060000
END:STANDARD
END:VTIMEZONE
BEGIN:VTIMEZONE
TZID:UTC
BEGIN:STANDARD
TZOFFSETFROM:+0000
TZOFFSETTO:+0000
TZNAME:UTC
DTSTART:20250101T000000
END:STANDARD
END:VTIMEZONE
BEGIN:VEVENT
DTSTART;TZID=America/New_York:20261208T170000
DTEND;TZID=America/New_York:20261208T180000
DTSTAMP:20260421T190927
CREATED:20240515T031506Z
LAST-MODIFIED:20240516T075910Z
UID:10002753-1796749200-1796752800@www.rockylakesgolf.com
SUMMARY:Playmates
DESCRIPTION:Scramble Format
URL:https://www.rockylakesgolf.com/event/playmates/2026-12-08/
END:VEVENT
BEGIN:VEVENT
DTSTART;TZID=America/New_York:20261209T160000
DTEND;TZID=America/New_York:20261209T170000
DTSTAMP:20260421T190927
CREATED:20240515T032155Z
LAST-MODIFIED:20240515T032155Z
UID:10001188-1796832000-1796835600@www.rockylakesgolf.com
SUMMARY:Roger's League
DESCRIPTION:Scramble Format
URL:https://www.rockylakesgolf.com/event/rogers-league/2026-12-09/
END:VEVENT
BEGIN:VEVENT
DTSTART;TZID=America/New_York:20261209T170000
DTEND;TZID=America/New_York:20261209T180000
DTSTAMP:20260421T190927
CREATED:20240515T032501Z
LAST-MODIFIED:20240515T032501Z
UID:10001449-1796835600-1796839200@www.rockylakesgolf.com
SUMMARY:Spark League
DESCRIPTION:Tee Times
URL:https://www.rockylakesgolf.com/event/spark-league/2026-12-09/
END:VEVENT
BEGIN:VEVENT
DTSTART;TZID=America/New_York:20261210T100000
DTEND;TZID=America/New_York:20261210T130000
DTSTAMP:20260421T190927
CREATED:20240515T032621Z
LAST-MODIFIED:20240515T032621Z
UID:10001710-1796896800-1796907600@www.rockylakesgolf.com
SUMMARY:Kuna League
DESCRIPTION:Tee Times
URL:https://www.rockylakesgolf.com/event/kuna-league/2026-12-10/
END:VEVENT
BEGIN:VEVENT
DTSTART;TZID=UTC:20261210T140000
DTEND;TZID=UTC:20261210T170000
DTSTAMP:20260421T190927
CREATED:20240515T032658Z
LAST-MODIFIED:20240515T032658Z
UID:10001971-1796911200-1796922000@www.rockylakesgolf.com
SUMMARY:Guard League
DESCRIPTION:Tee Times
URL:https://www.rockylakesgolf.com/event/guard-league/2026-12-10/
END:VEVENT
BEGIN:VEVENT
DTSTART;TZID=America/New_York:20261210T170000
DTEND;TZID=America/New_York:20261210T200000
DTSTAMP:20260421T190927
CREATED:20240515T032803Z
LAST-MODIFIED:20240515T032803Z
UID:10002232-1796922000-1796932800@www.rockylakesgolf.com
SUMMARY:Average Joe's
DESCRIPTION:Tee Times
URL:https://www.rockylakesgolf.com/event/average-joes/2026-12-10/
END:VEVENT
BEGIN:VEVENT
DTSTART;TZID=America/New_York:20261213T090000
DTEND;TZID=America/New_York:20261213T120000
DTSTAMP:20260421T190927
CREATED:20240515T032857Z
LAST-MODIFIED:20240515T032857Z
UID:10002493-1797152400-1797163200@www.rockylakesgolf.com
SUMMARY:Best Ball
DESCRIPTION:Tee Times
URL:https://www.rockylakesgolf.com/event/best-ball/2026-12-13/
END:VEVENT
BEGIN:VEVENT
DTSTART;TZID=America/New_York:20261214T140000
DTEND;TZID=America/New_York:20261214T160000
DTSTAMP:20260421T190927
CREATED:20240515T031308Z
LAST-MODIFIED:20240515T031806Z
UID:10000146-1797256800-1797264000@www.rockylakesgolf.com
SUMMARY:Brick Tap & Tavern
DESCRIPTION:Tee Times
URL:https://www.rockylakesgolf.com/event/brick-tap-tavern/2026-12-14/
END:VEVENT
BEGIN:VEVENT
DTSTART;TZID=America/New_York:20261215T160000
DTEND;TZID=America/New_York:20261215T170000
DTSTAMP:20260421T190927
CREATED:20240515T031624Z
LAST-MODIFIED:20240515T031624Z
UID:10000668-1797350400-1797354000@www.rockylakesgolf.com
SUMMARY:Hipps
DESCRIPTION:Tee Times
URL:https://www.rockylakesgolf.com/event/hipps/2026-12-15/
END:VEVENT
BEGIN:VEVENT
DTSTART;TZID=America/New_York:20261215T170000
DTEND;TZID=America/New_York:20261215T180000
DTSTAMP:20260421T190927
CREATED:20240515T031506Z
LAST-MODIFIED:20240516T075910Z
UID:10002754-1797354000-1797357600@www.rockylakesgolf.com
SUMMARY:Playmates
DESCRIPTION:Scramble Format
URL:https://www.rockylakesgolf.com/event/playmates/2026-12-15/
END:VEVENT
BEGIN:VEVENT
DTSTART;TZID=America/New_York:20261216T160000
DTEND;TZID=America/New_York:20261216T170000
DTSTAMP:20260421T190927
CREATED:20240515T032155Z
LAST-MODIFIED:20240515T032155Z
UID:10001189-1797436800-1797440400@www.rockylakesgolf.com
SUMMARY:Roger's League
DESCRIPTION:Scramble Format
URL:https://www.rockylakesgolf.com/event/rogers-league/2026-12-16/
END:VEVENT
BEGIN:VEVENT
DTSTART;TZID=America/New_York:20261216T170000
DTEND;TZID=America/New_York:20261216T180000
DTSTAMP:20260421T190927
CREATED:20240515T032501Z
LAST-MODIFIED:20240515T032501Z
UID:10001450-1797440400-1797444000@www.rockylakesgolf.com
SUMMARY:Spark League
DESCRIPTION:Tee Times
URL:https://www.rockylakesgolf.com/event/spark-league/2026-12-16/
END:VEVENT
BEGIN:VEVENT
DTSTART;TZID=America/New_York:20261217T100000
DTEND;TZID=America/New_York:20261217T130000
DTSTAMP:20260421T190927
CREATED:20240515T032621Z
LAST-MODIFIED:20240515T032621Z
UID:10001711-1797501600-1797512400@www.rockylakesgolf.com
SUMMARY:Kuna League
DESCRIPTION:Tee Times
URL:https://www.rockylakesgolf.com/event/kuna-league/2026-12-17/
END:VEVENT
BEGIN:VEVENT
DTSTART;TZID=UTC:20261217T140000
DTEND;TZID=UTC:20261217T170000
DTSTAMP:20260421T190927
CREATED:20240515T032658Z
LAST-MODIFIED:20240515T032658Z
UID:10001972-1797516000-1797526800@www.rockylakesgolf.com
SUMMARY:Guard League
DESCRIPTION:Tee Times
URL:https://www.rockylakesgolf.com/event/guard-league/2026-12-17/
END:VEVENT
BEGIN:VEVENT
DTSTART;TZID=America/New_York:20261217T170000
DTEND;TZID=America/New_York:20261217T200000
DTSTAMP:20260421T190927
CREATED:20240515T032803Z
LAST-MODIFIED:20240515T032803Z
UID:10002233-1797526800-1797537600@www.rockylakesgolf.com
SUMMARY:Average Joe's
DESCRIPTION:Tee Times
URL:https://www.rockylakesgolf.com/event/average-joes/2026-12-17/
END:VEVENT
BEGIN:VEVENT
DTSTART;TZID=America/New_York:20261220T090000
DTEND;TZID=America/New_York:20261220T120000
DTSTAMP:20260421T190927
CREATED:20240515T032857Z
LAST-MODIFIED:20240515T032857Z
UID:10002494-1797757200-1797768000@www.rockylakesgolf.com
SUMMARY:Best Ball
DESCRIPTION:Tee Times
URL:https://www.rockylakesgolf.com/event/best-ball/2026-12-20/
END:VEVENT
BEGIN:VEVENT
DTSTART;TZID=America/New_York:20261221T140000
DTEND;TZID=America/New_York:20261221T160000
DTSTAMP:20260421T190927
CREATED:20240515T031308Z
LAST-MODIFIED:20240515T031806Z
UID:10000147-1797861600-1797868800@www.rockylakesgolf.com
SUMMARY:Brick Tap & Tavern
DESCRIPTION:Tee Times
URL:https://www.rockylakesgolf.com/event/brick-tap-tavern/2026-12-21/
END:VEVENT
BEGIN:VEVENT
DTSTART;TZID=America/New_York:20261222T160000
DTEND;TZID=America/New_York:20261222T170000
DTSTAMP:20260421T190927
CREATED:20240515T031624Z
LAST-MODIFIED:20240515T031624Z
UID:10000669-1797955200-1797958800@www.rockylakesgolf.com
SUMMARY:Hipps
DESCRIPTION:Tee Times
URL:https://www.rockylakesgolf.com/event/hipps/2026-12-22/
END:VEVENT
BEGIN:VEVENT
DTSTART;TZID=America/New_York:20261222T170000
DTEND;TZID=America/New_York:20261222T180000
DTSTAMP:20260421T190927
CREATED:20240515T031506Z
LAST-MODIFIED:20240516T075910Z
UID:10002755-1797958800-1797962400@www.rockylakesgolf.com
SUMMARY:Playmates
DESCRIPTION:Scramble Format
URL:https://www.rockylakesgolf.com/event/playmates/2026-12-22/
END:VEVENT
BEGIN:VEVENT
DTSTART;TZID=America/New_York:20261223T160000
DTEND;TZID=America/New_York:20261223T170000
DTSTAMP:20260421T190927
CREATED:20240515T032155Z
LAST-MODIFIED:20240515T032155Z
UID:10001190-1798041600-1798045200@www.rockylakesgolf.com
SUMMARY:Roger's League
DESCRIPTION:Scramble Format
URL:https://www.rockylakesgolf.com/event/rogers-league/2026-12-23/
END:VEVENT
BEGIN:VEVENT
DTSTART;TZID=America/New_York:20261223T170000
DTEND;TZID=America/New_York:20261223T180000
DTSTAMP:20260421T190927
CREATED:20240515T032501Z
LAST-MODIFIED:20240515T032501Z
UID:10001451-1798045200-1798048800@www.rockylakesgolf.com
SUMMARY:Spark League
DESCRIPTION:Tee Times
URL:https://www.rockylakesgolf.com/event/spark-league/2026-12-23/
END:VEVENT
BEGIN:VEVENT
DTSTART;TZID=America/New_York:20261224T100000
DTEND;TZID=America/New_York:20261224T130000
DTSTAMP:20260421T190927
CREATED:20240515T032621Z
LAST-MODIFIED:20240515T032621Z
UID:10001712-1798106400-1798117200@www.rockylakesgolf.com
SUMMARY:Kuna League
DESCRIPTION:Tee Times
URL:https://www.rockylakesgolf.com/event/kuna-league/2026-12-24/
END:VEVENT
BEGIN:VEVENT
DTSTART;TZID=UTC:20261224T140000
DTEND;TZID=UTC:20261224T170000
DTSTAMP:20260421T190927
CREATED:20240515T032658Z
LAST-MODIFIED:20240515T032658Z
UID:10001973-1798120800-1798131600@www.rockylakesgolf.com
SUMMARY:Guard League
DESCRIPTION:Tee Times
URL:https://www.rockylakesgolf.com/event/guard-league/2026-12-24/
END:VEVENT
BEGIN:VEVENT
DTSTART;TZID=America/New_York:20261224T170000
DTEND;TZID=America/New_York:20261224T200000
DTSTAMP:20260421T190927
CREATED:20240515T032803Z
LAST-MODIFIED:20240515T032803Z
UID:10002234-1798131600-1798142400@www.rockylakesgolf.com
SUMMARY:Average Joe's
DESCRIPTION:Tee Times
URL:https://www.rockylakesgolf.com/event/average-joes/2026-12-24/
END:VEVENT
BEGIN:VEVENT
DTSTART;TZID=America/New_York:20261227T090000
DTEND;TZID=America/New_York:20261227T120000
DTSTAMP:20260421T190927
CREATED:20240515T032857Z
LAST-MODIFIED:20240515T032857Z
UID:10002495-1798362000-1798372800@www.rockylakesgolf.com
SUMMARY:Best Ball
DESCRIPTION:Tee Times
URL:https://www.rockylakesgolf.com/event/best-ball/2026-12-27/
END:VEVENT
BEGIN:VEVENT
DTSTART;TZID=America/New_York:20261228T140000
DTEND;TZID=America/New_York:20261228T160000
DTSTAMP:20260421T190927
CREATED:20240515T031308Z
LAST-MODIFIED:20240515T031806Z
UID:10000148-1798466400-1798473600@www.rockylakesgolf.com
SUMMARY:Brick Tap & Tavern
DESCRIPTION:Tee Times
URL:https://www.rockylakesgolf.com/event/brick-tap-tavern/2026-12-28/
END:VEVENT
BEGIN:VEVENT
DTSTART;TZID=America/New_York:20261229T160000
DTEND;TZID=America/New_York:20261229T170000
DTSTAMP:20260421T190927
CREATED:20240515T031624Z
LAST-MODIFIED:20240515T031624Z
UID:10000670-1798560000-1798563600@www.rockylakesgolf.com
SUMMARY:Hipps
DESCRIPTION:Tee Times
URL:https://www.rockylakesgolf.com/event/hipps/2026-12-29/
END:VEVENT
BEGIN:VEVENT
DTSTART;TZID=America/New_York:20261229T170000
DTEND;TZID=America/New_York:20261229T180000
DTSTAMP:20260421T190927
CREATED:20240515T031506Z
LAST-MODIFIED:20240516T075910Z
UID:10002756-1798563600-1798567200@www.rockylakesgolf.com
SUMMARY:Playmates
DESCRIPTION:Scramble Format
URL:https://www.rockylakesgolf.com/event/playmates/2026-12-29/
END:VEVENT
BEGIN:VEVENT
DTSTART;TZID=America/New_York:20261230T160000
DTEND;TZID=America/New_York:20261230T170000
DTSTAMP:20260421T190927
CREATED:20240515T032155Z
LAST-MODIFIED:20240515T032155Z
UID:10001191-1798646400-1798650000@www.rockylakesgolf.com
SUMMARY:Roger's League
DESCRIPTION:Scramble Format
URL:https://www.rockylakesgolf.com/event/rogers-league/2026-12-30/
END:VEVENT
BEGIN:VEVENT
DTSTART;TZID=America/New_York:20261230T170000
DTEND;TZID=America/New_York:20261230T180000
DTSTAMP:20260421T190927
CREATED:20240515T032501Z
LAST-MODIFIED:20240515T032501Z
UID:10001452-1798650000-1798653600@www.rockylakesgolf.com
SUMMARY:Spark League
DESCRIPTION:Tee Times
URL:https://www.rockylakesgolf.com/event/spark-league/2026-12-30/
END:VEVENT
END:VCALENDAR