BEGIN:VCALENDAR
VERSION:2.0
PRODID:-//Rocky Lakes Golf Course - ECPv6.15.18//NONSGML v1.0//EN
CALSCALE:GREGORIAN
METHOD:PUBLISH
X-ORIGINAL-URL:https://www.rockylakesgolf.com
X-WR-CALDESC:Events for Rocky Lakes Golf Course
REFRESH-INTERVAL;VALUE=DURATION:PT1H
X-Robots-Tag:noindex
X-PUBLISHED-TTL:PT1H
BEGIN:VTIMEZONE
TZID:America/New_York
BEGIN:DAYLIGHT
TZOFFSETFROM:-0500
TZOFFSETTO:-0400
TZNAME:EDT
DTSTART:20260308T070000
END:DAYLIGHT
BEGIN:STANDARD
TZOFFSETFROM:-0400
TZOFFSETTO:-0500
TZNAME:EST
DTSTART:20261101T060000
END:STANDARD
BEGIN:DAYLIGHT
TZOFFSETFROM:-0500
TZOFFSETTO:-0400
TZNAME:EDT
DTSTART:20270314T070000
END:DAYLIGHT
BEGIN:STANDARD
TZOFFSETFROM:-0400
TZOFFSETTO:-0500
TZNAME:EST
DTSTART:20271107T060000
END:STANDARD
BEGIN:DAYLIGHT
TZOFFSETFROM:-0500
TZOFFSETTO:-0400
TZNAME:EDT
DTSTART:20280312T070000
END:DAYLIGHT
BEGIN:STANDARD
TZOFFSETFROM:-0400
TZOFFSETTO:-0500
TZNAME:EST
DTSTART:20281105T060000
END:STANDARD
END:VTIMEZONE
BEGIN:VTIMEZONE
TZID:UTC
BEGIN:STANDARD
TZOFFSETFROM:+0000
TZOFFSETTO:+0000
TZNAME:UTC
DTSTART:20260101T000000
END:STANDARD
END:VTIMEZONE
BEGIN:VEVENT
DTSTART;TZID=America/New_York:20270509T090000
DTEND;TZID=America/New_York:20270509T120000
DTSTAMP:20260422T015530
CREATED:20240515T032857Z
LAST-MODIFIED:20240515T032857Z
UID:10002514-1809853200-1809864000@www.rockylakesgolf.com
SUMMARY:Best Ball
DESCRIPTION:Tee Times
URL:https://www.rockylakesgolf.com/event/best-ball/2027-05-09/
END:VEVENT
BEGIN:VEVENT
DTSTART;TZID=America/New_York:20270510T140000
DTEND;TZID=America/New_York:20270510T160000
DTSTAMP:20260422T015530
CREATED:20240515T031308Z
LAST-MODIFIED:20240515T031806Z
UID:10000167-1809957600-1809964800@www.rockylakesgolf.com
SUMMARY:Brick Tap & Tavern
DESCRIPTION:Tee Times
URL:https://www.rockylakesgolf.com/event/brick-tap-tavern/2027-05-10/
END:VEVENT
BEGIN:VEVENT
DTSTART;TZID=America/New_York:20270511T160000
DTEND;TZID=America/New_York:20270511T170000
DTSTAMP:20260422T015530
CREATED:20240515T031624Z
LAST-MODIFIED:20240515T031624Z
UID:10000689-1810051200-1810054800@www.rockylakesgolf.com
SUMMARY:Hipps
DESCRIPTION:Tee Times
URL:https://www.rockylakesgolf.com/event/hipps/2027-05-11/
END:VEVENT
BEGIN:VEVENT
DTSTART;TZID=America/New_York:20270511T170000
DTEND;TZID=America/New_York:20270511T180000
DTSTAMP:20260422T015530
CREATED:20240515T031506Z
LAST-MODIFIED:20240516T075910Z
UID:10002775-1810054800-1810058400@www.rockylakesgolf.com
SUMMARY:Playmates
DESCRIPTION:Scramble Format
URL:https://www.rockylakesgolf.com/event/playmates/2027-05-11/
END:VEVENT
BEGIN:VEVENT
DTSTART;TZID=America/New_York:20270512T160000
DTEND;TZID=America/New_York:20270512T170000
DTSTAMP:20260422T015530
CREATED:20240515T032155Z
LAST-MODIFIED:20240515T032155Z
UID:10001210-1810137600-1810141200@www.rockylakesgolf.com
SUMMARY:Roger's League
DESCRIPTION:Scramble Format
URL:https://www.rockylakesgolf.com/event/rogers-league/2027-05-12/
END:VEVENT
BEGIN:VEVENT
DTSTART;TZID=America/New_York:20270512T170000
DTEND;TZID=America/New_York:20270512T180000
DTSTAMP:20260422T015530
CREATED:20240515T032501Z
LAST-MODIFIED:20240515T032501Z
UID:10001471-1810141200-1810144800@www.rockylakesgolf.com
SUMMARY:Spark League
DESCRIPTION:Tee Times
URL:https://www.rockylakesgolf.com/event/spark-league/2027-05-12/
END:VEVENT
BEGIN:VEVENT
DTSTART;TZID=America/New_York:20270513T100000
DTEND;TZID=America/New_York:20270513T130000
DTSTAMP:20260422T015530
CREATED:20240515T032621Z
LAST-MODIFIED:20240515T032621Z
UID:10001732-1810202400-1810213200@www.rockylakesgolf.com
SUMMARY:Kuna League
DESCRIPTION:Tee Times
URL:https://www.rockylakesgolf.com/event/kuna-league/2027-05-13/
END:VEVENT
BEGIN:VEVENT
DTSTART;TZID=UTC:20270513T140000
DTEND;TZID=UTC:20270513T170000
DTSTAMP:20260422T015530
CREATED:20240515T032658Z
LAST-MODIFIED:20240515T032658Z
UID:10001993-1810216800-1810227600@www.rockylakesgolf.com
SUMMARY:Guard League
DESCRIPTION:Tee Times
URL:https://www.rockylakesgolf.com/event/guard-league/2027-05-13/
END:VEVENT
BEGIN:VEVENT
DTSTART;TZID=America/New_York:20270513T170000
DTEND;TZID=America/New_York:20270513T200000
DTSTAMP:20260422T015530
CREATED:20240515T032803Z
LAST-MODIFIED:20240515T032803Z
UID:10002254-1810227600-1810238400@www.rockylakesgolf.com
SUMMARY:Average Joe's
DESCRIPTION:Tee Times
URL:https://www.rockylakesgolf.com/event/average-joes/2027-05-13/
END:VEVENT
BEGIN:VEVENT
DTSTART;TZID=America/New_York:20270516T090000
DTEND;TZID=America/New_York:20270516T120000
DTSTAMP:20260422T015530
CREATED:20240515T032857Z
LAST-MODIFIED:20240515T032857Z
UID:10002515-1810458000-1810468800@www.rockylakesgolf.com
SUMMARY:Best Ball
DESCRIPTION:Tee Times
URL:https://www.rockylakesgolf.com/event/best-ball/2027-05-16/
END:VEVENT
BEGIN:VEVENT
DTSTART;TZID=America/New_York:20270517T140000
DTEND;TZID=America/New_York:20270517T160000
DTSTAMP:20260422T015530
CREATED:20240515T031308Z
LAST-MODIFIED:20240515T031806Z
UID:10000168-1810562400-1810569600@www.rockylakesgolf.com
SUMMARY:Brick Tap & Tavern
DESCRIPTION:Tee Times
URL:https://www.rockylakesgolf.com/event/brick-tap-tavern/2027-05-17/
END:VEVENT
BEGIN:VEVENT
DTSTART;TZID=America/New_York:20270518T160000
DTEND;TZID=America/New_York:20270518T170000
DTSTAMP:20260422T015530
CREATED:20240515T031624Z
LAST-MODIFIED:20240515T031624Z
UID:10000690-1810656000-1810659600@www.rockylakesgolf.com
SUMMARY:Hipps
DESCRIPTION:Tee Times
URL:https://www.rockylakesgolf.com/event/hipps/2027-05-18/
END:VEVENT
BEGIN:VEVENT
DTSTART;TZID=America/New_York:20270518T170000
DTEND;TZID=America/New_York:20270518T180000
DTSTAMP:20260422T015530
CREATED:20240515T031506Z
LAST-MODIFIED:20240516T075910Z
UID:10002776-1810659600-1810663200@www.rockylakesgolf.com
SUMMARY:Playmates
DESCRIPTION:Scramble Format
URL:https://www.rockylakesgolf.com/event/playmates/2027-05-18/
END:VEVENT
BEGIN:VEVENT
DTSTART;TZID=America/New_York:20270519T160000
DTEND;TZID=America/New_York:20270519T170000
DTSTAMP:20260422T015530
CREATED:20240515T032155Z
LAST-MODIFIED:20240515T032155Z
UID:10001211-1810742400-1810746000@www.rockylakesgolf.com
SUMMARY:Roger's League
DESCRIPTION:Scramble Format
URL:https://www.rockylakesgolf.com/event/rogers-league/2027-05-19/
END:VEVENT
BEGIN:VEVENT
DTSTART;TZID=America/New_York:20270519T170000
DTEND;TZID=America/New_York:20270519T180000
DTSTAMP:20260422T015530
CREATED:20240515T032501Z
LAST-MODIFIED:20240515T032501Z
UID:10001472-1810746000-1810749600@www.rockylakesgolf.com
SUMMARY:Spark League
DESCRIPTION:Tee Times
URL:https://www.rockylakesgolf.com/event/spark-league/2027-05-19/
END:VEVENT
BEGIN:VEVENT
DTSTART;TZID=America/New_York:20270520T100000
DTEND;TZID=America/New_York:20270520T130000
DTSTAMP:20260422T015530
CREATED:20240515T032621Z
LAST-MODIFIED:20240515T032621Z
UID:10001733-1810807200-1810818000@www.rockylakesgolf.com
SUMMARY:Kuna League
DESCRIPTION:Tee Times
URL:https://www.rockylakesgolf.com/event/kuna-league/2027-05-20/
END:VEVENT
BEGIN:VEVENT
DTSTART;TZID=UTC:20270520T140000
DTEND;TZID=UTC:20270520T170000
DTSTAMP:20260422T015530
CREATED:20240515T032658Z
LAST-MODIFIED:20240515T032658Z
UID:10001994-1810821600-1810832400@www.rockylakesgolf.com
SUMMARY:Guard League
DESCRIPTION:Tee Times
URL:https://www.rockylakesgolf.com/event/guard-league/2027-05-20/
END:VEVENT
BEGIN:VEVENT
DTSTART;TZID=America/New_York:20270520T170000
DTEND;TZID=America/New_York:20270520T200000
DTSTAMP:20260422T015530
CREATED:20240515T032803Z
LAST-MODIFIED:20240515T032803Z
UID:10002255-1810832400-1810843200@www.rockylakesgolf.com
SUMMARY:Average Joe's
DESCRIPTION:Tee Times
URL:https://www.rockylakesgolf.com/event/average-joes/2027-05-20/
END:VEVENT
BEGIN:VEVENT
DTSTART;TZID=America/New_York:20270523T090000
DTEND;TZID=America/New_York:20270523T120000
DTSTAMP:20260422T015530
CREATED:20240515T032857Z
LAST-MODIFIED:20240515T032857Z
UID:10002516-1811062800-1811073600@www.rockylakesgolf.com
SUMMARY:Best Ball
DESCRIPTION:Tee Times
URL:https://www.rockylakesgolf.com/event/best-ball/2027-05-23/
END:VEVENT
BEGIN:VEVENT
DTSTART;TZID=America/New_York:20270524T140000
DTEND;TZID=America/New_York:20270524T160000
DTSTAMP:20260422T015531
CREATED:20240515T031308Z
LAST-MODIFIED:20240515T031806Z
UID:10000169-1811167200-1811174400@www.rockylakesgolf.com
SUMMARY:Brick Tap & Tavern
DESCRIPTION:Tee Times
URL:https://www.rockylakesgolf.com/event/brick-tap-tavern/2027-05-24/
END:VEVENT
BEGIN:VEVENT
DTSTART;TZID=America/New_York:20270525T160000
DTEND;TZID=America/New_York:20270525T170000
DTSTAMP:20260422T015531
CREATED:20240515T031624Z
LAST-MODIFIED:20240515T031624Z
UID:10000691-1811260800-1811264400@www.rockylakesgolf.com
SUMMARY:Hipps
DESCRIPTION:Tee Times
URL:https://www.rockylakesgolf.com/event/hipps/2027-05-25/
END:VEVENT
BEGIN:VEVENT
DTSTART;TZID=America/New_York:20270525T170000
DTEND;TZID=America/New_York:20270525T180000
DTSTAMP:20260422T015531
CREATED:20240515T031506Z
LAST-MODIFIED:20240516T075910Z
UID:10002777-1811264400-1811268000@www.rockylakesgolf.com
SUMMARY:Playmates
DESCRIPTION:Scramble Format
URL:https://www.rockylakesgolf.com/event/playmates/2027-05-25/
END:VEVENT
BEGIN:VEVENT
DTSTART;TZID=America/New_York:20270526T160000
DTEND;TZID=America/New_York:20270526T170000
DTSTAMP:20260422T015531
CREATED:20240515T032155Z
LAST-MODIFIED:20240515T032155Z
UID:10001212-1811347200-1811350800@www.rockylakesgolf.com
SUMMARY:Roger's League
DESCRIPTION:Scramble Format
URL:https://www.rockylakesgolf.com/event/rogers-league/2027-05-26/
END:VEVENT
BEGIN:VEVENT
DTSTART;TZID=America/New_York:20270526T170000
DTEND;TZID=America/New_York:20270526T180000
DTSTAMP:20260422T015531
CREATED:20240515T032501Z
LAST-MODIFIED:20240515T032501Z
UID:10001473-1811350800-1811354400@www.rockylakesgolf.com
SUMMARY:Spark League
DESCRIPTION:Tee Times
URL:https://www.rockylakesgolf.com/event/spark-league/2027-05-26/
END:VEVENT
BEGIN:VEVENT
DTSTART;TZID=America/New_York:20270527T100000
DTEND;TZID=America/New_York:20270527T130000
DTSTAMP:20260422T015531
CREATED:20240515T032621Z
LAST-MODIFIED:20240515T032621Z
UID:10001734-1811412000-1811422800@www.rockylakesgolf.com
SUMMARY:Kuna League
DESCRIPTION:Tee Times
URL:https://www.rockylakesgolf.com/event/kuna-league/2027-05-27/
END:VEVENT
BEGIN:VEVENT
DTSTART;TZID=UTC:20270527T140000
DTEND;TZID=UTC:20270527T170000
DTSTAMP:20260422T015531
CREATED:20240515T032658Z
LAST-MODIFIED:20240515T032658Z
UID:10001995-1811426400-1811437200@www.rockylakesgolf.com
SUMMARY:Guard League
DESCRIPTION:Tee Times
URL:https://www.rockylakesgolf.com/event/guard-league/2027-05-27/
END:VEVENT
BEGIN:VEVENT
DTSTART;TZID=America/New_York:20270527T170000
DTEND;TZID=America/New_York:20270527T200000
DTSTAMP:20260422T015531
CREATED:20240515T032803Z
LAST-MODIFIED:20240515T032803Z
UID:10002256-1811437200-1811448000@www.rockylakesgolf.com
SUMMARY:Average Joe's
DESCRIPTION:Tee Times
URL:https://www.rockylakesgolf.com/event/average-joes/2027-05-27/
END:VEVENT
BEGIN:VEVENT
DTSTART;TZID=America/New_York:20270530T090000
DTEND;TZID=America/New_York:20270530T120000
DTSTAMP:20260422T015531
CREATED:20240515T032857Z
LAST-MODIFIED:20240515T032857Z
UID:10002517-1811667600-1811678400@www.rockylakesgolf.com
SUMMARY:Best Ball
DESCRIPTION:Tee Times
URL:https://www.rockylakesgolf.com/event/best-ball/2027-05-30/
END:VEVENT
BEGIN:VEVENT
DTSTART;TZID=America/New_York:20270531T140000
DTEND;TZID=America/New_York:20270531T160000
DTSTAMP:20260422T015531
CREATED:20240515T031308Z
LAST-MODIFIED:20240515T031806Z
UID:10000170-1811772000-1811779200@www.rockylakesgolf.com
SUMMARY:Brick Tap & Tavern
DESCRIPTION:Tee Times
URL:https://www.rockylakesgolf.com/event/brick-tap-tavern/2027-05-31/
END:VEVENT
BEGIN:VEVENT
DTSTART;TZID=America/New_York:20270601T160000
DTEND;TZID=America/New_York:20270601T170000
DTSTAMP:20260422T015531
CREATED:20240515T031624Z
LAST-MODIFIED:20240515T031624Z
UID:10000692-1811865600-1811869200@www.rockylakesgolf.com
SUMMARY:Hipps
DESCRIPTION:Tee Times
URL:https://www.rockylakesgolf.com/event/hipps/2027-06-01/
END:VEVENT
END:VCALENDAR