BEGIN:VCALENDAR
VERSION:2.0
PRODID:-//Rocky Lakes Golf Course - ECPv6.15.18//NONSGML v1.0//EN
CALSCALE:GREGORIAN
METHOD:PUBLISH
X-WR-CALNAME:Rocky Lakes Golf Course
X-ORIGINAL-URL:https://www.rockylakesgolf.com
X-WR-CALDESC:Events for Rocky Lakes Golf Course
REFRESH-INTERVAL;VALUE=DURATION:PT1H
X-Robots-Tag:noindex
X-PUBLISHED-TTL:PT1H
BEGIN:VTIMEZONE
TZID:America/New_York
BEGIN:DAYLIGHT
TZOFFSETFROM:-0500
TZOFFSETTO:-0400
TZNAME:EDT
DTSTART:20280312T070000
END:DAYLIGHT
BEGIN:STANDARD
TZOFFSETFROM:-0400
TZOFFSETTO:-0500
TZNAME:EST
DTSTART:20281105T060000
END:STANDARD
BEGIN:DAYLIGHT
TZOFFSETFROM:-0500
TZOFFSETTO:-0400
TZNAME:EDT
DTSTART:20290311T070000
END:DAYLIGHT
BEGIN:STANDARD
TZOFFSETFROM:-0400
TZOFFSETTO:-0500
TZNAME:EST
DTSTART:20291104T060000
END:STANDARD
BEGIN:DAYLIGHT
TZOFFSETFROM:-0500
TZOFFSETTO:-0400
TZNAME:EDT
DTSTART:20300310T070000
END:DAYLIGHT
BEGIN:STANDARD
TZOFFSETFROM:-0400
TZOFFSETTO:-0500
TZNAME:EST
DTSTART:20301103T060000
END:STANDARD
END:VTIMEZONE
BEGIN:VTIMEZONE
TZID:UTC
BEGIN:STANDARD
TZOFFSETFROM:+0000
TZOFFSETTO:+0000
TZNAME:UTC
DTSTART:20280101T000000
END:STANDARD
END:VTIMEZONE
BEGIN:VEVENT
DTSTART;TZID=America/New_York:20290404T170000
DTEND;TZID=America/New_York:20290404T180000
DTSTAMP:20260425T131927
CREATED:20240515T032501Z
LAST-MODIFIED:20240515T032501Z
UID:10001570-1870016400-1870020000@www.rockylakesgolf.com
SUMMARY:Spark League
DESCRIPTION:Tee Times
URL:https://www.rockylakesgolf.com/event/spark-league/2029-04-04/
END:VEVENT
BEGIN:VEVENT
DTSTART;TZID=America/New_York:20290404T160000
DTEND;TZID=America/New_York:20290404T170000
DTSTAMP:20260425T131927
CREATED:20240515T032155Z
LAST-MODIFIED:20240515T032155Z
UID:10001309-1870012800-1870016400@www.rockylakesgolf.com
SUMMARY:Roger's League
DESCRIPTION:Scramble Format
URL:https://www.rockylakesgolf.com/event/rogers-league/2029-04-04/
END:VEVENT
BEGIN:VEVENT
DTSTART;TZID=America/New_York:20290403T170000
DTEND;TZID=America/New_York:20290403T180000
DTSTAMP:20260425T131927
CREATED:20240515T031506Z
LAST-MODIFIED:20240516T075910Z
UID:10002874-1869930000-1869933600@www.rockylakesgolf.com
SUMMARY:Playmates
DESCRIPTION:Scramble Format
URL:https://www.rockylakesgolf.com/event/playmates/2029-04-03/
END:VEVENT
BEGIN:VEVENT
DTSTART;TZID=America/New_York:20290403T160000
DTEND;TZID=America/New_York:20290403T170000
DTSTAMP:20260425T131927
CREATED:20240515T031624Z
LAST-MODIFIED:20240515T031624Z
UID:10000788-1869926400-1869930000@www.rockylakesgolf.com
SUMMARY:Hipps
DESCRIPTION:Tee Times
URL:https://www.rockylakesgolf.com/event/hipps/2029-04-03/
END:VEVENT
BEGIN:VEVENT
DTSTART;TZID=America/New_York:20290402T140000
DTEND;TZID=America/New_York:20290402T160000
DTSTAMP:20260425T131927
CREATED:20240515T031308Z
LAST-MODIFIED:20240515T031806Z
UID:10000266-1869832800-1869840000@www.rockylakesgolf.com
SUMMARY:Brick Tap & Tavern
DESCRIPTION:Tee Times
URL:https://www.rockylakesgolf.com/event/brick-tap-tavern/2029-04-02/
END:VEVENT
BEGIN:VEVENT
DTSTART;TZID=America/New_York:20290401T090000
DTEND;TZID=America/New_York:20290401T120000
DTSTAMP:20260425T131927
CREATED:20240515T032857Z
LAST-MODIFIED:20240515T032857Z
UID:10002613-1869728400-1869739200@www.rockylakesgolf.com
SUMMARY:Best Ball
DESCRIPTION:Tee Times
URL:https://www.rockylakesgolf.com/event/best-ball/2029-04-01/
END:VEVENT
BEGIN:VEVENT
DTSTART;TZID=America/New_York:20290329T170000
DTEND;TZID=America/New_York:20290329T200000
DTSTAMP:20260425T131927
CREATED:20240515T032803Z
LAST-MODIFIED:20240515T032803Z
UID:10002352-1869498000-1869508800@www.rockylakesgolf.com
SUMMARY:Average Joe's
DESCRIPTION:Tee Times
URL:https://www.rockylakesgolf.com/event/average-joes/2029-03-29/
END:VEVENT
BEGIN:VEVENT
DTSTART;TZID=UTC:20290329T140000
DTEND;TZID=UTC:20290329T170000
DTSTAMP:20260425T131927
CREATED:20240515T032658Z
LAST-MODIFIED:20240515T032658Z
UID:10002091-1869487200-1869498000@www.rockylakesgolf.com
SUMMARY:Guard League
DESCRIPTION:Tee Times
URL:https://www.rockylakesgolf.com/event/guard-league/2029-03-29/
END:VEVENT
BEGIN:VEVENT
DTSTART;TZID=America/New_York:20290329T100000
DTEND;TZID=America/New_York:20290329T130000
DTSTAMP:20260425T131927
CREATED:20240515T032621Z
LAST-MODIFIED:20240515T032621Z
UID:10001830-1869472800-1869483600@www.rockylakesgolf.com
SUMMARY:Kuna League
DESCRIPTION:Tee Times
URL:https://www.rockylakesgolf.com/event/kuna-league/2029-03-29/
END:VEVENT
BEGIN:VEVENT
DTSTART;TZID=America/New_York:20290328T170000
DTEND;TZID=America/New_York:20290328T180000
DTSTAMP:20260425T131927
CREATED:20240515T032501Z
LAST-MODIFIED:20240515T032501Z
UID:10001569-1869411600-1869415200@www.rockylakesgolf.com
SUMMARY:Spark League
DESCRIPTION:Tee Times
URL:https://www.rockylakesgolf.com/event/spark-league/2029-03-28/
END:VEVENT
BEGIN:VEVENT
DTSTART;TZID=America/New_York:20290328T160000
DTEND;TZID=America/New_York:20290328T170000
DTSTAMP:20260425T131927
CREATED:20240515T032155Z
LAST-MODIFIED:20240515T032155Z
UID:10001308-1869408000-1869411600@www.rockylakesgolf.com
SUMMARY:Roger's League
DESCRIPTION:Scramble Format
URL:https://www.rockylakesgolf.com/event/rogers-league/2029-03-28/
END:VEVENT
BEGIN:VEVENT
DTSTART;TZID=America/New_York:20290327T170000
DTEND;TZID=America/New_York:20290327T180000
DTSTAMP:20260425T131927
CREATED:20240515T031506Z
LAST-MODIFIED:20240516T075910Z
UID:10002873-1869325200-1869328800@www.rockylakesgolf.com
SUMMARY:Playmates
DESCRIPTION:Scramble Format
URL:https://www.rockylakesgolf.com/event/playmates/2029-03-27/
END:VEVENT
BEGIN:VEVENT
DTSTART;TZID=America/New_York:20290327T160000
DTEND;TZID=America/New_York:20290327T170000
DTSTAMP:20260425T131927
CREATED:20240515T031624Z
LAST-MODIFIED:20240515T031624Z
UID:10000787-1869321600-1869325200@www.rockylakesgolf.com
SUMMARY:Hipps
DESCRIPTION:Tee Times
URL:https://www.rockylakesgolf.com/event/hipps/2029-03-27/
END:VEVENT
BEGIN:VEVENT
DTSTART;TZID=America/New_York:20290326T140000
DTEND;TZID=America/New_York:20290326T160000
DTSTAMP:20260425T131927
CREATED:20240515T031308Z
LAST-MODIFIED:20240515T031806Z
UID:10000265-1869228000-1869235200@www.rockylakesgolf.com
SUMMARY:Brick Tap & Tavern
DESCRIPTION:Tee Times
URL:https://www.rockylakesgolf.com/event/brick-tap-tavern/2029-03-26/
END:VEVENT
BEGIN:VEVENT
DTSTART;TZID=America/New_York:20290325T090000
DTEND;TZID=America/New_York:20290325T120000
DTSTAMP:20260425T131927
CREATED:20240515T032857Z
LAST-MODIFIED:20240515T032857Z
UID:10002612-1869123600-1869134400@www.rockylakesgolf.com
SUMMARY:Best Ball
DESCRIPTION:Tee Times
URL:https://www.rockylakesgolf.com/event/best-ball/2029-03-25/
END:VEVENT
BEGIN:VEVENT
DTSTART;TZID=America/New_York:20290322T170000
DTEND;TZID=America/New_York:20290322T200000
DTSTAMP:20260425T131927
CREATED:20240515T032803Z
LAST-MODIFIED:20240515T032803Z
UID:10002351-1868893200-1868904000@www.rockylakesgolf.com
SUMMARY:Average Joe's
DESCRIPTION:Tee Times
URL:https://www.rockylakesgolf.com/event/average-joes/2029-03-22/
END:VEVENT
BEGIN:VEVENT
DTSTART;TZID=UTC:20290322T140000
DTEND;TZID=UTC:20290322T170000
DTSTAMP:20260425T131927
CREATED:20240515T032658Z
LAST-MODIFIED:20240515T032658Z
UID:10002090-1868882400-1868893200@www.rockylakesgolf.com
SUMMARY:Guard League
DESCRIPTION:Tee Times
URL:https://www.rockylakesgolf.com/event/guard-league/2029-03-22/
END:VEVENT
BEGIN:VEVENT
DTSTART;TZID=America/New_York:20290322T100000
DTEND;TZID=America/New_York:20290322T130000
DTSTAMP:20260425T131927
CREATED:20240515T032621Z
LAST-MODIFIED:20240515T032621Z
UID:10001829-1868868000-1868878800@www.rockylakesgolf.com
SUMMARY:Kuna League
DESCRIPTION:Tee Times
URL:https://www.rockylakesgolf.com/event/kuna-league/2029-03-22/
END:VEVENT
BEGIN:VEVENT
DTSTART;TZID=America/New_York:20290321T170000
DTEND;TZID=America/New_York:20290321T180000
DTSTAMP:20260425T131927
CREATED:20240515T032501Z
LAST-MODIFIED:20240515T032501Z
UID:10001568-1868806800-1868810400@www.rockylakesgolf.com
SUMMARY:Spark League
DESCRIPTION:Tee Times
URL:https://www.rockylakesgolf.com/event/spark-league/2029-03-21/
END:VEVENT
BEGIN:VEVENT
DTSTART;TZID=America/New_York:20290321T160000
DTEND;TZID=America/New_York:20290321T170000
DTSTAMP:20260425T131927
CREATED:20240515T032155Z
LAST-MODIFIED:20240515T032155Z
UID:10001307-1868803200-1868806800@www.rockylakesgolf.com
SUMMARY:Roger's League
DESCRIPTION:Scramble Format
URL:https://www.rockylakesgolf.com/event/rogers-league/2029-03-21/
END:VEVENT
BEGIN:VEVENT
DTSTART;TZID=America/New_York:20290320T170000
DTEND;TZID=America/New_York:20290320T180000
DTSTAMP:20260425T131927
CREATED:20240515T031506Z
LAST-MODIFIED:20240516T075910Z
UID:10002872-1868720400-1868724000@www.rockylakesgolf.com
SUMMARY:Playmates
DESCRIPTION:Scramble Format
URL:https://www.rockylakesgolf.com/event/playmates/2029-03-20/
END:VEVENT
BEGIN:VEVENT
DTSTART;TZID=America/New_York:20290320T160000
DTEND;TZID=America/New_York:20290320T170000
DTSTAMP:20260425T131927
CREATED:20240515T031624Z
LAST-MODIFIED:20240515T031624Z
UID:10000786-1868716800-1868720400@www.rockylakesgolf.com
SUMMARY:Hipps
DESCRIPTION:Tee Times
URL:https://www.rockylakesgolf.com/event/hipps/2029-03-20/
END:VEVENT
BEGIN:VEVENT
DTSTART;TZID=America/New_York:20290319T140000
DTEND;TZID=America/New_York:20290319T160000
DTSTAMP:20260425T131927
CREATED:20240515T031308Z
LAST-MODIFIED:20240515T031806Z
UID:10000264-1868623200-1868630400@www.rockylakesgolf.com
SUMMARY:Brick Tap & Tavern
DESCRIPTION:Tee Times
URL:https://www.rockylakesgolf.com/event/brick-tap-tavern/2029-03-19/
END:VEVENT
BEGIN:VEVENT
DTSTART;TZID=America/New_York:20290318T090000
DTEND;TZID=America/New_York:20290318T120000
DTSTAMP:20260425T131928
CREATED:20240515T032857Z
LAST-MODIFIED:20240515T032857Z
UID:10002611-1868518800-1868529600@www.rockylakesgolf.com
SUMMARY:Best Ball
DESCRIPTION:Tee Times
URL:https://www.rockylakesgolf.com/event/best-ball/2029-03-18/
END:VEVENT
BEGIN:VEVENT
DTSTART;TZID=America/New_York:20290315T170000
DTEND;TZID=America/New_York:20290315T200000
DTSTAMP:20260425T131928
CREATED:20240515T032803Z
LAST-MODIFIED:20240515T032803Z
UID:10002350-1868288400-1868299200@www.rockylakesgolf.com
SUMMARY:Average Joe's
DESCRIPTION:Tee Times
URL:https://www.rockylakesgolf.com/event/average-joes/2029-03-15/
END:VEVENT
BEGIN:VEVENT
DTSTART;TZID=UTC:20290315T140000
DTEND;TZID=UTC:20290315T170000
DTSTAMP:20260425T131928
CREATED:20240515T032658Z
LAST-MODIFIED:20240515T032658Z
UID:10002089-1868277600-1868288400@www.rockylakesgolf.com
SUMMARY:Guard League
DESCRIPTION:Tee Times
URL:https://www.rockylakesgolf.com/event/guard-league/2029-03-15/
END:VEVENT
BEGIN:VEVENT
DTSTART;TZID=America/New_York:20290315T100000
DTEND;TZID=America/New_York:20290315T130000
DTSTAMP:20260425T131928
CREATED:20240515T032621Z
LAST-MODIFIED:20240515T032621Z
UID:10001828-1868263200-1868274000@www.rockylakesgolf.com
SUMMARY:Kuna League
DESCRIPTION:Tee Times
URL:https://www.rockylakesgolf.com/event/kuna-league/2029-03-15/
END:VEVENT
BEGIN:VEVENT
DTSTART;TZID=America/New_York:20290314T170000
DTEND;TZID=America/New_York:20290314T180000
DTSTAMP:20260425T131928
CREATED:20240515T032501Z
LAST-MODIFIED:20240515T032501Z
UID:10001567-1868202000-1868205600@www.rockylakesgolf.com
SUMMARY:Spark League
DESCRIPTION:Tee Times
URL:https://www.rockylakesgolf.com/event/spark-league/2029-03-14/
END:VEVENT
BEGIN:VEVENT
DTSTART;TZID=America/New_York:20290314T160000
DTEND;TZID=America/New_York:20290314T170000
DTSTAMP:20260425T131928
CREATED:20240515T032155Z
LAST-MODIFIED:20240515T032155Z
UID:10001306-1868198400-1868202000@www.rockylakesgolf.com
SUMMARY:Roger's League
DESCRIPTION:Scramble Format
URL:https://www.rockylakesgolf.com/event/rogers-league/2029-03-14/
END:VEVENT
BEGIN:VEVENT
DTSTART;TZID=America/New_York:20290313T170000
DTEND;TZID=America/New_York:20290313T180000
DTSTAMP:20260425T131928
CREATED:20240515T031506Z
LAST-MODIFIED:20240516T075910Z
UID:10002871-1868115600-1868119200@www.rockylakesgolf.com
SUMMARY:Playmates
DESCRIPTION:Scramble Format
URL:https://www.rockylakesgolf.com/event/playmates/2029-03-13/
END:VEVENT
END:VCALENDAR