BEGIN:VCALENDAR
VERSION:2.0
PRODID:-//Rocky Lakes Golf Course - ECPv6.15.18//NONSGML v1.0//EN
CALSCALE:GREGORIAN
METHOD:PUBLISH
X-WR-CALNAME:Rocky Lakes Golf Course
X-ORIGINAL-URL:https://www.rockylakesgolf.com
X-WR-CALDESC:Events for Rocky Lakes Golf Course
REFRESH-INTERVAL;VALUE=DURATION:PT1H
X-Robots-Tag:noindex
X-PUBLISHED-TTL:PT1H
BEGIN:VTIMEZONE
TZID:America/New_York
BEGIN:DAYLIGHT
TZOFFSETFROM:-0500
TZOFFSETTO:-0400
TZNAME:EDT
DTSTART:20260308T070000
END:DAYLIGHT
BEGIN:STANDARD
TZOFFSETFROM:-0400
TZOFFSETTO:-0500
TZNAME:EST
DTSTART:20261101T060000
END:STANDARD
BEGIN:DAYLIGHT
TZOFFSETFROM:-0500
TZOFFSETTO:-0400
TZNAME:EDT
DTSTART:20270314T070000
END:DAYLIGHT
BEGIN:STANDARD
TZOFFSETFROM:-0400
TZOFFSETTO:-0500
TZNAME:EST
DTSTART:20271107T060000
END:STANDARD
BEGIN:DAYLIGHT
TZOFFSETFROM:-0500
TZOFFSETTO:-0400
TZNAME:EDT
DTSTART:20280312T070000
END:DAYLIGHT
BEGIN:STANDARD
TZOFFSETFROM:-0400
TZOFFSETTO:-0500
TZNAME:EST
DTSTART:20281105T060000
END:STANDARD
END:VTIMEZONE
BEGIN:VTIMEZONE
TZID:UTC
BEGIN:STANDARD
TZOFFSETFROM:+0000
TZOFFSETTO:+0000
TZNAME:UTC
DTSTART:20260101T000000
END:STANDARD
END:VTIMEZONE
BEGIN:VEVENT
DTSTART;TZID=America/New_York:20270222T140000
DTEND;TZID=America/New_York:20270222T160000
DTSTAMP:20260422T001522
CREATED:20240515T031308Z
LAST-MODIFIED:20240515T031806Z
UID:10000156-1803304800-1803312000@www.rockylakesgolf.com
SUMMARY:Brick Tap & Tavern
DESCRIPTION:Tee Times
URL:https://www.rockylakesgolf.com/event/brick-tap-tavern/2027-02-22/
END:VEVENT
BEGIN:VEVENT
DTSTART;TZID=America/New_York:20270223T160000
DTEND;TZID=America/New_York:20270223T170000
DTSTAMP:20260422T001522
CREATED:20240515T031624Z
LAST-MODIFIED:20240515T031624Z
UID:10000678-1803398400-1803402000@www.rockylakesgolf.com
SUMMARY:Hipps
DESCRIPTION:Tee Times
URL:https://www.rockylakesgolf.com/event/hipps/2027-02-23/
END:VEVENT
BEGIN:VEVENT
DTSTART;TZID=America/New_York:20270223T170000
DTEND;TZID=America/New_York:20270223T180000
DTSTAMP:20260422T001522
CREATED:20240515T031506Z
LAST-MODIFIED:20240516T075910Z
UID:10002764-1803402000-1803405600@www.rockylakesgolf.com
SUMMARY:Playmates
DESCRIPTION:Scramble Format
URL:https://www.rockylakesgolf.com/event/playmates/2027-02-23/
END:VEVENT
BEGIN:VEVENT
DTSTART;TZID=America/New_York:20270224T160000
DTEND;TZID=America/New_York:20270224T170000
DTSTAMP:20260422T001522
CREATED:20240515T032155Z
LAST-MODIFIED:20240515T032155Z
UID:10001199-1803484800-1803488400@www.rockylakesgolf.com
SUMMARY:Roger's League
DESCRIPTION:Scramble Format
URL:https://www.rockylakesgolf.com/event/rogers-league/2027-02-24/
END:VEVENT
BEGIN:VEVENT
DTSTART;TZID=America/New_York:20270224T170000
DTEND;TZID=America/New_York:20270224T180000
DTSTAMP:20260422T001522
CREATED:20240515T032501Z
LAST-MODIFIED:20240515T032501Z
UID:10001460-1803488400-1803492000@www.rockylakesgolf.com
SUMMARY:Spark League
DESCRIPTION:Tee Times
URL:https://www.rockylakesgolf.com/event/spark-league/2027-02-24/
END:VEVENT
BEGIN:VEVENT
DTSTART;TZID=America/New_York:20270225T100000
DTEND;TZID=America/New_York:20270225T130000
DTSTAMP:20260422T001522
CREATED:20240515T032621Z
LAST-MODIFIED:20240515T032621Z
UID:10001721-1803549600-1803560400@www.rockylakesgolf.com
SUMMARY:Kuna League
DESCRIPTION:Tee Times
URL:https://www.rockylakesgolf.com/event/kuna-league/2027-02-25/
END:VEVENT
BEGIN:VEVENT
DTSTART;TZID=UTC:20270225T140000
DTEND;TZID=UTC:20270225T170000
DTSTAMP:20260422T001522
CREATED:20240515T032658Z
LAST-MODIFIED:20240515T032658Z
UID:10001982-1803564000-1803574800@www.rockylakesgolf.com
SUMMARY:Guard League
DESCRIPTION:Tee Times
URL:https://www.rockylakesgolf.com/event/guard-league/2027-02-25/
END:VEVENT
BEGIN:VEVENT
DTSTART;TZID=America/New_York:20270225T170000
DTEND;TZID=America/New_York:20270225T200000
DTSTAMP:20260422T001522
CREATED:20240515T032803Z
LAST-MODIFIED:20240515T032803Z
UID:10002243-1803574800-1803585600@www.rockylakesgolf.com
SUMMARY:Average Joe's
DESCRIPTION:Tee Times
URL:https://www.rockylakesgolf.com/event/average-joes/2027-02-25/
END:VEVENT
BEGIN:VEVENT
DTSTART;TZID=America/New_York:20270228T090000
DTEND;TZID=America/New_York:20270228T120000
DTSTAMP:20260422T001522
CREATED:20240515T032857Z
LAST-MODIFIED:20240515T032857Z
UID:10002504-1803805200-1803816000@www.rockylakesgolf.com
SUMMARY:Best Ball
DESCRIPTION:Tee Times
URL:https://www.rockylakesgolf.com/event/best-ball/2027-02-28/
END:VEVENT
BEGIN:VEVENT
DTSTART;TZID=America/New_York:20270301T140000
DTEND;TZID=America/New_York:20270301T160000
DTSTAMP:20260422T001522
CREATED:20240515T031308Z
LAST-MODIFIED:20240515T031806Z
UID:10000157-1803909600-1803916800@www.rockylakesgolf.com
SUMMARY:Brick Tap & Tavern
DESCRIPTION:Tee Times
URL:https://www.rockylakesgolf.com/event/brick-tap-tavern/2027-03-01/
END:VEVENT
BEGIN:VEVENT
DTSTART;TZID=America/New_York:20270302T160000
DTEND;TZID=America/New_York:20270302T170000
DTSTAMP:20260422T001522
CREATED:20240515T031624Z
LAST-MODIFIED:20240515T031624Z
UID:10000679-1804003200-1804006800@www.rockylakesgolf.com
SUMMARY:Hipps
DESCRIPTION:Tee Times
URL:https://www.rockylakesgolf.com/event/hipps/2027-03-02/
END:VEVENT
BEGIN:VEVENT
DTSTART;TZID=America/New_York:20270302T170000
DTEND;TZID=America/New_York:20270302T180000
DTSTAMP:20260422T001522
CREATED:20240515T031506Z
LAST-MODIFIED:20240516T075910Z
UID:10002765-1804006800-1804010400@www.rockylakesgolf.com
SUMMARY:Playmates
DESCRIPTION:Scramble Format
URL:https://www.rockylakesgolf.com/event/playmates/2027-03-02/
END:VEVENT
BEGIN:VEVENT
DTSTART;TZID=America/New_York:20270303T160000
DTEND;TZID=America/New_York:20270303T170000
DTSTAMP:20260422T001522
CREATED:20240515T032155Z
LAST-MODIFIED:20240515T032155Z
UID:10001200-1804089600-1804093200@www.rockylakesgolf.com
SUMMARY:Roger's League
DESCRIPTION:Scramble Format
URL:https://www.rockylakesgolf.com/event/rogers-league/2027-03-03/
END:VEVENT
BEGIN:VEVENT
DTSTART;TZID=America/New_York:20270303T170000
DTEND;TZID=America/New_York:20270303T180000
DTSTAMP:20260422T001522
CREATED:20240515T032501Z
LAST-MODIFIED:20240515T032501Z
UID:10001461-1804093200-1804096800@www.rockylakesgolf.com
SUMMARY:Spark League
DESCRIPTION:Tee Times
URL:https://www.rockylakesgolf.com/event/spark-league/2027-03-03/
END:VEVENT
BEGIN:VEVENT
DTSTART;TZID=America/New_York:20270304T100000
DTEND;TZID=America/New_York:20270304T130000
DTSTAMP:20260422T001522
CREATED:20240515T032621Z
LAST-MODIFIED:20240515T032621Z
UID:10001722-1804154400-1804165200@www.rockylakesgolf.com
SUMMARY:Kuna League
DESCRIPTION:Tee Times
URL:https://www.rockylakesgolf.com/event/kuna-league/2027-03-04/
END:VEVENT
BEGIN:VEVENT
DTSTART;TZID=UTC:20270304T140000
DTEND;TZID=UTC:20270304T170000
DTSTAMP:20260422T001522
CREATED:20240515T032658Z
LAST-MODIFIED:20240515T032658Z
UID:10001983-1804168800-1804179600@www.rockylakesgolf.com
SUMMARY:Guard League
DESCRIPTION:Tee Times
URL:https://www.rockylakesgolf.com/event/guard-league/2027-03-04/
END:VEVENT
BEGIN:VEVENT
DTSTART;TZID=America/New_York:20270304T170000
DTEND;TZID=America/New_York:20270304T200000
DTSTAMP:20260422T001522
CREATED:20240515T032803Z
LAST-MODIFIED:20240515T032803Z
UID:10002244-1804179600-1804190400@www.rockylakesgolf.com
SUMMARY:Average Joe's
DESCRIPTION:Tee Times
URL:https://www.rockylakesgolf.com/event/average-joes/2027-03-04/
END:VEVENT
BEGIN:VEVENT
DTSTART;TZID=America/New_York:20270307T090000
DTEND;TZID=America/New_York:20270307T120000
DTSTAMP:20260422T001522
CREATED:20240515T032857Z
LAST-MODIFIED:20240515T032857Z
UID:10002505-1804410000-1804420800@www.rockylakesgolf.com
SUMMARY:Best Ball
DESCRIPTION:Tee Times
URL:https://www.rockylakesgolf.com/event/best-ball/2027-03-07/
END:VEVENT
BEGIN:VEVENT
DTSTART;TZID=America/New_York:20270308T140000
DTEND;TZID=America/New_York:20270308T160000
DTSTAMP:20260422T001522
CREATED:20240515T031308Z
LAST-MODIFIED:20240515T031806Z
UID:10000158-1804514400-1804521600@www.rockylakesgolf.com
SUMMARY:Brick Tap & Tavern
DESCRIPTION:Tee Times
URL:https://www.rockylakesgolf.com/event/brick-tap-tavern/2027-03-08/
END:VEVENT
BEGIN:VEVENT
DTSTART;TZID=America/New_York:20270309T160000
DTEND;TZID=America/New_York:20270309T170000
DTSTAMP:20260422T001522
CREATED:20240515T031624Z
LAST-MODIFIED:20240515T031624Z
UID:10000680-1804608000-1804611600@www.rockylakesgolf.com
SUMMARY:Hipps
DESCRIPTION:Tee Times
URL:https://www.rockylakesgolf.com/event/hipps/2027-03-09/
END:VEVENT
BEGIN:VEVENT
DTSTART;TZID=America/New_York:20270309T170000
DTEND;TZID=America/New_York:20270309T180000
DTSTAMP:20260422T001522
CREATED:20240515T031506Z
LAST-MODIFIED:20240516T075910Z
UID:10002766-1804611600-1804615200@www.rockylakesgolf.com
SUMMARY:Playmates
DESCRIPTION:Scramble Format
URL:https://www.rockylakesgolf.com/event/playmates/2027-03-09/
END:VEVENT
BEGIN:VEVENT
DTSTART;TZID=America/New_York:20270310T160000
DTEND;TZID=America/New_York:20270310T170000
DTSTAMP:20260422T001522
CREATED:20240515T032155Z
LAST-MODIFIED:20240515T032155Z
UID:10001201-1804694400-1804698000@www.rockylakesgolf.com
SUMMARY:Roger's League
DESCRIPTION:Scramble Format
URL:https://www.rockylakesgolf.com/event/rogers-league/2027-03-10/
END:VEVENT
BEGIN:VEVENT
DTSTART;TZID=America/New_York:20270310T170000
DTEND;TZID=America/New_York:20270310T180000
DTSTAMP:20260422T001522
CREATED:20240515T032501Z
LAST-MODIFIED:20240515T032501Z
UID:10001462-1804698000-1804701600@www.rockylakesgolf.com
SUMMARY:Spark League
DESCRIPTION:Tee Times
URL:https://www.rockylakesgolf.com/event/spark-league/2027-03-10/
END:VEVENT
BEGIN:VEVENT
DTSTART;TZID=America/New_York:20270311T100000
DTEND;TZID=America/New_York:20270311T130000
DTSTAMP:20260422T001522
CREATED:20240515T032621Z
LAST-MODIFIED:20240515T032621Z
UID:10001723-1804759200-1804770000@www.rockylakesgolf.com
SUMMARY:Kuna League
DESCRIPTION:Tee Times
URL:https://www.rockylakesgolf.com/event/kuna-league/2027-03-11/
END:VEVENT
BEGIN:VEVENT
DTSTART;TZID=UTC:20270311T140000
DTEND;TZID=UTC:20270311T170000
DTSTAMP:20260422T001522
CREATED:20240515T032658Z
LAST-MODIFIED:20240515T032658Z
UID:10001984-1804773600-1804784400@www.rockylakesgolf.com
SUMMARY:Guard League
DESCRIPTION:Tee Times
URL:https://www.rockylakesgolf.com/event/guard-league/2027-03-11/
END:VEVENT
BEGIN:VEVENT
DTSTART;TZID=America/New_York:20270311T170000
DTEND;TZID=America/New_York:20270311T200000
DTSTAMP:20260422T001522
CREATED:20240515T032803Z
LAST-MODIFIED:20240515T032803Z
UID:10002245-1804784400-1804795200@www.rockylakesgolf.com
SUMMARY:Average Joe's
DESCRIPTION:Tee Times
URL:https://www.rockylakesgolf.com/event/average-joes/2027-03-11/
END:VEVENT
BEGIN:VEVENT
DTSTART;TZID=America/New_York:20270314T090000
DTEND;TZID=America/New_York:20270314T120000
DTSTAMP:20260422T001522
CREATED:20240515T032857Z
LAST-MODIFIED:20240515T032857Z
UID:10002506-1805014800-1805025600@www.rockylakesgolf.com
SUMMARY:Best Ball
DESCRIPTION:Tee Times
URL:https://www.rockylakesgolf.com/event/best-ball/2027-03-14/
END:VEVENT
BEGIN:VEVENT
DTSTART;TZID=America/New_York:20270315T140000
DTEND;TZID=America/New_York:20270315T160000
DTSTAMP:20260422T001522
CREATED:20240515T031308Z
LAST-MODIFIED:20240515T031806Z
UID:10000159-1805119200-1805126400@www.rockylakesgolf.com
SUMMARY:Brick Tap & Tavern
DESCRIPTION:Tee Times
URL:https://www.rockylakesgolf.com/event/brick-tap-tavern/2027-03-15/
END:VEVENT
BEGIN:VEVENT
DTSTART;TZID=America/New_York:20270316T160000
DTEND;TZID=America/New_York:20270316T170000
DTSTAMP:20260422T001522
CREATED:20240515T031624Z
LAST-MODIFIED:20240515T031624Z
UID:10000681-1805212800-1805216400@www.rockylakesgolf.com
SUMMARY:Hipps
DESCRIPTION:Tee Times
URL:https://www.rockylakesgolf.com/event/hipps/2027-03-16/
END:VEVENT
BEGIN:VEVENT
DTSTART;TZID=America/New_York:20270316T170000
DTEND;TZID=America/New_York:20270316T180000
DTSTAMP:20260422T001522
CREATED:20240515T031506Z
LAST-MODIFIED:20240516T075910Z
UID:10002767-1805216400-1805220000@www.rockylakesgolf.com
SUMMARY:Playmates
DESCRIPTION:Scramble Format
URL:https://www.rockylakesgolf.com/event/playmates/2027-03-16/
END:VEVENT
END:VCALENDAR