BEGIN:VCALENDAR
VERSION:2.0
PRODID:-//Rocky Lakes Golf Course - ECPv6.15.18//NONSGML v1.0//EN
CALSCALE:GREGORIAN
METHOD:PUBLISH
X-WR-CALNAME:Rocky Lakes Golf Course
X-ORIGINAL-URL:https://www.rockylakesgolf.com
X-WR-CALDESC:Events for Rocky Lakes Golf Course
REFRESH-INTERVAL;VALUE=DURATION:PT1H
X-Robots-Tag:noindex
X-PUBLISHED-TTL:PT1H
BEGIN:VTIMEZONE
TZID:America/New_York
BEGIN:DAYLIGHT
TZOFFSETFROM:-0500
TZOFFSETTO:-0400
TZNAME:EDT
DTSTART:20270314T070000
END:DAYLIGHT
BEGIN:STANDARD
TZOFFSETFROM:-0400
TZOFFSETTO:-0500
TZNAME:EST
DTSTART:20271107T060000
END:STANDARD
BEGIN:DAYLIGHT
TZOFFSETFROM:-0500
TZOFFSETTO:-0400
TZNAME:EDT
DTSTART:20280312T070000
END:DAYLIGHT
BEGIN:STANDARD
TZOFFSETFROM:-0400
TZOFFSETTO:-0500
TZNAME:EST
DTSTART:20281105T060000
END:STANDARD
BEGIN:DAYLIGHT
TZOFFSETFROM:-0500
TZOFFSETTO:-0400
TZNAME:EDT
DTSTART:20290311T070000
END:DAYLIGHT
BEGIN:STANDARD
TZOFFSETFROM:-0400
TZOFFSETTO:-0500
TZNAME:EST
DTSTART:20291104T060000
END:STANDARD
END:VTIMEZONE
BEGIN:VTIMEZONE
TZID:UTC
BEGIN:STANDARD
TZOFFSETFROM:+0000
TZOFFSETTO:+0000
TZNAME:UTC
DTSTART:20270101T000000
END:STANDARD
END:VTIMEZONE
BEGIN:VEVENT
DTSTART;TZID=America/New_York:20280613T170000
DTEND;TZID=America/New_York:20280613T180000
DTSTAMP:20260423T060341
CREATED:20240515T031506Z
LAST-MODIFIED:20240516T075910Z
UID:10002832-1844528400-1844532000@www.rockylakesgolf.com
SUMMARY:Playmates
DESCRIPTION:Scramble Format
URL:https://www.rockylakesgolf.com/event/playmates/2028-06-13/
END:VEVENT
BEGIN:VEVENT
DTSTART;TZID=America/New_York:20280614T160000
DTEND;TZID=America/New_York:20280614T170000
DTSTAMP:20260423T060341
CREATED:20240515T032155Z
LAST-MODIFIED:20240515T032155Z
UID:10001267-1844611200-1844614800@www.rockylakesgolf.com
SUMMARY:Roger's League
DESCRIPTION:Scramble Format
URL:https://www.rockylakesgolf.com/event/rogers-league/2028-06-14/
END:VEVENT
BEGIN:VEVENT
DTSTART;TZID=America/New_York:20280614T170000
DTEND;TZID=America/New_York:20280614T180000
DTSTAMP:20260423T060341
CREATED:20240515T032501Z
LAST-MODIFIED:20240515T032501Z
UID:10001528-1844614800-1844618400@www.rockylakesgolf.com
SUMMARY:Spark League
DESCRIPTION:Tee Times
URL:https://www.rockylakesgolf.com/event/spark-league/2028-06-14/
END:VEVENT
BEGIN:VEVENT
DTSTART;TZID=America/New_York:20280615T100000
DTEND;TZID=America/New_York:20280615T130000
DTSTAMP:20260423T060341
CREATED:20240515T032621Z
LAST-MODIFIED:20240515T032621Z
UID:10001789-1844676000-1844686800@www.rockylakesgolf.com
SUMMARY:Kuna League
DESCRIPTION:Tee Times
URL:https://www.rockylakesgolf.com/event/kuna-league/2028-06-15/
END:VEVENT
BEGIN:VEVENT
DTSTART;TZID=UTC:20280615T140000
DTEND;TZID=UTC:20280615T170000
DTSTAMP:20260423T060341
CREATED:20240515T032658Z
LAST-MODIFIED:20240515T032658Z
UID:10002050-1844690400-1844701200@www.rockylakesgolf.com
SUMMARY:Guard League
DESCRIPTION:Tee Times
URL:https://www.rockylakesgolf.com/event/guard-league/2028-06-15/
END:VEVENT
BEGIN:VEVENT
DTSTART;TZID=America/New_York:20280615T170000
DTEND;TZID=America/New_York:20280615T200000
DTSTAMP:20260423T060341
CREATED:20240515T032803Z
LAST-MODIFIED:20240515T032803Z
UID:10002311-1844701200-1844712000@www.rockylakesgolf.com
SUMMARY:Average Joe's
DESCRIPTION:Tee Times
URL:https://www.rockylakesgolf.com/event/average-joes/2028-06-15/
END:VEVENT
BEGIN:VEVENT
DTSTART;TZID=America/New_York:20280618T090000
DTEND;TZID=America/New_York:20280618T120000
DTSTAMP:20260423T060341
CREATED:20240515T032857Z
LAST-MODIFIED:20240515T032857Z
UID:10002572-1844931600-1844942400@www.rockylakesgolf.com
SUMMARY:Best Ball
DESCRIPTION:Tee Times
URL:https://www.rockylakesgolf.com/event/best-ball/2028-06-18/
END:VEVENT
BEGIN:VEVENT
DTSTART;TZID=America/New_York:20280619T140000
DTEND;TZID=America/New_York:20280619T160000
DTSTAMP:20260423T060341
CREATED:20240515T031308Z
LAST-MODIFIED:20240515T031806Z
UID:10000225-1845036000-1845043200@www.rockylakesgolf.com
SUMMARY:Brick Tap & Tavern
DESCRIPTION:Tee Times
URL:https://www.rockylakesgolf.com/event/brick-tap-tavern/2028-06-19/
END:VEVENT
BEGIN:VEVENT
DTSTART;TZID=America/New_York:20280620T160000
DTEND;TZID=America/New_York:20280620T170000
DTSTAMP:20260423T060341
CREATED:20240515T031624Z
LAST-MODIFIED:20240515T031624Z
UID:10000747-1845129600-1845133200@www.rockylakesgolf.com
SUMMARY:Hipps
DESCRIPTION:Tee Times
URL:https://www.rockylakesgolf.com/event/hipps/2028-06-20/
END:VEVENT
BEGIN:VEVENT
DTSTART;TZID=America/New_York:20280620T170000
DTEND;TZID=America/New_York:20280620T180000
DTSTAMP:20260423T060341
CREATED:20240515T031506Z
LAST-MODIFIED:20240516T075910Z
UID:10002833-1845133200-1845136800@www.rockylakesgolf.com
SUMMARY:Playmates
DESCRIPTION:Scramble Format
URL:https://www.rockylakesgolf.com/event/playmates/2028-06-20/
END:VEVENT
BEGIN:VEVENT
DTSTART;TZID=America/New_York:20280621T160000
DTEND;TZID=America/New_York:20280621T170000
DTSTAMP:20260423T060341
CREATED:20240515T032155Z
LAST-MODIFIED:20240515T032155Z
UID:10001268-1845216000-1845219600@www.rockylakesgolf.com
SUMMARY:Roger's League
DESCRIPTION:Scramble Format
URL:https://www.rockylakesgolf.com/event/rogers-league/2028-06-21/
END:VEVENT
BEGIN:VEVENT
DTSTART;TZID=America/New_York:20280621T170000
DTEND;TZID=America/New_York:20280621T180000
DTSTAMP:20260423T060341
CREATED:20240515T032501Z
LAST-MODIFIED:20240515T032501Z
UID:10001529-1845219600-1845223200@www.rockylakesgolf.com
SUMMARY:Spark League
DESCRIPTION:Tee Times
URL:https://www.rockylakesgolf.com/event/spark-league/2028-06-21/
END:VEVENT
BEGIN:VEVENT
DTSTART;TZID=America/New_York:20280622T100000
DTEND;TZID=America/New_York:20280622T130000
DTSTAMP:20260423T060341
CREATED:20240515T032621Z
LAST-MODIFIED:20240515T032621Z
UID:10001790-1845280800-1845291600@www.rockylakesgolf.com
SUMMARY:Kuna League
DESCRIPTION:Tee Times
URL:https://www.rockylakesgolf.com/event/kuna-league/2028-06-22/
END:VEVENT
BEGIN:VEVENT
DTSTART;TZID=UTC:20280622T140000
DTEND;TZID=UTC:20280622T170000
DTSTAMP:20260423T060341
CREATED:20240515T032658Z
LAST-MODIFIED:20240515T032658Z
UID:10002051-1845295200-1845306000@www.rockylakesgolf.com
SUMMARY:Guard League
DESCRIPTION:Tee Times
URL:https://www.rockylakesgolf.com/event/guard-league/2028-06-22/
END:VEVENT
BEGIN:VEVENT
DTSTART;TZID=America/New_York:20280622T170000
DTEND;TZID=America/New_York:20280622T200000
DTSTAMP:20260423T060341
CREATED:20240515T032803Z
LAST-MODIFIED:20240515T032803Z
UID:10002312-1845306000-1845316800@www.rockylakesgolf.com
SUMMARY:Average Joe's
DESCRIPTION:Tee Times
URL:https://www.rockylakesgolf.com/event/average-joes/2028-06-22/
END:VEVENT
BEGIN:VEVENT
DTSTART;TZID=America/New_York:20280625T090000
DTEND;TZID=America/New_York:20280625T120000
DTSTAMP:20260423T060341
CREATED:20240515T032857Z
LAST-MODIFIED:20240515T032857Z
UID:10002573-1845536400-1845547200@www.rockylakesgolf.com
SUMMARY:Best Ball
DESCRIPTION:Tee Times
URL:https://www.rockylakesgolf.com/event/best-ball/2028-06-25/
END:VEVENT
BEGIN:VEVENT
DTSTART;TZID=America/New_York:20280626T140000
DTEND;TZID=America/New_York:20280626T160000
DTSTAMP:20260423T060341
CREATED:20240515T031308Z
LAST-MODIFIED:20240515T031806Z
UID:10000226-1845640800-1845648000@www.rockylakesgolf.com
SUMMARY:Brick Tap & Tavern
DESCRIPTION:Tee Times
URL:https://www.rockylakesgolf.com/event/brick-tap-tavern/2028-06-26/
END:VEVENT
BEGIN:VEVENT
DTSTART;TZID=America/New_York:20280627T160000
DTEND;TZID=America/New_York:20280627T170000
DTSTAMP:20260423T060341
CREATED:20240515T031624Z
LAST-MODIFIED:20240515T031624Z
UID:10000748-1845734400-1845738000@www.rockylakesgolf.com
SUMMARY:Hipps
DESCRIPTION:Tee Times
URL:https://www.rockylakesgolf.com/event/hipps/2028-06-27/
END:VEVENT
BEGIN:VEVENT
DTSTART;TZID=America/New_York:20280627T170000
DTEND;TZID=America/New_York:20280627T180000
DTSTAMP:20260423T060341
CREATED:20240515T031506Z
LAST-MODIFIED:20240516T075910Z
UID:10002834-1845738000-1845741600@www.rockylakesgolf.com
SUMMARY:Playmates
DESCRIPTION:Scramble Format
URL:https://www.rockylakesgolf.com/event/playmates/2028-06-27/
END:VEVENT
BEGIN:VEVENT
DTSTART;TZID=America/New_York:20280628T160000
DTEND;TZID=America/New_York:20280628T170000
DTSTAMP:20260423T060341
CREATED:20240515T032155Z
LAST-MODIFIED:20240515T032155Z
UID:10001269-1845820800-1845824400@www.rockylakesgolf.com
SUMMARY:Roger's League
DESCRIPTION:Scramble Format
URL:https://www.rockylakesgolf.com/event/rogers-league/2028-06-28/
END:VEVENT
BEGIN:VEVENT
DTSTART;TZID=America/New_York:20280628T170000
DTEND;TZID=America/New_York:20280628T180000
DTSTAMP:20260423T060341
CREATED:20240515T032501Z
LAST-MODIFIED:20240515T032501Z
UID:10001530-1845824400-1845828000@www.rockylakesgolf.com
SUMMARY:Spark League
DESCRIPTION:Tee Times
URL:https://www.rockylakesgolf.com/event/spark-league/2028-06-28/
END:VEVENT
BEGIN:VEVENT
DTSTART;TZID=America/New_York:20280629T100000
DTEND;TZID=America/New_York:20280629T130000
DTSTAMP:20260423T060341
CREATED:20240515T032621Z
LAST-MODIFIED:20240515T032621Z
UID:10001791-1845885600-1845896400@www.rockylakesgolf.com
SUMMARY:Kuna League
DESCRIPTION:Tee Times
URL:https://www.rockylakesgolf.com/event/kuna-league/2028-06-29/
END:VEVENT
BEGIN:VEVENT
DTSTART;TZID=UTC:20280629T140000
DTEND;TZID=UTC:20280629T170000
DTSTAMP:20260423T060341
CREATED:20240515T032658Z
LAST-MODIFIED:20240515T032658Z
UID:10002052-1845900000-1845910800@www.rockylakesgolf.com
SUMMARY:Guard League
DESCRIPTION:Tee Times
URL:https://www.rockylakesgolf.com/event/guard-league/2028-06-29/
END:VEVENT
BEGIN:VEVENT
DTSTART;TZID=America/New_York:20280629T170000
DTEND;TZID=America/New_York:20280629T200000
DTSTAMP:20260423T060341
CREATED:20240515T032803Z
LAST-MODIFIED:20240515T032803Z
UID:10002313-1845910800-1845921600@www.rockylakesgolf.com
SUMMARY:Average Joe's
DESCRIPTION:Tee Times
URL:https://www.rockylakesgolf.com/event/average-joes/2028-06-29/
END:VEVENT
BEGIN:VEVENT
DTSTART;TZID=America/New_York:20280702T090000
DTEND;TZID=America/New_York:20280702T120000
DTSTAMP:20260423T060341
CREATED:20240515T032857Z
LAST-MODIFIED:20240515T032857Z
UID:10002574-1846141200-1846152000@www.rockylakesgolf.com
SUMMARY:Best Ball
DESCRIPTION:Tee Times
URL:https://www.rockylakesgolf.com/event/best-ball/2028-07-02/
END:VEVENT
BEGIN:VEVENT
DTSTART;TZID=America/New_York:20280703T140000
DTEND;TZID=America/New_York:20280703T160000
DTSTAMP:20260423T060341
CREATED:20240515T031308Z
LAST-MODIFIED:20240515T031806Z
UID:10000227-1846245600-1846252800@www.rockylakesgolf.com
SUMMARY:Brick Tap & Tavern
DESCRIPTION:Tee Times
URL:https://www.rockylakesgolf.com/event/brick-tap-tavern/2028-07-03/
END:VEVENT
BEGIN:VEVENT
DTSTART;TZID=America/New_York:20280704T160000
DTEND;TZID=America/New_York:20280704T170000
DTSTAMP:20260423T060341
CREATED:20240515T031624Z
LAST-MODIFIED:20240515T031624Z
UID:10000749-1846339200-1846342800@www.rockylakesgolf.com
SUMMARY:Hipps
DESCRIPTION:Tee Times
URL:https://www.rockylakesgolf.com/event/hipps/2028-07-04/
END:VEVENT
BEGIN:VEVENT
DTSTART;TZID=America/New_York:20280704T170000
DTEND;TZID=America/New_York:20280704T180000
DTSTAMP:20260423T060341
CREATED:20240515T031506Z
LAST-MODIFIED:20240516T075910Z
UID:10002835-1846342800-1846346400@www.rockylakesgolf.com
SUMMARY:Playmates
DESCRIPTION:Scramble Format
URL:https://www.rockylakesgolf.com/event/playmates/2028-07-04/
END:VEVENT
BEGIN:VEVENT
DTSTART;TZID=America/New_York:20280705T160000
DTEND;TZID=America/New_York:20280705T170000
DTSTAMP:20260423T060341
CREATED:20240515T032155Z
LAST-MODIFIED:20240515T032155Z
UID:10001270-1846425600-1846429200@www.rockylakesgolf.com
SUMMARY:Roger's League
DESCRIPTION:Scramble Format
URL:https://www.rockylakesgolf.com/event/rogers-league/2028-07-05/
END:VEVENT
BEGIN:VEVENT
DTSTART;TZID=America/New_York:20280705T170000
DTEND;TZID=America/New_York:20280705T180000
DTSTAMP:20260423T060341
CREATED:20240515T032501Z
LAST-MODIFIED:20240515T032501Z
UID:10001531-1846429200-1846432800@www.rockylakesgolf.com
SUMMARY:Spark League
DESCRIPTION:Tee Times
URL:https://www.rockylakesgolf.com/event/spark-league/2028-07-05/
END:VEVENT
END:VCALENDAR