BEGIN:VCALENDAR
VERSION:2.0
PRODID:-//Rocky Lakes Golf Course - ECPv6.15.18//NONSGML v1.0//EN
CALSCALE:GREGORIAN
METHOD:PUBLISH
X-WR-CALNAME:Rocky Lakes Golf Course
X-ORIGINAL-URL:https://www.rockylakesgolf.com
X-WR-CALDESC:Events for Rocky Lakes Golf Course
REFRESH-INTERVAL;VALUE=DURATION:PT1H
X-Robots-Tag:noindex
X-PUBLISHED-TTL:PT1H
BEGIN:VTIMEZONE
TZID:America/New_York
BEGIN:DAYLIGHT
TZOFFSETFROM:-0500
TZOFFSETTO:-0400
TZNAME:EDT
DTSTART:20270314T070000
END:DAYLIGHT
BEGIN:STANDARD
TZOFFSETFROM:-0400
TZOFFSETTO:-0500
TZNAME:EST
DTSTART:20271107T060000
END:STANDARD
BEGIN:DAYLIGHT
TZOFFSETFROM:-0500
TZOFFSETTO:-0400
TZNAME:EDT
DTSTART:20280312T070000
END:DAYLIGHT
BEGIN:STANDARD
TZOFFSETFROM:-0400
TZOFFSETTO:-0500
TZNAME:EST
DTSTART:20281105T060000
END:STANDARD
BEGIN:DAYLIGHT
TZOFFSETFROM:-0500
TZOFFSETTO:-0400
TZNAME:EDT
DTSTART:20290311T070000
END:DAYLIGHT
BEGIN:STANDARD
TZOFFSETFROM:-0400
TZOFFSETTO:-0500
TZNAME:EST
DTSTART:20291104T060000
END:STANDARD
END:VTIMEZONE
BEGIN:VTIMEZONE
TZID:UTC
BEGIN:STANDARD
TZOFFSETFROM:+0000
TZOFFSETTO:+0000
TZNAME:UTC
DTSTART:20270101T000000
END:STANDARD
END:VTIMEZONE
BEGIN:VEVENT
DTSTART;TZID=America/New_York:20280830T160000
DTEND;TZID=America/New_York:20280830T170000
DTSTAMP:20260423T113627
CREATED:20240515T032155Z
LAST-MODIFIED:20240515T032155Z
UID:10001278-1851264000-1851267600@www.rockylakesgolf.com
SUMMARY:Roger's League
DESCRIPTION:Scramble Format
URL:https://www.rockylakesgolf.com/event/rogers-league/2028-08-30/
END:VEVENT
BEGIN:VEVENT
DTSTART;TZID=America/New_York:20280830T170000
DTEND;TZID=America/New_York:20280830T180000
DTSTAMP:20260423T113627
CREATED:20240515T032501Z
LAST-MODIFIED:20240515T032501Z
UID:10001539-1851267600-1851271200@www.rockylakesgolf.com
SUMMARY:Spark League
DESCRIPTION:Tee Times
URL:https://www.rockylakesgolf.com/event/spark-league/2028-08-30/
END:VEVENT
BEGIN:VEVENT
DTSTART;TZID=America/New_York:20280831T100000
DTEND;TZID=America/New_York:20280831T130000
DTSTAMP:20260423T113627
CREATED:20240515T032621Z
LAST-MODIFIED:20240515T032621Z
UID:10001800-1851328800-1851339600@www.rockylakesgolf.com
SUMMARY:Kuna League
DESCRIPTION:Tee Times
URL:https://www.rockylakesgolf.com/event/kuna-league/2028-08-31/
END:VEVENT
BEGIN:VEVENT
DTSTART;TZID=UTC:20280831T140000
DTEND;TZID=UTC:20280831T170000
DTSTAMP:20260423T113627
CREATED:20240515T032658Z
LAST-MODIFIED:20240515T032658Z
UID:10002061-1851343200-1851354000@www.rockylakesgolf.com
SUMMARY:Guard League
DESCRIPTION:Tee Times
URL:https://www.rockylakesgolf.com/event/guard-league/2028-08-31/
END:VEVENT
BEGIN:VEVENT
DTSTART;TZID=America/New_York:20280831T170000
DTEND;TZID=America/New_York:20280831T200000
DTSTAMP:20260423T113627
CREATED:20240515T032803Z
LAST-MODIFIED:20240515T032803Z
UID:10002322-1851354000-1851364800@www.rockylakesgolf.com
SUMMARY:Average Joe's
DESCRIPTION:Tee Times
URL:https://www.rockylakesgolf.com/event/average-joes/2028-08-31/
END:VEVENT
BEGIN:VEVENT
DTSTART;TZID=America/New_York:20280903T090000
DTEND;TZID=America/New_York:20280903T120000
DTSTAMP:20260423T113627
CREATED:20240515T032857Z
LAST-MODIFIED:20240515T032857Z
UID:10002583-1851584400-1851595200@www.rockylakesgolf.com
SUMMARY:Best Ball
DESCRIPTION:Tee Times
URL:https://www.rockylakesgolf.com/event/best-ball/2028-09-03/
END:VEVENT
BEGIN:VEVENT
DTSTART;TZID=America/New_York:20280904T140000
DTEND;TZID=America/New_York:20280904T160000
DTSTAMP:20260423T113627
CREATED:20240515T031308Z
LAST-MODIFIED:20240515T031806Z
UID:10000236-1851688800-1851696000@www.rockylakesgolf.com
SUMMARY:Brick Tap & Tavern
DESCRIPTION:Tee Times
URL:https://www.rockylakesgolf.com/event/brick-tap-tavern/2028-09-04/
END:VEVENT
BEGIN:VEVENT
DTSTART;TZID=America/New_York:20280905T160000
DTEND;TZID=America/New_York:20280905T170000
DTSTAMP:20260423T113627
CREATED:20240515T031624Z
LAST-MODIFIED:20240515T031624Z
UID:10000758-1851782400-1851786000@www.rockylakesgolf.com
SUMMARY:Hipps
DESCRIPTION:Tee Times
URL:https://www.rockylakesgolf.com/event/hipps/2028-09-05/
END:VEVENT
BEGIN:VEVENT
DTSTART;TZID=America/New_York:20280905T170000
DTEND;TZID=America/New_York:20280905T180000
DTSTAMP:20260423T113627
CREATED:20240515T031506Z
LAST-MODIFIED:20240516T075910Z
UID:10002844-1851786000-1851789600@www.rockylakesgolf.com
SUMMARY:Playmates
DESCRIPTION:Scramble Format
URL:https://www.rockylakesgolf.com/event/playmates/2028-09-05/
END:VEVENT
BEGIN:VEVENT
DTSTART;TZID=America/New_York:20280906T160000
DTEND;TZID=America/New_York:20280906T170000
DTSTAMP:20260423T113627
CREATED:20240515T032155Z
LAST-MODIFIED:20240515T032155Z
UID:10001279-1851868800-1851872400@www.rockylakesgolf.com
SUMMARY:Roger's League
DESCRIPTION:Scramble Format
URL:https://www.rockylakesgolf.com/event/rogers-league/2028-09-06/
END:VEVENT
BEGIN:VEVENT
DTSTART;TZID=America/New_York:20280906T170000
DTEND;TZID=America/New_York:20280906T180000
DTSTAMP:20260423T113627
CREATED:20240515T032501Z
LAST-MODIFIED:20240515T032501Z
UID:10001540-1851872400-1851876000@www.rockylakesgolf.com
SUMMARY:Spark League
DESCRIPTION:Tee Times
URL:https://www.rockylakesgolf.com/event/spark-league/2028-09-06/
END:VEVENT
BEGIN:VEVENT
DTSTART;TZID=America/New_York:20280907T100000
DTEND;TZID=America/New_York:20280907T130000
DTSTAMP:20260423T113627
CREATED:20240515T032621Z
LAST-MODIFIED:20240515T032621Z
UID:10001801-1851933600-1851944400@www.rockylakesgolf.com
SUMMARY:Kuna League
DESCRIPTION:Tee Times
URL:https://www.rockylakesgolf.com/event/kuna-league/2028-09-07/
END:VEVENT
BEGIN:VEVENT
DTSTART;TZID=UTC:20280907T140000
DTEND;TZID=UTC:20280907T170000
DTSTAMP:20260423T113627
CREATED:20240515T032658Z
LAST-MODIFIED:20240515T032658Z
UID:10002062-1851948000-1851958800@www.rockylakesgolf.com
SUMMARY:Guard League
DESCRIPTION:Tee Times
URL:https://www.rockylakesgolf.com/event/guard-league/2028-09-07/
END:VEVENT
BEGIN:VEVENT
DTSTART;TZID=America/New_York:20280907T170000
DTEND;TZID=America/New_York:20280907T200000
DTSTAMP:20260423T113627
CREATED:20240515T032803Z
LAST-MODIFIED:20240515T032803Z
UID:10002323-1851958800-1851969600@www.rockylakesgolf.com
SUMMARY:Average Joe's
DESCRIPTION:Tee Times
URL:https://www.rockylakesgolf.com/event/average-joes/2028-09-07/
END:VEVENT
BEGIN:VEVENT
DTSTART;TZID=America/New_York:20280910T090000
DTEND;TZID=America/New_York:20280910T120000
DTSTAMP:20260423T113627
CREATED:20240515T032857Z
LAST-MODIFIED:20240515T032857Z
UID:10002584-1852189200-1852200000@www.rockylakesgolf.com
SUMMARY:Best Ball
DESCRIPTION:Tee Times
URL:https://www.rockylakesgolf.com/event/best-ball/2028-09-10/
END:VEVENT
BEGIN:VEVENT
DTSTART;TZID=America/New_York:20280911T140000
DTEND;TZID=America/New_York:20280911T160000
DTSTAMP:20260423T113627
CREATED:20240515T031308Z
LAST-MODIFIED:20240515T031806Z
UID:10000237-1852293600-1852300800@www.rockylakesgolf.com
SUMMARY:Brick Tap & Tavern
DESCRIPTION:Tee Times
URL:https://www.rockylakesgolf.com/event/brick-tap-tavern/2028-09-11/
END:VEVENT
BEGIN:VEVENT
DTSTART;TZID=America/New_York:20280912T160000
DTEND;TZID=America/New_York:20280912T170000
DTSTAMP:20260423T113627
CREATED:20240515T031624Z
LAST-MODIFIED:20240515T031624Z
UID:10000759-1852387200-1852390800@www.rockylakesgolf.com
SUMMARY:Hipps
DESCRIPTION:Tee Times
URL:https://www.rockylakesgolf.com/event/hipps/2028-09-12/
END:VEVENT
BEGIN:VEVENT
DTSTART;TZID=America/New_York:20280912T170000
DTEND;TZID=America/New_York:20280912T180000
DTSTAMP:20260423T113627
CREATED:20240515T031506Z
LAST-MODIFIED:20240516T075910Z
UID:10002845-1852390800-1852394400@www.rockylakesgolf.com
SUMMARY:Playmates
DESCRIPTION:Scramble Format
URL:https://www.rockylakesgolf.com/event/playmates/2028-09-12/
END:VEVENT
BEGIN:VEVENT
DTSTART;TZID=America/New_York:20280913T160000
DTEND;TZID=America/New_York:20280913T170000
DTSTAMP:20260423T113627
CREATED:20240515T032155Z
LAST-MODIFIED:20240515T032155Z
UID:10001280-1852473600-1852477200@www.rockylakesgolf.com
SUMMARY:Roger's League
DESCRIPTION:Scramble Format
URL:https://www.rockylakesgolf.com/event/rogers-league/2028-09-13/
END:VEVENT
BEGIN:VEVENT
DTSTART;TZID=America/New_York:20280913T170000
DTEND;TZID=America/New_York:20280913T180000
DTSTAMP:20260423T113627
CREATED:20240515T032501Z
LAST-MODIFIED:20240515T032501Z
UID:10001541-1852477200-1852480800@www.rockylakesgolf.com
SUMMARY:Spark League
DESCRIPTION:Tee Times
URL:https://www.rockylakesgolf.com/event/spark-league/2028-09-13/
END:VEVENT
BEGIN:VEVENT
DTSTART;TZID=America/New_York:20280914T100000
DTEND;TZID=America/New_York:20280914T130000
DTSTAMP:20260423T113627
CREATED:20240515T032621Z
LAST-MODIFIED:20240515T032621Z
UID:10001802-1852538400-1852549200@www.rockylakesgolf.com
SUMMARY:Kuna League
DESCRIPTION:Tee Times
URL:https://www.rockylakesgolf.com/event/kuna-league/2028-09-14/
END:VEVENT
BEGIN:VEVENT
DTSTART;TZID=UTC:20280914T140000
DTEND;TZID=UTC:20280914T170000
DTSTAMP:20260423T113627
CREATED:20240515T032658Z
LAST-MODIFIED:20240515T032658Z
UID:10002063-1852552800-1852563600@www.rockylakesgolf.com
SUMMARY:Guard League
DESCRIPTION:Tee Times
URL:https://www.rockylakesgolf.com/event/guard-league/2028-09-14/
END:VEVENT
BEGIN:VEVENT
DTSTART;TZID=America/New_York:20280914T170000
DTEND;TZID=America/New_York:20280914T200000
DTSTAMP:20260423T113627
CREATED:20240515T032803Z
LAST-MODIFIED:20240515T032803Z
UID:10002324-1852563600-1852574400@www.rockylakesgolf.com
SUMMARY:Average Joe's
DESCRIPTION:Tee Times
URL:https://www.rockylakesgolf.com/event/average-joes/2028-09-14/
END:VEVENT
BEGIN:VEVENT
DTSTART;TZID=America/New_York:20280917T090000
DTEND;TZID=America/New_York:20280917T120000
DTSTAMP:20260423T113627
CREATED:20240515T032857Z
LAST-MODIFIED:20240515T032857Z
UID:10002585-1852794000-1852804800@www.rockylakesgolf.com
SUMMARY:Best Ball
DESCRIPTION:Tee Times
URL:https://www.rockylakesgolf.com/event/best-ball/2028-09-17/
END:VEVENT
BEGIN:VEVENT
DTSTART;TZID=America/New_York:20280918T140000
DTEND;TZID=America/New_York:20280918T160000
DTSTAMP:20260423T113627
CREATED:20240515T031308Z
LAST-MODIFIED:20240515T031806Z
UID:10000238-1852898400-1852905600@www.rockylakesgolf.com
SUMMARY:Brick Tap & Tavern
DESCRIPTION:Tee Times
URL:https://www.rockylakesgolf.com/event/brick-tap-tavern/2028-09-18/
END:VEVENT
BEGIN:VEVENT
DTSTART;TZID=America/New_York:20280919T160000
DTEND;TZID=America/New_York:20280919T170000
DTSTAMP:20260423T113627
CREATED:20240515T031624Z
LAST-MODIFIED:20240515T031624Z
UID:10000760-1852992000-1852995600@www.rockylakesgolf.com
SUMMARY:Hipps
DESCRIPTION:Tee Times
URL:https://www.rockylakesgolf.com/event/hipps/2028-09-19/
END:VEVENT
BEGIN:VEVENT
DTSTART;TZID=America/New_York:20280919T170000
DTEND;TZID=America/New_York:20280919T180000
DTSTAMP:20260423T113627
CREATED:20240515T031506Z
LAST-MODIFIED:20240516T075910Z
UID:10002846-1852995600-1852999200@www.rockylakesgolf.com
SUMMARY:Playmates
DESCRIPTION:Scramble Format
URL:https://www.rockylakesgolf.com/event/playmates/2028-09-19/
END:VEVENT
BEGIN:VEVENT
DTSTART;TZID=America/New_York:20280920T160000
DTEND;TZID=America/New_York:20280920T170000
DTSTAMP:20260423T113627
CREATED:20240515T032155Z
LAST-MODIFIED:20240515T032155Z
UID:10001281-1853078400-1853082000@www.rockylakesgolf.com
SUMMARY:Roger's League
DESCRIPTION:Scramble Format
URL:https://www.rockylakesgolf.com/event/rogers-league/2028-09-20/
END:VEVENT
BEGIN:VEVENT
DTSTART;TZID=America/New_York:20280920T170000
DTEND;TZID=America/New_York:20280920T180000
DTSTAMP:20260423T113627
CREATED:20240515T032501Z
LAST-MODIFIED:20240515T032501Z
UID:10001542-1853082000-1853085600@www.rockylakesgolf.com
SUMMARY:Spark League
DESCRIPTION:Tee Times
URL:https://www.rockylakesgolf.com/event/spark-league/2028-09-20/
END:VEVENT
BEGIN:VEVENT
DTSTART;TZID=America/New_York:20280921T100000
DTEND;TZID=America/New_York:20280921T130000
DTSTAMP:20260423T113627
CREATED:20240515T032621Z
LAST-MODIFIED:20240515T032621Z
UID:10001803-1853143200-1853154000@www.rockylakesgolf.com
SUMMARY:Kuna League
DESCRIPTION:Tee Times
URL:https://www.rockylakesgolf.com/event/kuna-league/2028-09-21/
END:VEVENT
END:VCALENDAR