BEGIN:VCALENDAR
VERSION:2.0
PRODID:-//Rocky Lakes Golf Course - ECPv6.15.18//NONSGML v1.0//EN
CALSCALE:GREGORIAN
METHOD:PUBLISH
X-WR-CALNAME:Rocky Lakes Golf Course
X-ORIGINAL-URL:https://www.rockylakesgolf.com
X-WR-CALDESC:Events for Rocky Lakes Golf Course
REFRESH-INTERVAL;VALUE=DURATION:PT1H
X-Robots-Tag:noindex
X-PUBLISHED-TTL:PT1H
BEGIN:VTIMEZONE
TZID:America/New_York
BEGIN:DAYLIGHT
TZOFFSETFROM:-0500
TZOFFSETTO:-0400
TZNAME:EDT
DTSTART:20270314T070000
END:DAYLIGHT
BEGIN:STANDARD
TZOFFSETFROM:-0400
TZOFFSETTO:-0500
TZNAME:EST
DTSTART:20271107T060000
END:STANDARD
BEGIN:DAYLIGHT
TZOFFSETFROM:-0500
TZOFFSETTO:-0400
TZNAME:EDT
DTSTART:20280312T070000
END:DAYLIGHT
BEGIN:STANDARD
TZOFFSETFROM:-0400
TZOFFSETTO:-0500
TZNAME:EST
DTSTART:20281105T060000
END:STANDARD
BEGIN:DAYLIGHT
TZOFFSETFROM:-0500
TZOFFSETTO:-0400
TZNAME:EDT
DTSTART:20290311T070000
END:DAYLIGHT
BEGIN:STANDARD
TZOFFSETFROM:-0400
TZOFFSETTO:-0500
TZNAME:EST
DTSTART:20291104T060000
END:STANDARD
END:VTIMEZONE
BEGIN:VTIMEZONE
TZID:UTC
BEGIN:STANDARD
TZOFFSETFROM:+0000
TZOFFSETTO:+0000
TZNAME:UTC
DTSTART:20270101T000000
END:STANDARD
END:VTIMEZONE
BEGIN:VEVENT
DTSTART;TZID=America/New_York:20281129T160000
DTEND;TZID=America/New_York:20281129T170000
DTSTAMP:20260425T025918
CREATED:20240515T032155Z
LAST-MODIFIED:20240515T032155Z
UID:10001291-1859126400-1859130000@www.rockylakesgolf.com
SUMMARY:Roger's League
DESCRIPTION:Scramble Format
URL:https://www.rockylakesgolf.com/event/rogers-league/2028-11-29/
END:VEVENT
BEGIN:VEVENT
DTSTART;TZID=America/New_York:20281129T170000
DTEND;TZID=America/New_York:20281129T180000
DTSTAMP:20260425T025918
CREATED:20240515T032501Z
LAST-MODIFIED:20240515T032501Z
UID:10001552-1859130000-1859133600@www.rockylakesgolf.com
SUMMARY:Spark League
DESCRIPTION:Tee Times
URL:https://www.rockylakesgolf.com/event/spark-league/2028-11-29/
END:VEVENT
BEGIN:VEVENT
DTSTART;TZID=America/New_York:20281130T100000
DTEND;TZID=America/New_York:20281130T130000
DTSTAMP:20260425T025918
CREATED:20240515T032621Z
LAST-MODIFIED:20240515T032621Z
UID:10001813-1859191200-1859202000@www.rockylakesgolf.com
SUMMARY:Kuna League
DESCRIPTION:Tee Times
URL:https://www.rockylakesgolf.com/event/kuna-league/2028-11-30/
END:VEVENT
BEGIN:VEVENT
DTSTART;TZID=UTC:20281130T140000
DTEND;TZID=UTC:20281130T170000
DTSTAMP:20260425T025918
CREATED:20240515T032658Z
LAST-MODIFIED:20240515T032658Z
UID:10002074-1859205600-1859216400@www.rockylakesgolf.com
SUMMARY:Guard League
DESCRIPTION:Tee Times
URL:https://www.rockylakesgolf.com/event/guard-league/2028-11-30/
END:VEVENT
BEGIN:VEVENT
DTSTART;TZID=America/New_York:20281130T170000
DTEND;TZID=America/New_York:20281130T200000
DTSTAMP:20260425T025918
CREATED:20240515T032803Z
LAST-MODIFIED:20240515T032803Z
UID:10002335-1859216400-1859227200@www.rockylakesgolf.com
SUMMARY:Average Joe's
DESCRIPTION:Tee Times
URL:https://www.rockylakesgolf.com/event/average-joes/2028-11-30/
END:VEVENT
BEGIN:VEVENT
DTSTART;TZID=America/New_York:20281203T090000
DTEND;TZID=America/New_York:20281203T120000
DTSTAMP:20260425T025918
CREATED:20240515T032857Z
LAST-MODIFIED:20240515T032857Z
UID:10002596-1859446800-1859457600@www.rockylakesgolf.com
SUMMARY:Best Ball
DESCRIPTION:Tee Times
URL:https://www.rockylakesgolf.com/event/best-ball/2028-12-03/
END:VEVENT
BEGIN:VEVENT
DTSTART;TZID=America/New_York:20281204T140000
DTEND;TZID=America/New_York:20281204T160000
DTSTAMP:20260425T025918
CREATED:20240515T031308Z
LAST-MODIFIED:20240515T031806Z
UID:10000249-1859551200-1859558400@www.rockylakesgolf.com
SUMMARY:Brick Tap & Tavern
DESCRIPTION:Tee Times
URL:https://www.rockylakesgolf.com/event/brick-tap-tavern/2028-12-04/
END:VEVENT
BEGIN:VEVENT
DTSTART;TZID=America/New_York:20281205T160000
DTEND;TZID=America/New_York:20281205T170000
DTSTAMP:20260425T025918
CREATED:20240515T031624Z
LAST-MODIFIED:20240515T031624Z
UID:10000771-1859644800-1859648400@www.rockylakesgolf.com
SUMMARY:Hipps
DESCRIPTION:Tee Times
URL:https://www.rockylakesgolf.com/event/hipps/2028-12-05/
END:VEVENT
BEGIN:VEVENT
DTSTART;TZID=America/New_York:20281205T170000
DTEND;TZID=America/New_York:20281205T180000
DTSTAMP:20260425T025918
CREATED:20240515T031506Z
LAST-MODIFIED:20240516T075910Z
UID:10002857-1859648400-1859652000@www.rockylakesgolf.com
SUMMARY:Playmates
DESCRIPTION:Scramble Format
URL:https://www.rockylakesgolf.com/event/playmates/2028-12-05/
END:VEVENT
BEGIN:VEVENT
DTSTART;TZID=America/New_York:20281206T160000
DTEND;TZID=America/New_York:20281206T170000
DTSTAMP:20260425T025918
CREATED:20240515T032155Z
LAST-MODIFIED:20240515T032155Z
UID:10001292-1859731200-1859734800@www.rockylakesgolf.com
SUMMARY:Roger's League
DESCRIPTION:Scramble Format
URL:https://www.rockylakesgolf.com/event/rogers-league/2028-12-06/
END:VEVENT
BEGIN:VEVENT
DTSTART;TZID=America/New_York:20281206T170000
DTEND;TZID=America/New_York:20281206T180000
DTSTAMP:20260425T025918
CREATED:20240515T032501Z
LAST-MODIFIED:20240515T032501Z
UID:10001553-1859734800-1859738400@www.rockylakesgolf.com
SUMMARY:Spark League
DESCRIPTION:Tee Times
URL:https://www.rockylakesgolf.com/event/spark-league/2028-12-06/
END:VEVENT
BEGIN:VEVENT
DTSTART;TZID=America/New_York:20281207T100000
DTEND;TZID=America/New_York:20281207T130000
DTSTAMP:20260425T025918
CREATED:20240515T032621Z
LAST-MODIFIED:20240515T032621Z
UID:10001814-1859796000-1859806800@www.rockylakesgolf.com
SUMMARY:Kuna League
DESCRIPTION:Tee Times
URL:https://www.rockylakesgolf.com/event/kuna-league/2028-12-07/
END:VEVENT
BEGIN:VEVENT
DTSTART;TZID=UTC:20281207T140000
DTEND;TZID=UTC:20281207T170000
DTSTAMP:20260425T025918
CREATED:20240515T032658Z
LAST-MODIFIED:20240515T032658Z
UID:10002075-1859810400-1859821200@www.rockylakesgolf.com
SUMMARY:Guard League
DESCRIPTION:Tee Times
URL:https://www.rockylakesgolf.com/event/guard-league/2028-12-07/
END:VEVENT
BEGIN:VEVENT
DTSTART;TZID=America/New_York:20281207T170000
DTEND;TZID=America/New_York:20281207T200000
DTSTAMP:20260425T025918
CREATED:20240515T032803Z
LAST-MODIFIED:20240515T032803Z
UID:10002336-1859821200-1859832000@www.rockylakesgolf.com
SUMMARY:Average Joe's
DESCRIPTION:Tee Times
URL:https://www.rockylakesgolf.com/event/average-joes/2028-12-07/
END:VEVENT
BEGIN:VEVENT
DTSTART;TZID=America/New_York:20281210T090000
DTEND;TZID=America/New_York:20281210T120000
DTSTAMP:20260425T025918
CREATED:20240515T032857Z
LAST-MODIFIED:20240515T032857Z
UID:10002597-1860051600-1860062400@www.rockylakesgolf.com
SUMMARY:Best Ball
DESCRIPTION:Tee Times
URL:https://www.rockylakesgolf.com/event/best-ball/2028-12-10/
END:VEVENT
BEGIN:VEVENT
DTSTART;TZID=America/New_York:20281211T140000
DTEND;TZID=America/New_York:20281211T160000
DTSTAMP:20260425T025918
CREATED:20240515T031308Z
LAST-MODIFIED:20240515T031806Z
UID:10000250-1860156000-1860163200@www.rockylakesgolf.com
SUMMARY:Brick Tap & Tavern
DESCRIPTION:Tee Times
URL:https://www.rockylakesgolf.com/event/brick-tap-tavern/2028-12-11/
END:VEVENT
BEGIN:VEVENT
DTSTART;TZID=America/New_York:20281212T160000
DTEND;TZID=America/New_York:20281212T170000
DTSTAMP:20260425T025918
CREATED:20240515T031624Z
LAST-MODIFIED:20240515T031624Z
UID:10000772-1860249600-1860253200@www.rockylakesgolf.com
SUMMARY:Hipps
DESCRIPTION:Tee Times
URL:https://www.rockylakesgolf.com/event/hipps/2028-12-12/
END:VEVENT
BEGIN:VEVENT
DTSTART;TZID=America/New_York:20281212T170000
DTEND;TZID=America/New_York:20281212T180000
DTSTAMP:20260425T025918
CREATED:20240515T031506Z
LAST-MODIFIED:20240516T075910Z
UID:10002858-1860253200-1860256800@www.rockylakesgolf.com
SUMMARY:Playmates
DESCRIPTION:Scramble Format
URL:https://www.rockylakesgolf.com/event/playmates/2028-12-12/
END:VEVENT
BEGIN:VEVENT
DTSTART;TZID=America/New_York:20281213T160000
DTEND;TZID=America/New_York:20281213T170000
DTSTAMP:20260425T025918
CREATED:20240515T032155Z
LAST-MODIFIED:20240515T032155Z
UID:10001293-1860336000-1860339600@www.rockylakesgolf.com
SUMMARY:Roger's League
DESCRIPTION:Scramble Format
URL:https://www.rockylakesgolf.com/event/rogers-league/2028-12-13/
END:VEVENT
BEGIN:VEVENT
DTSTART;TZID=America/New_York:20281213T170000
DTEND;TZID=America/New_York:20281213T180000
DTSTAMP:20260425T025918
CREATED:20240515T032501Z
LAST-MODIFIED:20240515T032501Z
UID:10001554-1860339600-1860343200@www.rockylakesgolf.com
SUMMARY:Spark League
DESCRIPTION:Tee Times
URL:https://www.rockylakesgolf.com/event/spark-league/2028-12-13/
END:VEVENT
BEGIN:VEVENT
DTSTART;TZID=America/New_York:20281214T100000
DTEND;TZID=America/New_York:20281214T130000
DTSTAMP:20260425T025918
CREATED:20240515T032621Z
LAST-MODIFIED:20240515T032621Z
UID:10001815-1860400800-1860411600@www.rockylakesgolf.com
SUMMARY:Kuna League
DESCRIPTION:Tee Times
URL:https://www.rockylakesgolf.com/event/kuna-league/2028-12-14/
END:VEVENT
BEGIN:VEVENT
DTSTART;TZID=UTC:20281214T140000
DTEND;TZID=UTC:20281214T170000
DTSTAMP:20260425T025918
CREATED:20240515T032658Z
LAST-MODIFIED:20240515T032658Z
UID:10002076-1860415200-1860426000@www.rockylakesgolf.com
SUMMARY:Guard League
DESCRIPTION:Tee Times
URL:https://www.rockylakesgolf.com/event/guard-league/2028-12-14/
END:VEVENT
BEGIN:VEVENT
DTSTART;TZID=America/New_York:20281214T170000
DTEND;TZID=America/New_York:20281214T200000
DTSTAMP:20260425T025918
CREATED:20240515T032803Z
LAST-MODIFIED:20240515T032803Z
UID:10002337-1860426000-1860436800@www.rockylakesgolf.com
SUMMARY:Average Joe's
DESCRIPTION:Tee Times
URL:https://www.rockylakesgolf.com/event/average-joes/2028-12-14/
END:VEVENT
BEGIN:VEVENT
DTSTART;TZID=America/New_York:20281217T090000
DTEND;TZID=America/New_York:20281217T120000
DTSTAMP:20260425T025918
CREATED:20240515T032857Z
LAST-MODIFIED:20240515T032857Z
UID:10002598-1860656400-1860667200@www.rockylakesgolf.com
SUMMARY:Best Ball
DESCRIPTION:Tee Times
URL:https://www.rockylakesgolf.com/event/best-ball/2028-12-17/
END:VEVENT
BEGIN:VEVENT
DTSTART;TZID=America/New_York:20281218T140000
DTEND;TZID=America/New_York:20281218T160000
DTSTAMP:20260425T025919
CREATED:20240515T031308Z
LAST-MODIFIED:20240515T031806Z
UID:10000251-1860760800-1860768000@www.rockylakesgolf.com
SUMMARY:Brick Tap & Tavern
DESCRIPTION:Tee Times
URL:https://www.rockylakesgolf.com/event/brick-tap-tavern/2028-12-18/
END:VEVENT
BEGIN:VEVENT
DTSTART;TZID=America/New_York:20281219T160000
DTEND;TZID=America/New_York:20281219T170000
DTSTAMP:20260425T025919
CREATED:20240515T031624Z
LAST-MODIFIED:20240515T031624Z
UID:10000773-1860854400-1860858000@www.rockylakesgolf.com
SUMMARY:Hipps
DESCRIPTION:Tee Times
URL:https://www.rockylakesgolf.com/event/hipps/2028-12-19/
END:VEVENT
BEGIN:VEVENT
DTSTART;TZID=America/New_York:20281219T170000
DTEND;TZID=America/New_York:20281219T180000
DTSTAMP:20260425T025919
CREATED:20240515T031506Z
LAST-MODIFIED:20240516T075910Z
UID:10002859-1860858000-1860861600@www.rockylakesgolf.com
SUMMARY:Playmates
DESCRIPTION:Scramble Format
URL:https://www.rockylakesgolf.com/event/playmates/2028-12-19/
END:VEVENT
BEGIN:VEVENT
DTSTART;TZID=America/New_York:20281220T160000
DTEND;TZID=America/New_York:20281220T170000
DTSTAMP:20260425T025919
CREATED:20240515T032155Z
LAST-MODIFIED:20240515T032155Z
UID:10001294-1860940800-1860944400@www.rockylakesgolf.com
SUMMARY:Roger's League
DESCRIPTION:Scramble Format
URL:https://www.rockylakesgolf.com/event/rogers-league/2028-12-20/
END:VEVENT
BEGIN:VEVENT
DTSTART;TZID=America/New_York:20281220T170000
DTEND;TZID=America/New_York:20281220T180000
DTSTAMP:20260425T025919
CREATED:20240515T032501Z
LAST-MODIFIED:20240515T032501Z
UID:10001555-1860944400-1860948000@www.rockylakesgolf.com
SUMMARY:Spark League
DESCRIPTION:Tee Times
URL:https://www.rockylakesgolf.com/event/spark-league/2028-12-20/
END:VEVENT
BEGIN:VEVENT
DTSTART;TZID=America/New_York:20281221T100000
DTEND;TZID=America/New_York:20281221T130000
DTSTAMP:20260425T025919
CREATED:20240515T032621Z
LAST-MODIFIED:20240515T032621Z
UID:10001816-1861005600-1861016400@www.rockylakesgolf.com
SUMMARY:Kuna League
DESCRIPTION:Tee Times
URL:https://www.rockylakesgolf.com/event/kuna-league/2028-12-21/
END:VEVENT
END:VCALENDAR