BEGIN:VCALENDAR
VERSION:2.0
PRODID:-//Rocky Lakes Golf Course - ECPv6.15.18//NONSGML v1.0//EN
CALSCALE:GREGORIAN
METHOD:PUBLISH
X-WR-CALNAME:Rocky Lakes Golf Course
X-ORIGINAL-URL:https://www.rockylakesgolf.com
X-WR-CALDESC:Events for Rocky Lakes Golf Course
REFRESH-INTERVAL;VALUE=DURATION:PT1H
X-Robots-Tag:noindex
X-PUBLISHED-TTL:PT1H
BEGIN:VTIMEZONE
TZID:America/New_York
BEGIN:DAYLIGHT
TZOFFSETFROM:-0500
TZOFFSETTO:-0400
TZNAME:EDT
DTSTART:20270314T070000
END:DAYLIGHT
BEGIN:STANDARD
TZOFFSETFROM:-0400
TZOFFSETTO:-0500
TZNAME:EST
DTSTART:20271107T060000
END:STANDARD
BEGIN:DAYLIGHT
TZOFFSETFROM:-0500
TZOFFSETTO:-0400
TZNAME:EDT
DTSTART:20280312T070000
END:DAYLIGHT
BEGIN:STANDARD
TZOFFSETFROM:-0400
TZOFFSETTO:-0500
TZNAME:EST
DTSTART:20281105T060000
END:STANDARD
BEGIN:DAYLIGHT
TZOFFSETFROM:-0500
TZOFFSETTO:-0400
TZNAME:EDT
DTSTART:20290311T070000
END:DAYLIGHT
BEGIN:STANDARD
TZOFFSETFROM:-0400
TZOFFSETTO:-0500
TZNAME:EST
DTSTART:20291104T060000
END:STANDARD
BEGIN:DAYLIGHT
TZOFFSETFROM:-0500
TZOFFSETTO:-0400
TZNAME:EDT
DTSTART:20300310T070000
END:DAYLIGHT
BEGIN:STANDARD
TZOFFSETFROM:-0400
TZOFFSETTO:-0500
TZNAME:EST
DTSTART:20301103T060000
END:STANDARD
END:VTIMEZONE
BEGIN:VTIMEZONE
TZID:UTC
BEGIN:STANDARD
TZOFFSETFROM:+0000
TZOFFSETTO:+0000
TZNAME:UTC
DTSTART:20270101T000000
END:STANDARD
END:VTIMEZONE
BEGIN:VEVENT
DTSTART;TZID=America/New_York:20290117T160000
DTEND;TZID=America/New_York:20290117T170000
DTSTAMP:20260425T151744
CREATED:20240515T032155Z
LAST-MODIFIED:20240515T032155Z
UID:10001298-1863360000-1863363600@www.rockylakesgolf.com
SUMMARY:Roger's League
DESCRIPTION:Scramble Format
URL:https://www.rockylakesgolf.com/event/rogers-league/2029-01-17/
END:VEVENT
BEGIN:VEVENT
DTSTART;TZID=America/New_York:20290116T170000
DTEND;TZID=America/New_York:20290116T180000
DTSTAMP:20260425T151744
CREATED:20240515T031506Z
LAST-MODIFIED:20240516T075910Z
UID:10002863-1863277200-1863280800@www.rockylakesgolf.com
SUMMARY:Playmates
DESCRIPTION:Scramble Format
URL:https://www.rockylakesgolf.com/event/playmates/2029-01-16/
END:VEVENT
BEGIN:VEVENT
DTSTART;TZID=America/New_York:20290116T160000
DTEND;TZID=America/New_York:20290116T170000
DTSTAMP:20260425T151744
CREATED:20240515T031624Z
LAST-MODIFIED:20240515T031624Z
UID:10000777-1863273600-1863277200@www.rockylakesgolf.com
SUMMARY:Hipps
DESCRIPTION:Tee Times
URL:https://www.rockylakesgolf.com/event/hipps/2029-01-16/
END:VEVENT
BEGIN:VEVENT
DTSTART;TZID=America/New_York:20290115T140000
DTEND;TZID=America/New_York:20290115T160000
DTSTAMP:20260425T151744
CREATED:20240515T031308Z
LAST-MODIFIED:20240515T031806Z
UID:10000255-1863180000-1863187200@www.rockylakesgolf.com
SUMMARY:Brick Tap & Tavern
DESCRIPTION:Tee Times
URL:https://www.rockylakesgolf.com/event/brick-tap-tavern/2029-01-15/
END:VEVENT
BEGIN:VEVENT
DTSTART;TZID=America/New_York:20290114T090000
DTEND;TZID=America/New_York:20290114T120000
DTSTAMP:20260425T151744
CREATED:20240515T032857Z
LAST-MODIFIED:20240515T032857Z
UID:10002602-1863075600-1863086400@www.rockylakesgolf.com
SUMMARY:Best Ball
DESCRIPTION:Tee Times
URL:https://www.rockylakesgolf.com/event/best-ball/2029-01-14/
END:VEVENT
BEGIN:VEVENT
DTSTART;TZID=America/New_York:20290111T170000
DTEND;TZID=America/New_York:20290111T200000
DTSTAMP:20260425T151744
CREATED:20240515T032803Z
LAST-MODIFIED:20240515T032803Z
UID:10002341-1862845200-1862856000@www.rockylakesgolf.com
SUMMARY:Average Joe's
DESCRIPTION:Tee Times
URL:https://www.rockylakesgolf.com/event/average-joes/2029-01-11/
END:VEVENT
BEGIN:VEVENT
DTSTART;TZID=UTC:20290111T140000
DTEND;TZID=UTC:20290111T170000
DTSTAMP:20260425T151744
CREATED:20240515T032658Z
LAST-MODIFIED:20240515T032658Z
UID:10002080-1862834400-1862845200@www.rockylakesgolf.com
SUMMARY:Guard League
DESCRIPTION:Tee Times
URL:https://www.rockylakesgolf.com/event/guard-league/2029-01-11/
END:VEVENT
BEGIN:VEVENT
DTSTART;TZID=America/New_York:20290111T100000
DTEND;TZID=America/New_York:20290111T130000
DTSTAMP:20260425T151744
CREATED:20240515T032621Z
LAST-MODIFIED:20240515T032621Z
UID:10001819-1862820000-1862830800@www.rockylakesgolf.com
SUMMARY:Kuna League
DESCRIPTION:Tee Times
URL:https://www.rockylakesgolf.com/event/kuna-league/2029-01-11/
END:VEVENT
BEGIN:VEVENT
DTSTART;TZID=America/New_York:20290110T170000
DTEND;TZID=America/New_York:20290110T180000
DTSTAMP:20260425T151744
CREATED:20240515T032501Z
LAST-MODIFIED:20240515T032501Z
UID:10001558-1862758800-1862762400@www.rockylakesgolf.com
SUMMARY:Spark League
DESCRIPTION:Tee Times
URL:https://www.rockylakesgolf.com/event/spark-league/2029-01-10/
END:VEVENT
BEGIN:VEVENT
DTSTART;TZID=America/New_York:20290110T160000
DTEND;TZID=America/New_York:20290110T170000
DTSTAMP:20260425T151744
CREATED:20240515T032155Z
LAST-MODIFIED:20240515T032155Z
UID:10001297-1862755200-1862758800@www.rockylakesgolf.com
SUMMARY:Roger's League
DESCRIPTION:Scramble Format
URL:https://www.rockylakesgolf.com/event/rogers-league/2029-01-10/
END:VEVENT
BEGIN:VEVENT
DTSTART;TZID=America/New_York:20290109T170000
DTEND;TZID=America/New_York:20290109T180000
DTSTAMP:20260425T151744
CREATED:20240515T031506Z
LAST-MODIFIED:20240516T075910Z
UID:10002862-1862672400-1862676000@www.rockylakesgolf.com
SUMMARY:Playmates
DESCRIPTION:Scramble Format
URL:https://www.rockylakesgolf.com/event/playmates/2029-01-09/
END:VEVENT
BEGIN:VEVENT
DTSTART;TZID=America/New_York:20290109T160000
DTEND;TZID=America/New_York:20290109T170000
DTSTAMP:20260425T151744
CREATED:20240515T031624Z
LAST-MODIFIED:20240515T031624Z
UID:10000776-1862668800-1862672400@www.rockylakesgolf.com
SUMMARY:Hipps
DESCRIPTION:Tee Times
URL:https://www.rockylakesgolf.com/event/hipps/2029-01-09/
END:VEVENT
BEGIN:VEVENT
DTSTART;TZID=America/New_York:20290108T140000
DTEND;TZID=America/New_York:20290108T160000
DTSTAMP:20260425T151744
CREATED:20240515T031308Z
LAST-MODIFIED:20240515T031806Z
UID:10000254-1862575200-1862582400@www.rockylakesgolf.com
SUMMARY:Brick Tap & Tavern
DESCRIPTION:Tee Times
URL:https://www.rockylakesgolf.com/event/brick-tap-tavern/2029-01-08/
END:VEVENT
BEGIN:VEVENT
DTSTART;TZID=America/New_York:20290107T090000
DTEND;TZID=America/New_York:20290107T120000
DTSTAMP:20260425T151744
CREATED:20240515T032857Z
LAST-MODIFIED:20240515T032857Z
UID:10002601-1862470800-1862481600@www.rockylakesgolf.com
SUMMARY:Best Ball
DESCRIPTION:Tee Times
URL:https://www.rockylakesgolf.com/event/best-ball/2029-01-07/
END:VEVENT
BEGIN:VEVENT
DTSTART;TZID=America/New_York:20290104T170000
DTEND;TZID=America/New_York:20290104T200000
DTSTAMP:20260425T151744
CREATED:20240515T032803Z
LAST-MODIFIED:20240515T032803Z
UID:10002340-1862240400-1862251200@www.rockylakesgolf.com
SUMMARY:Average Joe's
DESCRIPTION:Tee Times
URL:https://www.rockylakesgolf.com/event/average-joes/2029-01-04/
END:VEVENT
BEGIN:VEVENT
DTSTART;TZID=UTC:20290104T140000
DTEND;TZID=UTC:20290104T170000
DTSTAMP:20260425T151744
CREATED:20240515T032658Z
LAST-MODIFIED:20240515T032658Z
UID:10002079-1862229600-1862240400@www.rockylakesgolf.com
SUMMARY:Guard League
DESCRIPTION:Tee Times
URL:https://www.rockylakesgolf.com/event/guard-league/2029-01-04/
END:VEVENT
BEGIN:VEVENT
DTSTART;TZID=America/New_York:20290104T100000
DTEND;TZID=America/New_York:20290104T130000
DTSTAMP:20260425T151744
CREATED:20240515T032621Z
LAST-MODIFIED:20240515T032621Z
UID:10001818-1862215200-1862226000@www.rockylakesgolf.com
SUMMARY:Kuna League
DESCRIPTION:Tee Times
URL:https://www.rockylakesgolf.com/event/kuna-league/2029-01-04/
END:VEVENT
BEGIN:VEVENT
DTSTART;TZID=America/New_York:20290103T170000
DTEND;TZID=America/New_York:20290103T180000
DTSTAMP:20260425T151744
CREATED:20240515T032501Z
LAST-MODIFIED:20240515T032501Z
UID:10001557-1862154000-1862157600@www.rockylakesgolf.com
SUMMARY:Spark League
DESCRIPTION:Tee Times
URL:https://www.rockylakesgolf.com/event/spark-league/2029-01-03/
END:VEVENT
BEGIN:VEVENT
DTSTART;TZID=America/New_York:20290103T160000
DTEND;TZID=America/New_York:20290103T170000
DTSTAMP:20260425T151744
CREATED:20240515T032155Z
LAST-MODIFIED:20240515T032155Z
UID:10001296-1862150400-1862154000@www.rockylakesgolf.com
SUMMARY:Roger's League
DESCRIPTION:Scramble Format
URL:https://www.rockylakesgolf.com/event/rogers-league/2029-01-03/
END:VEVENT
BEGIN:VEVENT
DTSTART;TZID=America/New_York:20290102T170000
DTEND;TZID=America/New_York:20290102T180000
DTSTAMP:20260425T151744
CREATED:20240515T031506Z
LAST-MODIFIED:20240516T075910Z
UID:10002861-1862067600-1862071200@www.rockylakesgolf.com
SUMMARY:Playmates
DESCRIPTION:Scramble Format
URL:https://www.rockylakesgolf.com/event/playmates/2029-01-02/
END:VEVENT
BEGIN:VEVENT
DTSTART;TZID=America/New_York:20290102T160000
DTEND;TZID=America/New_York:20290102T170000
DTSTAMP:20260425T151744
CREATED:20240515T031624Z
LAST-MODIFIED:20240515T031624Z
UID:10000775-1862064000-1862067600@www.rockylakesgolf.com
SUMMARY:Hipps
DESCRIPTION:Tee Times
URL:https://www.rockylakesgolf.com/event/hipps/2029-01-02/
END:VEVENT
BEGIN:VEVENT
DTSTART;TZID=America/New_York:20290101T140000
DTEND;TZID=America/New_York:20290101T160000
DTSTAMP:20260425T151744
CREATED:20240515T031308Z
LAST-MODIFIED:20240515T031806Z
UID:10000253-1861970400-1861977600@www.rockylakesgolf.com
SUMMARY:Brick Tap & Tavern
DESCRIPTION:Tee Times
URL:https://www.rockylakesgolf.com/event/brick-tap-tavern/2029-01-01/
END:VEVENT
BEGIN:VEVENT
DTSTART;TZID=America/New_York:20281231T090000
DTEND;TZID=America/New_York:20281231T120000
DTSTAMP:20260425T151744
CREATED:20240515T032857Z
LAST-MODIFIED:20240515T032857Z
UID:10002600-1861866000-1861876800@www.rockylakesgolf.com
SUMMARY:Best Ball
DESCRIPTION:Tee Times
URL:https://www.rockylakesgolf.com/event/best-ball/2028-12-31/
END:VEVENT
BEGIN:VEVENT
DTSTART;TZID=America/New_York:20281228T170000
DTEND;TZID=America/New_York:20281228T200000
DTSTAMP:20260425T151744
CREATED:20240515T032803Z
LAST-MODIFIED:20240515T032803Z
UID:10002339-1861635600-1861646400@www.rockylakesgolf.com
SUMMARY:Average Joe's
DESCRIPTION:Tee Times
URL:https://www.rockylakesgolf.com/event/average-joes/2028-12-28/
END:VEVENT
BEGIN:VEVENT
DTSTART;TZID=UTC:20281228T140000
DTEND;TZID=UTC:20281228T170000
DTSTAMP:20260425T151744
CREATED:20240515T032658Z
LAST-MODIFIED:20240515T032658Z
UID:10002078-1861624800-1861635600@www.rockylakesgolf.com
SUMMARY:Guard League
DESCRIPTION:Tee Times
URL:https://www.rockylakesgolf.com/event/guard-league/2028-12-28/
END:VEVENT
BEGIN:VEVENT
DTSTART;TZID=America/New_York:20281228T100000
DTEND;TZID=America/New_York:20281228T130000
DTSTAMP:20260425T151744
CREATED:20240515T032621Z
LAST-MODIFIED:20240515T032621Z
UID:10001817-1861610400-1861621200@www.rockylakesgolf.com
SUMMARY:Kuna League
DESCRIPTION:Tee Times
URL:https://www.rockylakesgolf.com/event/kuna-league/2028-12-28/
END:VEVENT
BEGIN:VEVENT
DTSTART;TZID=America/New_York:20281227T170000
DTEND;TZID=America/New_York:20281227T180000
DTSTAMP:20260425T151744
CREATED:20240515T032501Z
LAST-MODIFIED:20240515T032501Z
UID:10001556-1861549200-1861552800@www.rockylakesgolf.com
SUMMARY:Spark League
DESCRIPTION:Tee Times
URL:https://www.rockylakesgolf.com/event/spark-league/2028-12-27/
END:VEVENT
BEGIN:VEVENT
DTSTART;TZID=America/New_York:20281227T160000
DTEND;TZID=America/New_York:20281227T170000
DTSTAMP:20260425T151744
CREATED:20240515T032155Z
LAST-MODIFIED:20240515T032155Z
UID:10001295-1861545600-1861549200@www.rockylakesgolf.com
SUMMARY:Roger's League
DESCRIPTION:Scramble Format
URL:https://www.rockylakesgolf.com/event/rogers-league/2028-12-27/
END:VEVENT
BEGIN:VEVENT
DTSTART;TZID=America/New_York:20281226T170000
DTEND;TZID=America/New_York:20281226T180000
DTSTAMP:20260425T151744
CREATED:20240515T031506Z
LAST-MODIFIED:20240516T075910Z
UID:10002860-1861462800-1861466400@www.rockylakesgolf.com
SUMMARY:Playmates
DESCRIPTION:Scramble Format
URL:https://www.rockylakesgolf.com/event/playmates/2028-12-26/
END:VEVENT
BEGIN:VEVENT
DTSTART;TZID=America/New_York:20281226T160000
DTEND;TZID=America/New_York:20281226T170000
DTSTAMP:20260425T151744
CREATED:20240515T031624Z
LAST-MODIFIED:20240515T031624Z
UID:10000774-1861459200-1861462800@www.rockylakesgolf.com
SUMMARY:Hipps
DESCRIPTION:Tee Times
URL:https://www.rockylakesgolf.com/event/hipps/2028-12-26/
END:VEVENT
END:VCALENDAR