BEGIN:VCALENDAR
VERSION:2.0
PRODID:-//Rocky Lakes Golf Course - ECPv6.15.18//NONSGML v1.0//EN
CALSCALE:GREGORIAN
METHOD:PUBLISH
X-WR-CALNAME:Rocky Lakes Golf Course
X-ORIGINAL-URL:https://www.rockylakesgolf.com
X-WR-CALDESC:Events for Rocky Lakes Golf Course
REFRESH-INTERVAL;VALUE=DURATION:PT1H
X-Robots-Tag:noindex
X-PUBLISHED-TTL:PT1H
BEGIN:VTIMEZONE
TZID:America/New_York
BEGIN:DAYLIGHT
TZOFFSETFROM:-0500
TZOFFSETTO:-0400
TZNAME:EDT
DTSTART:20260308T070000
END:DAYLIGHT
BEGIN:STANDARD
TZOFFSETFROM:-0400
TZOFFSETTO:-0500
TZNAME:EST
DTSTART:20261101T060000
END:STANDARD
BEGIN:DAYLIGHT
TZOFFSETFROM:-0500
TZOFFSETTO:-0400
TZNAME:EDT
DTSTART:20270314T070000
END:DAYLIGHT
BEGIN:STANDARD
TZOFFSETFROM:-0400
TZOFFSETTO:-0500
TZNAME:EST
DTSTART:20271107T060000
END:STANDARD
BEGIN:DAYLIGHT
TZOFFSETFROM:-0500
TZOFFSETTO:-0400
TZNAME:EDT
DTSTART:20280312T070000
END:DAYLIGHT
BEGIN:STANDARD
TZOFFSETFROM:-0400
TZOFFSETTO:-0500
TZNAME:EST
DTSTART:20281105T060000
END:STANDARD
END:VTIMEZONE
BEGIN:VTIMEZONE
TZID:UTC
BEGIN:STANDARD
TZOFFSETFROM:+0000
TZOFFSETTO:+0000
TZNAME:UTC
DTSTART:20260101T000000
END:STANDARD
END:VTIMEZONE
BEGIN:VEVENT
DTSTART;TZID=America/New_York:20270309T160000
DTEND;TZID=America/New_York:20270309T170000
DTSTAMP:20260422T020224
CREATED:20240515T031624Z
LAST-MODIFIED:20240515T031624Z
UID:10000680-1804608000-1804611600@www.rockylakesgolf.com
SUMMARY:Hipps
DESCRIPTION:Tee Times
URL:https://www.rockylakesgolf.com/event/hipps/2027-03-09/
END:VEVENT
BEGIN:VEVENT
DTSTART;TZID=America/New_York:20270309T170000
DTEND;TZID=America/New_York:20270309T180000
DTSTAMP:20260422T020224
CREATED:20240515T031506Z
LAST-MODIFIED:20240516T075910Z
UID:10002766-1804611600-1804615200@www.rockylakesgolf.com
SUMMARY:Playmates
DESCRIPTION:Scramble Format
URL:https://www.rockylakesgolf.com/event/playmates/2027-03-09/
END:VEVENT
BEGIN:VEVENT
DTSTART;TZID=America/New_York:20270310T160000
DTEND;TZID=America/New_York:20270310T170000
DTSTAMP:20260422T020224
CREATED:20240515T032155Z
LAST-MODIFIED:20240515T032155Z
UID:10001201-1804694400-1804698000@www.rockylakesgolf.com
SUMMARY:Roger's League
DESCRIPTION:Scramble Format
URL:https://www.rockylakesgolf.com/event/rogers-league/2027-03-10/
END:VEVENT
BEGIN:VEVENT
DTSTART;TZID=America/New_York:20270310T170000
DTEND;TZID=America/New_York:20270310T180000
DTSTAMP:20260422T020224
CREATED:20240515T032501Z
LAST-MODIFIED:20240515T032501Z
UID:10001462-1804698000-1804701600@www.rockylakesgolf.com
SUMMARY:Spark League
DESCRIPTION:Tee Times
URL:https://www.rockylakesgolf.com/event/spark-league/2027-03-10/
END:VEVENT
BEGIN:VEVENT
DTSTART;TZID=America/New_York:20270311T100000
DTEND;TZID=America/New_York:20270311T130000
DTSTAMP:20260422T020224
CREATED:20240515T032621Z
LAST-MODIFIED:20240515T032621Z
UID:10001723-1804759200-1804770000@www.rockylakesgolf.com
SUMMARY:Kuna League
DESCRIPTION:Tee Times
URL:https://www.rockylakesgolf.com/event/kuna-league/2027-03-11/
END:VEVENT
BEGIN:VEVENT
DTSTART;TZID=UTC:20270311T140000
DTEND;TZID=UTC:20270311T170000
DTSTAMP:20260422T020224
CREATED:20240515T032658Z
LAST-MODIFIED:20240515T032658Z
UID:10001984-1804773600-1804784400@www.rockylakesgolf.com
SUMMARY:Guard League
DESCRIPTION:Tee Times
URL:https://www.rockylakesgolf.com/event/guard-league/2027-03-11/
END:VEVENT
BEGIN:VEVENT
DTSTART;TZID=America/New_York:20270311T170000
DTEND;TZID=America/New_York:20270311T200000
DTSTAMP:20260422T020224
CREATED:20240515T032803Z
LAST-MODIFIED:20240515T032803Z
UID:10002245-1804784400-1804795200@www.rockylakesgolf.com
SUMMARY:Average Joe's
DESCRIPTION:Tee Times
URL:https://www.rockylakesgolf.com/event/average-joes/2027-03-11/
END:VEVENT
BEGIN:VEVENT
DTSTART;TZID=America/New_York:20270314T090000
DTEND;TZID=America/New_York:20270314T120000
DTSTAMP:20260422T020224
CREATED:20240515T032857Z
LAST-MODIFIED:20240515T032857Z
UID:10002506-1805014800-1805025600@www.rockylakesgolf.com
SUMMARY:Best Ball
DESCRIPTION:Tee Times
URL:https://www.rockylakesgolf.com/event/best-ball/2027-03-14/
END:VEVENT
BEGIN:VEVENT
DTSTART;TZID=America/New_York:20270315T140000
DTEND;TZID=America/New_York:20270315T160000
DTSTAMP:20260422T020224
CREATED:20240515T031308Z
LAST-MODIFIED:20240515T031806Z
UID:10000159-1805119200-1805126400@www.rockylakesgolf.com
SUMMARY:Brick Tap & Tavern
DESCRIPTION:Tee Times
URL:https://www.rockylakesgolf.com/event/brick-tap-tavern/2027-03-15/
END:VEVENT
BEGIN:VEVENT
DTSTART;TZID=America/New_York:20270316T160000
DTEND;TZID=America/New_York:20270316T170000
DTSTAMP:20260422T020224
CREATED:20240515T031624Z
LAST-MODIFIED:20240515T031624Z
UID:10000681-1805212800-1805216400@www.rockylakesgolf.com
SUMMARY:Hipps
DESCRIPTION:Tee Times
URL:https://www.rockylakesgolf.com/event/hipps/2027-03-16/
END:VEVENT
BEGIN:VEVENT
DTSTART;TZID=America/New_York:20270316T170000
DTEND;TZID=America/New_York:20270316T180000
DTSTAMP:20260422T020224
CREATED:20240515T031506Z
LAST-MODIFIED:20240516T075910Z
UID:10002767-1805216400-1805220000@www.rockylakesgolf.com
SUMMARY:Playmates
DESCRIPTION:Scramble Format
URL:https://www.rockylakesgolf.com/event/playmates/2027-03-16/
END:VEVENT
BEGIN:VEVENT
DTSTART;TZID=America/New_York:20270317T160000
DTEND;TZID=America/New_York:20270317T170000
DTSTAMP:20260422T020224
CREATED:20240515T032155Z
LAST-MODIFIED:20240515T032155Z
UID:10001202-1805299200-1805302800@www.rockylakesgolf.com
SUMMARY:Roger's League
DESCRIPTION:Scramble Format
URL:https://www.rockylakesgolf.com/event/rogers-league/2027-03-17/
END:VEVENT
BEGIN:VEVENT
DTSTART;TZID=America/New_York:20270317T170000
DTEND;TZID=America/New_York:20270317T180000
DTSTAMP:20260422T020224
CREATED:20240515T032501Z
LAST-MODIFIED:20240515T032501Z
UID:10001463-1805302800-1805306400@www.rockylakesgolf.com
SUMMARY:Spark League
DESCRIPTION:Tee Times
URL:https://www.rockylakesgolf.com/event/spark-league/2027-03-17/
END:VEVENT
BEGIN:VEVENT
DTSTART;TZID=America/New_York:20270318T100000
DTEND;TZID=America/New_York:20270318T130000
DTSTAMP:20260422T020224
CREATED:20240515T032621Z
LAST-MODIFIED:20240515T032621Z
UID:10001724-1805364000-1805374800@www.rockylakesgolf.com
SUMMARY:Kuna League
DESCRIPTION:Tee Times
URL:https://www.rockylakesgolf.com/event/kuna-league/2027-03-18/
END:VEVENT
BEGIN:VEVENT
DTSTART;TZID=UTC:20270318T140000
DTEND;TZID=UTC:20270318T170000
DTSTAMP:20260422T020224
CREATED:20240515T032658Z
LAST-MODIFIED:20240515T032658Z
UID:10001985-1805378400-1805389200@www.rockylakesgolf.com
SUMMARY:Guard League
DESCRIPTION:Tee Times
URL:https://www.rockylakesgolf.com/event/guard-league/2027-03-18/
END:VEVENT
BEGIN:VEVENT
DTSTART;TZID=America/New_York:20270318T170000
DTEND;TZID=America/New_York:20270318T200000
DTSTAMP:20260422T020224
CREATED:20240515T032803Z
LAST-MODIFIED:20240515T032803Z
UID:10002246-1805389200-1805400000@www.rockylakesgolf.com
SUMMARY:Average Joe's
DESCRIPTION:Tee Times
URL:https://www.rockylakesgolf.com/event/average-joes/2027-03-18/
END:VEVENT
BEGIN:VEVENT
DTSTART;TZID=America/New_York:20270321T090000
DTEND;TZID=America/New_York:20270321T120000
DTSTAMP:20260422T020224
CREATED:20240515T032857Z
LAST-MODIFIED:20240515T032857Z
UID:10002507-1805619600-1805630400@www.rockylakesgolf.com
SUMMARY:Best Ball
DESCRIPTION:Tee Times
URL:https://www.rockylakesgolf.com/event/best-ball/2027-03-21/
END:VEVENT
BEGIN:VEVENT
DTSTART;TZID=America/New_York:20270322T140000
DTEND;TZID=America/New_York:20270322T160000
DTSTAMP:20260422T020224
CREATED:20240515T031308Z
LAST-MODIFIED:20240515T031806Z
UID:10000160-1805724000-1805731200@www.rockylakesgolf.com
SUMMARY:Brick Tap & Tavern
DESCRIPTION:Tee Times
URL:https://www.rockylakesgolf.com/event/brick-tap-tavern/2027-03-22/
END:VEVENT
BEGIN:VEVENT
DTSTART;TZID=America/New_York:20270323T160000
DTEND;TZID=America/New_York:20270323T170000
DTSTAMP:20260422T020224
CREATED:20240515T031624Z
LAST-MODIFIED:20240515T031624Z
UID:10000682-1805817600-1805821200@www.rockylakesgolf.com
SUMMARY:Hipps
DESCRIPTION:Tee Times
URL:https://www.rockylakesgolf.com/event/hipps/2027-03-23/
END:VEVENT
BEGIN:VEVENT
DTSTART;TZID=America/New_York:20270323T170000
DTEND;TZID=America/New_York:20270323T180000
DTSTAMP:20260422T020224
CREATED:20240515T031506Z
LAST-MODIFIED:20240516T075910Z
UID:10002768-1805821200-1805824800@www.rockylakesgolf.com
SUMMARY:Playmates
DESCRIPTION:Scramble Format
URL:https://www.rockylakesgolf.com/event/playmates/2027-03-23/
END:VEVENT
BEGIN:VEVENT
DTSTART;TZID=America/New_York:20270324T160000
DTEND;TZID=America/New_York:20270324T170000
DTSTAMP:20260422T020224
CREATED:20240515T032155Z
LAST-MODIFIED:20240515T032155Z
UID:10001203-1805904000-1805907600@www.rockylakesgolf.com
SUMMARY:Roger's League
DESCRIPTION:Scramble Format
URL:https://www.rockylakesgolf.com/event/rogers-league/2027-03-24/
END:VEVENT
BEGIN:VEVENT
DTSTART;TZID=America/New_York:20270324T170000
DTEND;TZID=America/New_York:20270324T180000
DTSTAMP:20260422T020224
CREATED:20240515T032501Z
LAST-MODIFIED:20240515T032501Z
UID:10001464-1805907600-1805911200@www.rockylakesgolf.com
SUMMARY:Spark League
DESCRIPTION:Tee Times
URL:https://www.rockylakesgolf.com/event/spark-league/2027-03-24/
END:VEVENT
BEGIN:VEVENT
DTSTART;TZID=America/New_York:20270325T100000
DTEND;TZID=America/New_York:20270325T130000
DTSTAMP:20260422T020224
CREATED:20240515T032621Z
LAST-MODIFIED:20240515T032621Z
UID:10001725-1805968800-1805979600@www.rockylakesgolf.com
SUMMARY:Kuna League
DESCRIPTION:Tee Times
URL:https://www.rockylakesgolf.com/event/kuna-league/2027-03-25/
END:VEVENT
BEGIN:VEVENT
DTSTART;TZID=UTC:20270325T140000
DTEND;TZID=UTC:20270325T170000
DTSTAMP:20260422T020224
CREATED:20240515T032658Z
LAST-MODIFIED:20240515T032658Z
UID:10001986-1805983200-1805994000@www.rockylakesgolf.com
SUMMARY:Guard League
DESCRIPTION:Tee Times
URL:https://www.rockylakesgolf.com/event/guard-league/2027-03-25/
END:VEVENT
BEGIN:VEVENT
DTSTART;TZID=America/New_York:20270325T170000
DTEND;TZID=America/New_York:20270325T200000
DTSTAMP:20260422T020224
CREATED:20240515T032803Z
LAST-MODIFIED:20240515T032803Z
UID:10002247-1805994000-1806004800@www.rockylakesgolf.com
SUMMARY:Average Joe's
DESCRIPTION:Tee Times
URL:https://www.rockylakesgolf.com/event/average-joes/2027-03-25/
END:VEVENT
BEGIN:VEVENT
DTSTART;TZID=America/New_York:20270328T090000
DTEND;TZID=America/New_York:20270328T120000
DTSTAMP:20260422T020224
CREATED:20240515T032857Z
LAST-MODIFIED:20240515T032857Z
UID:10002508-1806224400-1806235200@www.rockylakesgolf.com
SUMMARY:Best Ball
DESCRIPTION:Tee Times
URL:https://www.rockylakesgolf.com/event/best-ball/2027-03-28/
END:VEVENT
BEGIN:VEVENT
DTSTART;TZID=America/New_York:20270329T140000
DTEND;TZID=America/New_York:20270329T160000
DTSTAMP:20260422T020224
CREATED:20240515T031308Z
LAST-MODIFIED:20240515T031806Z
UID:10000161-1806328800-1806336000@www.rockylakesgolf.com
SUMMARY:Brick Tap & Tavern
DESCRIPTION:Tee Times
URL:https://www.rockylakesgolf.com/event/brick-tap-tavern/2027-03-29/
END:VEVENT
BEGIN:VEVENT
DTSTART;TZID=America/New_York:20270330T160000
DTEND;TZID=America/New_York:20270330T170000
DTSTAMP:20260422T020224
CREATED:20240515T031624Z
LAST-MODIFIED:20240515T031624Z
UID:10000683-1806422400-1806426000@www.rockylakesgolf.com
SUMMARY:Hipps
DESCRIPTION:Tee Times
URL:https://www.rockylakesgolf.com/event/hipps/2027-03-30/
END:VEVENT
BEGIN:VEVENT
DTSTART;TZID=America/New_York:20270330T170000
DTEND;TZID=America/New_York:20270330T180000
DTSTAMP:20260422T020224
CREATED:20240515T031506Z
LAST-MODIFIED:20240516T075910Z
UID:10002769-1806426000-1806429600@www.rockylakesgolf.com
SUMMARY:Playmates
DESCRIPTION:Scramble Format
URL:https://www.rockylakesgolf.com/event/playmates/2027-03-30/
END:VEVENT
BEGIN:VEVENT
DTSTART;TZID=America/New_York:20270331T160000
DTEND;TZID=America/New_York:20270331T170000
DTSTAMP:20260422T020224
CREATED:20240515T032155Z
LAST-MODIFIED:20240515T032155Z
UID:10001204-1806508800-1806512400@www.rockylakesgolf.com
SUMMARY:Roger's League
DESCRIPTION:Scramble Format
URL:https://www.rockylakesgolf.com/event/rogers-league/2027-03-31/
END:VEVENT
END:VCALENDAR