BEGIN:VCALENDAR
VERSION:2.0
PRODID:-//Rocky Lakes Golf Course - ECPv6.15.18//NONSGML v1.0//EN
CALSCALE:GREGORIAN
METHOD:PUBLISH
X-WR-CALNAME:Rocky Lakes Golf Course
X-ORIGINAL-URL:https://www.rockylakesgolf.com
X-WR-CALDESC:Events for Rocky Lakes Golf Course
REFRESH-INTERVAL;VALUE=DURATION:PT1H
X-Robots-Tag:noindex
X-PUBLISHED-TTL:PT1H
BEGIN:VTIMEZONE
TZID:America/New_York
BEGIN:DAYLIGHT
TZOFFSETFROM:-0500
TZOFFSETTO:-0400
TZNAME:EDT
DTSTART:20270314T070000
END:DAYLIGHT
BEGIN:STANDARD
TZOFFSETFROM:-0400
TZOFFSETTO:-0500
TZNAME:EST
DTSTART:20271107T060000
END:STANDARD
BEGIN:DAYLIGHT
TZOFFSETFROM:-0500
TZOFFSETTO:-0400
TZNAME:EDT
DTSTART:20280312T070000
END:DAYLIGHT
BEGIN:STANDARD
TZOFFSETFROM:-0400
TZOFFSETTO:-0500
TZNAME:EST
DTSTART:20281105T060000
END:STANDARD
BEGIN:DAYLIGHT
TZOFFSETFROM:-0500
TZOFFSETTO:-0400
TZNAME:EDT
DTSTART:20290311T070000
END:DAYLIGHT
BEGIN:STANDARD
TZOFFSETFROM:-0400
TZOFFSETTO:-0500
TZNAME:EST
DTSTART:20291104T060000
END:STANDARD
END:VTIMEZONE
BEGIN:VTIMEZONE
TZID:UTC
BEGIN:STANDARD
TZOFFSETFROM:+0000
TZOFFSETTO:+0000
TZNAME:UTC
DTSTART:20270101T000000
END:STANDARD
END:VTIMEZONE
BEGIN:VEVENT
DTSTART;TZID=America/New_York:20280424T140000
DTEND;TZID=America/New_York:20280424T160000
DTSTAMP:20260423T080547
CREATED:20240515T031308Z
LAST-MODIFIED:20240515T031806Z
UID:10000217-1840197600-1840204800@www.rockylakesgolf.com
SUMMARY:Brick Tap & Tavern
DESCRIPTION:Tee Times
URL:https://www.rockylakesgolf.com/event/brick-tap-tavern/2028-04-24/
END:VEVENT
BEGIN:VEVENT
DTSTART;TZID=America/New_York:20280425T160000
DTEND;TZID=America/New_York:20280425T170000
DTSTAMP:20260423T080547
CREATED:20240515T031624Z
LAST-MODIFIED:20240515T031624Z
UID:10000739-1840291200-1840294800@www.rockylakesgolf.com
SUMMARY:Hipps
DESCRIPTION:Tee Times
URL:https://www.rockylakesgolf.com/event/hipps/2028-04-25/
END:VEVENT
BEGIN:VEVENT
DTSTART;TZID=America/New_York:20280425T170000
DTEND;TZID=America/New_York:20280425T180000
DTSTAMP:20260423T080547
CREATED:20240515T031506Z
LAST-MODIFIED:20240516T075910Z
UID:10002825-1840294800-1840298400@www.rockylakesgolf.com
SUMMARY:Playmates
DESCRIPTION:Scramble Format
URL:https://www.rockylakesgolf.com/event/playmates/2028-04-25/
END:VEVENT
BEGIN:VEVENT
DTSTART;TZID=America/New_York:20280426T160000
DTEND;TZID=America/New_York:20280426T170000
DTSTAMP:20260423T080547
CREATED:20240515T032155Z
LAST-MODIFIED:20240515T032155Z
UID:10001260-1840377600-1840381200@www.rockylakesgolf.com
SUMMARY:Roger's League
DESCRIPTION:Scramble Format
URL:https://www.rockylakesgolf.com/event/rogers-league/2028-04-26/
END:VEVENT
BEGIN:VEVENT
DTSTART;TZID=America/New_York:20280426T170000
DTEND;TZID=America/New_York:20280426T180000
DTSTAMP:20260423T080547
CREATED:20240515T032501Z
LAST-MODIFIED:20240515T032501Z
UID:10001521-1840381200-1840384800@www.rockylakesgolf.com
SUMMARY:Spark League
DESCRIPTION:Tee Times
URL:https://www.rockylakesgolf.com/event/spark-league/2028-04-26/
END:VEVENT
BEGIN:VEVENT
DTSTART;TZID=America/New_York:20280427T100000
DTEND;TZID=America/New_York:20280427T130000
DTSTAMP:20260423T080547
CREATED:20240515T032621Z
LAST-MODIFIED:20240515T032621Z
UID:10001782-1840442400-1840453200@www.rockylakesgolf.com
SUMMARY:Kuna League
DESCRIPTION:Tee Times
URL:https://www.rockylakesgolf.com/event/kuna-league/2028-04-27/
END:VEVENT
BEGIN:VEVENT
DTSTART;TZID=UTC:20280427T140000
DTEND;TZID=UTC:20280427T170000
DTSTAMP:20260423T080547
CREATED:20240515T032658Z
LAST-MODIFIED:20240515T032658Z
UID:10002043-1840456800-1840467600@www.rockylakesgolf.com
SUMMARY:Guard League
DESCRIPTION:Tee Times
URL:https://www.rockylakesgolf.com/event/guard-league/2028-04-27/
END:VEVENT
BEGIN:VEVENT
DTSTART;TZID=America/New_York:20280427T170000
DTEND;TZID=America/New_York:20280427T200000
DTSTAMP:20260423T080547
CREATED:20240515T032803Z
LAST-MODIFIED:20240515T032803Z
UID:10002304-1840467600-1840478400@www.rockylakesgolf.com
SUMMARY:Average Joe's
DESCRIPTION:Tee Times
URL:https://www.rockylakesgolf.com/event/average-joes/2028-04-27/
END:VEVENT
BEGIN:VEVENT
DTSTART;TZID=America/New_York:20280430T090000
DTEND;TZID=America/New_York:20280430T120000
DTSTAMP:20260423T080547
CREATED:20240515T032857Z
LAST-MODIFIED:20240515T032857Z
UID:10002565-1840698000-1840708800@www.rockylakesgolf.com
SUMMARY:Best Ball
DESCRIPTION:Tee Times
URL:https://www.rockylakesgolf.com/event/best-ball/2028-04-30/
END:VEVENT
BEGIN:VEVENT
DTSTART;TZID=America/New_York:20280501T140000
DTEND;TZID=America/New_York:20280501T160000
DTSTAMP:20260423T080547
CREATED:20240515T031308Z
LAST-MODIFIED:20240515T031806Z
UID:10000218-1840802400-1840809600@www.rockylakesgolf.com
SUMMARY:Brick Tap & Tavern
DESCRIPTION:Tee Times
URL:https://www.rockylakesgolf.com/event/brick-tap-tavern/2028-05-01/
END:VEVENT
BEGIN:VEVENT
DTSTART;TZID=America/New_York:20280502T160000
DTEND;TZID=America/New_York:20280502T170000
DTSTAMP:20260423T080547
CREATED:20240515T031624Z
LAST-MODIFIED:20240515T031624Z
UID:10000740-1840896000-1840899600@www.rockylakesgolf.com
SUMMARY:Hipps
DESCRIPTION:Tee Times
URL:https://www.rockylakesgolf.com/event/hipps/2028-05-02/
END:VEVENT
BEGIN:VEVENT
DTSTART;TZID=America/New_York:20280502T170000
DTEND;TZID=America/New_York:20280502T180000
DTSTAMP:20260423T080547
CREATED:20240515T031506Z
LAST-MODIFIED:20240516T075910Z
UID:10002826-1840899600-1840903200@www.rockylakesgolf.com
SUMMARY:Playmates
DESCRIPTION:Scramble Format
URL:https://www.rockylakesgolf.com/event/playmates/2028-05-02/
END:VEVENT
BEGIN:VEVENT
DTSTART;TZID=America/New_York:20280503T160000
DTEND;TZID=America/New_York:20280503T170000
DTSTAMP:20260423T080547
CREATED:20240515T032155Z
LAST-MODIFIED:20240515T032155Z
UID:10001261-1840982400-1840986000@www.rockylakesgolf.com
SUMMARY:Roger's League
DESCRIPTION:Scramble Format
URL:https://www.rockylakesgolf.com/event/rogers-league/2028-05-03/
END:VEVENT
BEGIN:VEVENT
DTSTART;TZID=America/New_York:20280503T170000
DTEND;TZID=America/New_York:20280503T180000
DTSTAMP:20260423T080547
CREATED:20240515T032501Z
LAST-MODIFIED:20240515T032501Z
UID:10001522-1840986000-1840989600@www.rockylakesgolf.com
SUMMARY:Spark League
DESCRIPTION:Tee Times
URL:https://www.rockylakesgolf.com/event/spark-league/2028-05-03/
END:VEVENT
BEGIN:VEVENT
DTSTART;TZID=America/New_York:20280504T100000
DTEND;TZID=America/New_York:20280504T130000
DTSTAMP:20260423T080547
CREATED:20240515T032621Z
LAST-MODIFIED:20240515T032621Z
UID:10001783-1841047200-1841058000@www.rockylakesgolf.com
SUMMARY:Kuna League
DESCRIPTION:Tee Times
URL:https://www.rockylakesgolf.com/event/kuna-league/2028-05-04/
END:VEVENT
BEGIN:VEVENT
DTSTART;TZID=UTC:20280504T140000
DTEND;TZID=UTC:20280504T170000
DTSTAMP:20260423T080547
CREATED:20240515T032658Z
LAST-MODIFIED:20240515T032658Z
UID:10002044-1841061600-1841072400@www.rockylakesgolf.com
SUMMARY:Guard League
DESCRIPTION:Tee Times
URL:https://www.rockylakesgolf.com/event/guard-league/2028-05-04/
END:VEVENT
BEGIN:VEVENT
DTSTART;TZID=America/New_York:20280504T170000
DTEND;TZID=America/New_York:20280504T200000
DTSTAMP:20260423T080547
CREATED:20240515T032803Z
LAST-MODIFIED:20240515T032803Z
UID:10002305-1841072400-1841083200@www.rockylakesgolf.com
SUMMARY:Average Joe's
DESCRIPTION:Tee Times
URL:https://www.rockylakesgolf.com/event/average-joes/2028-05-04/
END:VEVENT
BEGIN:VEVENT
DTSTART;TZID=America/New_York:20280507T090000
DTEND;TZID=America/New_York:20280507T120000
DTSTAMP:20260423T080547
CREATED:20240515T032857Z
LAST-MODIFIED:20240515T032857Z
UID:10002566-1841302800-1841313600@www.rockylakesgolf.com
SUMMARY:Best Ball
DESCRIPTION:Tee Times
URL:https://www.rockylakesgolf.com/event/best-ball/2028-05-07/
END:VEVENT
BEGIN:VEVENT
DTSTART;TZID=America/New_York:20280508T140000
DTEND;TZID=America/New_York:20280508T160000
DTSTAMP:20260423T080547
CREATED:20240515T031308Z
LAST-MODIFIED:20240515T031806Z
UID:10000219-1841407200-1841414400@www.rockylakesgolf.com
SUMMARY:Brick Tap & Tavern
DESCRIPTION:Tee Times
URL:https://www.rockylakesgolf.com/event/brick-tap-tavern/2028-05-08/
END:VEVENT
BEGIN:VEVENT
DTSTART;TZID=America/New_York:20280509T160000
DTEND;TZID=America/New_York:20280509T170000
DTSTAMP:20260423T080547
CREATED:20240515T031624Z
LAST-MODIFIED:20240515T031624Z
UID:10000741-1841500800-1841504400@www.rockylakesgolf.com
SUMMARY:Hipps
DESCRIPTION:Tee Times
URL:https://www.rockylakesgolf.com/event/hipps/2028-05-09/
END:VEVENT
BEGIN:VEVENT
DTSTART;TZID=America/New_York:20280509T170000
DTEND;TZID=America/New_York:20280509T180000
DTSTAMP:20260423T080547
CREATED:20240515T031506Z
LAST-MODIFIED:20240516T075910Z
UID:10002827-1841504400-1841508000@www.rockylakesgolf.com
SUMMARY:Playmates
DESCRIPTION:Scramble Format
URL:https://www.rockylakesgolf.com/event/playmates/2028-05-09/
END:VEVENT
BEGIN:VEVENT
DTSTART;TZID=America/New_York:20280510T160000
DTEND;TZID=America/New_York:20280510T170000
DTSTAMP:20260423T080547
CREATED:20240515T032155Z
LAST-MODIFIED:20240515T032155Z
UID:10001262-1841587200-1841590800@www.rockylakesgolf.com
SUMMARY:Roger's League
DESCRIPTION:Scramble Format
URL:https://www.rockylakesgolf.com/event/rogers-league/2028-05-10/
END:VEVENT
BEGIN:VEVENT
DTSTART;TZID=America/New_York:20280510T170000
DTEND;TZID=America/New_York:20280510T180000
DTSTAMP:20260423T080547
CREATED:20240515T032501Z
LAST-MODIFIED:20240515T032501Z
UID:10001523-1841590800-1841594400@www.rockylakesgolf.com
SUMMARY:Spark League
DESCRIPTION:Tee Times
URL:https://www.rockylakesgolf.com/event/spark-league/2028-05-10/
END:VEVENT
BEGIN:VEVENT
DTSTART;TZID=America/New_York:20280511T100000
DTEND;TZID=America/New_York:20280511T130000
DTSTAMP:20260423T080547
CREATED:20240515T032621Z
LAST-MODIFIED:20240515T032621Z
UID:10001784-1841652000-1841662800@www.rockylakesgolf.com
SUMMARY:Kuna League
DESCRIPTION:Tee Times
URL:https://www.rockylakesgolf.com/event/kuna-league/2028-05-11/
END:VEVENT
BEGIN:VEVENT
DTSTART;TZID=UTC:20280511T140000
DTEND;TZID=UTC:20280511T170000
DTSTAMP:20260423T080547
CREATED:20240515T032658Z
LAST-MODIFIED:20240515T032658Z
UID:10002045-1841666400-1841677200@www.rockylakesgolf.com
SUMMARY:Guard League
DESCRIPTION:Tee Times
URL:https://www.rockylakesgolf.com/event/guard-league/2028-05-11/
END:VEVENT
BEGIN:VEVENT
DTSTART;TZID=America/New_York:20280511T170000
DTEND;TZID=America/New_York:20280511T200000
DTSTAMP:20260423T080547
CREATED:20240515T032803Z
LAST-MODIFIED:20240515T032803Z
UID:10002306-1841677200-1841688000@www.rockylakesgolf.com
SUMMARY:Average Joe's
DESCRIPTION:Tee Times
URL:https://www.rockylakesgolf.com/event/average-joes/2028-05-11/
END:VEVENT
BEGIN:VEVENT
DTSTART;TZID=America/New_York:20280514T090000
DTEND;TZID=America/New_York:20280514T120000
DTSTAMP:20260423T080547
CREATED:20240515T032857Z
LAST-MODIFIED:20240515T032857Z
UID:10002567-1841907600-1841918400@www.rockylakesgolf.com
SUMMARY:Best Ball
DESCRIPTION:Tee Times
URL:https://www.rockylakesgolf.com/event/best-ball/2028-05-14/
END:VEVENT
BEGIN:VEVENT
DTSTART;TZID=America/New_York:20280515T140000
DTEND;TZID=America/New_York:20280515T160000
DTSTAMP:20260423T080547
CREATED:20240515T031308Z
LAST-MODIFIED:20240515T031806Z
UID:10000220-1842012000-1842019200@www.rockylakesgolf.com
SUMMARY:Brick Tap & Tavern
DESCRIPTION:Tee Times
URL:https://www.rockylakesgolf.com/event/brick-tap-tavern/2028-05-15/
END:VEVENT
BEGIN:VEVENT
DTSTART;TZID=America/New_York:20280516T160000
DTEND;TZID=America/New_York:20280516T170000
DTSTAMP:20260423T080547
CREATED:20240515T031624Z
LAST-MODIFIED:20240515T031624Z
UID:10000742-1842105600-1842109200@www.rockylakesgolf.com
SUMMARY:Hipps
DESCRIPTION:Tee Times
URL:https://www.rockylakesgolf.com/event/hipps/2028-05-16/
END:VEVENT
BEGIN:VEVENT
DTSTART;TZID=America/New_York:20280516T170000
DTEND;TZID=America/New_York:20280516T180000
DTSTAMP:20260423T080547
CREATED:20240515T031506Z
LAST-MODIFIED:20240516T075910Z
UID:10002828-1842109200-1842112800@www.rockylakesgolf.com
SUMMARY:Playmates
DESCRIPTION:Scramble Format
URL:https://www.rockylakesgolf.com/event/playmates/2028-05-16/
END:VEVENT
END:VCALENDAR