BEGIN:VCALENDAR
VERSION:2.0
PRODID:-//Rocky Lakes Golf Course - ECPv6.15.18//NONSGML v1.0//EN
CALSCALE:GREGORIAN
METHOD:PUBLISH
X-WR-CALNAME:Rocky Lakes Golf Course
X-ORIGINAL-URL:https://www.rockylakesgolf.com
X-WR-CALDESC:Events for Rocky Lakes Golf Course
REFRESH-INTERVAL;VALUE=DURATION:PT1H
X-Robots-Tag:noindex
X-PUBLISHED-TTL:PT1H
BEGIN:VTIMEZONE
TZID:America/New_York
BEGIN:DAYLIGHT
TZOFFSETFROM:-0500
TZOFFSETTO:-0400
TZNAME:EDT
DTSTART:20270314T070000
END:DAYLIGHT
BEGIN:STANDARD
TZOFFSETFROM:-0400
TZOFFSETTO:-0500
TZNAME:EST
DTSTART:20271107T060000
END:STANDARD
BEGIN:DAYLIGHT
TZOFFSETFROM:-0500
TZOFFSETTO:-0400
TZNAME:EDT
DTSTART:20280312T070000
END:DAYLIGHT
BEGIN:STANDARD
TZOFFSETFROM:-0400
TZOFFSETTO:-0500
TZNAME:EST
DTSTART:20281105T060000
END:STANDARD
BEGIN:DAYLIGHT
TZOFFSETFROM:-0500
TZOFFSETTO:-0400
TZNAME:EDT
DTSTART:20290311T070000
END:DAYLIGHT
BEGIN:STANDARD
TZOFFSETFROM:-0400
TZOFFSETTO:-0500
TZNAME:EST
DTSTART:20291104T060000
END:STANDARD
END:VTIMEZONE
BEGIN:VTIMEZONE
TZID:UTC
BEGIN:STANDARD
TZOFFSETFROM:+0000
TZOFFSETTO:+0000
TZNAME:UTC
DTSTART:20270101T000000
END:STANDARD
END:VTIMEZONE
BEGIN:VEVENT
DTSTART;TZID=America/New_York:20280918T140000
DTEND;TZID=America/New_York:20280918T160000
DTSTAMP:20260423T144441
CREATED:20240515T031308Z
LAST-MODIFIED:20240515T031806Z
UID:10000238-1852898400-1852905600@www.rockylakesgolf.com
SUMMARY:Brick Tap & Tavern
DESCRIPTION:Tee Times
URL:https://www.rockylakesgolf.com/event/brick-tap-tavern/2028-09-18/
END:VEVENT
BEGIN:VEVENT
DTSTART;TZID=America/New_York:20280919T160000
DTEND;TZID=America/New_York:20280919T170000
DTSTAMP:20260423T144441
CREATED:20240515T031624Z
LAST-MODIFIED:20240515T031624Z
UID:10000760-1852992000-1852995600@www.rockylakesgolf.com
SUMMARY:Hipps
DESCRIPTION:Tee Times
URL:https://www.rockylakesgolf.com/event/hipps/2028-09-19/
END:VEVENT
BEGIN:VEVENT
DTSTART;TZID=America/New_York:20280919T170000
DTEND;TZID=America/New_York:20280919T180000
DTSTAMP:20260423T144441
CREATED:20240515T031506Z
LAST-MODIFIED:20240516T075910Z
UID:10002846-1852995600-1852999200@www.rockylakesgolf.com
SUMMARY:Playmates
DESCRIPTION:Scramble Format
URL:https://www.rockylakesgolf.com/event/playmates/2028-09-19/
END:VEVENT
BEGIN:VEVENT
DTSTART;TZID=America/New_York:20280920T160000
DTEND;TZID=America/New_York:20280920T170000
DTSTAMP:20260423T144441
CREATED:20240515T032155Z
LAST-MODIFIED:20240515T032155Z
UID:10001281-1853078400-1853082000@www.rockylakesgolf.com
SUMMARY:Roger's League
DESCRIPTION:Scramble Format
URL:https://www.rockylakesgolf.com/event/rogers-league/2028-09-20/
END:VEVENT
BEGIN:VEVENT
DTSTART;TZID=America/New_York:20280920T170000
DTEND;TZID=America/New_York:20280920T180000
DTSTAMP:20260423T144441
CREATED:20240515T032501Z
LAST-MODIFIED:20240515T032501Z
UID:10001542-1853082000-1853085600@www.rockylakesgolf.com
SUMMARY:Spark League
DESCRIPTION:Tee Times
URL:https://www.rockylakesgolf.com/event/spark-league/2028-09-20/
END:VEVENT
BEGIN:VEVENT
DTSTART;TZID=America/New_York:20280921T100000
DTEND;TZID=America/New_York:20280921T130000
DTSTAMP:20260423T144441
CREATED:20240515T032621Z
LAST-MODIFIED:20240515T032621Z
UID:10001803-1853143200-1853154000@www.rockylakesgolf.com
SUMMARY:Kuna League
DESCRIPTION:Tee Times
URL:https://www.rockylakesgolf.com/event/kuna-league/2028-09-21/
END:VEVENT
BEGIN:VEVENT
DTSTART;TZID=UTC:20280921T140000
DTEND;TZID=UTC:20280921T170000
DTSTAMP:20260423T144441
CREATED:20240515T032658Z
LAST-MODIFIED:20240515T032658Z
UID:10002064-1853157600-1853168400@www.rockylakesgolf.com
SUMMARY:Guard League
DESCRIPTION:Tee Times
URL:https://www.rockylakesgolf.com/event/guard-league/2028-09-21/
END:VEVENT
BEGIN:VEVENT
DTSTART;TZID=America/New_York:20280921T170000
DTEND;TZID=America/New_York:20280921T200000
DTSTAMP:20260423T144441
CREATED:20240515T032803Z
LAST-MODIFIED:20240515T032803Z
UID:10002325-1853168400-1853179200@www.rockylakesgolf.com
SUMMARY:Average Joe's
DESCRIPTION:Tee Times
URL:https://www.rockylakesgolf.com/event/average-joes/2028-09-21/
END:VEVENT
BEGIN:VEVENT
DTSTART;TZID=America/New_York:20280924T090000
DTEND;TZID=America/New_York:20280924T120000
DTSTAMP:20260423T144441
CREATED:20240515T032857Z
LAST-MODIFIED:20240515T032857Z
UID:10002586-1853398800-1853409600@www.rockylakesgolf.com
SUMMARY:Best Ball
DESCRIPTION:Tee Times
URL:https://www.rockylakesgolf.com/event/best-ball/2028-09-24/
END:VEVENT
BEGIN:VEVENT
DTSTART;TZID=America/New_York:20280925T140000
DTEND;TZID=America/New_York:20280925T160000
DTSTAMP:20260423T144441
CREATED:20240515T031308Z
LAST-MODIFIED:20240515T031806Z
UID:10000239-1853503200-1853510400@www.rockylakesgolf.com
SUMMARY:Brick Tap & Tavern
DESCRIPTION:Tee Times
URL:https://www.rockylakesgolf.com/event/brick-tap-tavern/2028-09-25/
END:VEVENT
BEGIN:VEVENT
DTSTART;TZID=America/New_York:20280926T160000
DTEND;TZID=America/New_York:20280926T170000
DTSTAMP:20260423T144441
CREATED:20240515T031624Z
LAST-MODIFIED:20240515T031624Z
UID:10000761-1853596800-1853600400@www.rockylakesgolf.com
SUMMARY:Hipps
DESCRIPTION:Tee Times
URL:https://www.rockylakesgolf.com/event/hipps/2028-09-26/
END:VEVENT
BEGIN:VEVENT
DTSTART;TZID=America/New_York:20280926T170000
DTEND;TZID=America/New_York:20280926T180000
DTSTAMP:20260423T144441
CREATED:20240515T031506Z
LAST-MODIFIED:20240516T075910Z
UID:10002847-1853600400-1853604000@www.rockylakesgolf.com
SUMMARY:Playmates
DESCRIPTION:Scramble Format
URL:https://www.rockylakesgolf.com/event/playmates/2028-09-26/
END:VEVENT
BEGIN:VEVENT
DTSTART;TZID=America/New_York:20280927T160000
DTEND;TZID=America/New_York:20280927T170000
DTSTAMP:20260423T144441
CREATED:20240515T032155Z
LAST-MODIFIED:20240515T032155Z
UID:10001282-1853683200-1853686800@www.rockylakesgolf.com
SUMMARY:Roger's League
DESCRIPTION:Scramble Format
URL:https://www.rockylakesgolf.com/event/rogers-league/2028-09-27/
END:VEVENT
BEGIN:VEVENT
DTSTART;TZID=America/New_York:20280927T170000
DTEND;TZID=America/New_York:20280927T180000
DTSTAMP:20260423T144441
CREATED:20240515T032501Z
LAST-MODIFIED:20240515T032501Z
UID:10001543-1853686800-1853690400@www.rockylakesgolf.com
SUMMARY:Spark League
DESCRIPTION:Tee Times
URL:https://www.rockylakesgolf.com/event/spark-league/2028-09-27/
END:VEVENT
BEGIN:VEVENT
DTSTART;TZID=America/New_York:20280928T100000
DTEND;TZID=America/New_York:20280928T130000
DTSTAMP:20260423T144441
CREATED:20240515T032621Z
LAST-MODIFIED:20240515T032621Z
UID:10001804-1853748000-1853758800@www.rockylakesgolf.com
SUMMARY:Kuna League
DESCRIPTION:Tee Times
URL:https://www.rockylakesgolf.com/event/kuna-league/2028-09-28/
END:VEVENT
BEGIN:VEVENT
DTSTART;TZID=UTC:20280928T140000
DTEND;TZID=UTC:20280928T170000
DTSTAMP:20260423T144441
CREATED:20240515T032658Z
LAST-MODIFIED:20240515T032658Z
UID:10002065-1853762400-1853773200@www.rockylakesgolf.com
SUMMARY:Guard League
DESCRIPTION:Tee Times
URL:https://www.rockylakesgolf.com/event/guard-league/2028-09-28/
END:VEVENT
BEGIN:VEVENT
DTSTART;TZID=America/New_York:20280928T170000
DTEND;TZID=America/New_York:20280928T200000
DTSTAMP:20260423T144441
CREATED:20240515T032803Z
LAST-MODIFIED:20240515T032803Z
UID:10002326-1853773200-1853784000@www.rockylakesgolf.com
SUMMARY:Average Joe's
DESCRIPTION:Tee Times
URL:https://www.rockylakesgolf.com/event/average-joes/2028-09-28/
END:VEVENT
BEGIN:VEVENT
DTSTART;TZID=America/New_York:20281001T090000
DTEND;TZID=America/New_York:20281001T120000
DTSTAMP:20260423T144441
CREATED:20240515T032857Z
LAST-MODIFIED:20240515T032857Z
UID:10002587-1854003600-1854014400@www.rockylakesgolf.com
SUMMARY:Best Ball
DESCRIPTION:Tee Times
URL:https://www.rockylakesgolf.com/event/best-ball/2028-10-01/
END:VEVENT
BEGIN:VEVENT
DTSTART;TZID=America/New_York:20281002T140000
DTEND;TZID=America/New_York:20281002T160000
DTSTAMP:20260423T144441
CREATED:20240515T031308Z
LAST-MODIFIED:20240515T031806Z
UID:10000240-1854108000-1854115200@www.rockylakesgolf.com
SUMMARY:Brick Tap & Tavern
DESCRIPTION:Tee Times
URL:https://www.rockylakesgolf.com/event/brick-tap-tavern/2028-10-02/
END:VEVENT
BEGIN:VEVENT
DTSTART;TZID=America/New_York:20281003T160000
DTEND;TZID=America/New_York:20281003T170000
DTSTAMP:20260423T144441
CREATED:20240515T031624Z
LAST-MODIFIED:20240515T031624Z
UID:10000762-1854201600-1854205200@www.rockylakesgolf.com
SUMMARY:Hipps
DESCRIPTION:Tee Times
URL:https://www.rockylakesgolf.com/event/hipps/2028-10-03/
END:VEVENT
BEGIN:VEVENT
DTSTART;TZID=America/New_York:20281003T170000
DTEND;TZID=America/New_York:20281003T180000
DTSTAMP:20260423T144441
CREATED:20240515T031506Z
LAST-MODIFIED:20240516T075910Z
UID:10002848-1854205200-1854208800@www.rockylakesgolf.com
SUMMARY:Playmates
DESCRIPTION:Scramble Format
URL:https://www.rockylakesgolf.com/event/playmates/2028-10-03/
END:VEVENT
BEGIN:VEVENT
DTSTART;TZID=America/New_York:20281004T160000
DTEND;TZID=America/New_York:20281004T170000
DTSTAMP:20260423T144441
CREATED:20240515T032155Z
LAST-MODIFIED:20240515T032155Z
UID:10001283-1854288000-1854291600@www.rockylakesgolf.com
SUMMARY:Roger's League
DESCRIPTION:Scramble Format
URL:https://www.rockylakesgolf.com/event/rogers-league/2028-10-04/
END:VEVENT
BEGIN:VEVENT
DTSTART;TZID=America/New_York:20281004T170000
DTEND;TZID=America/New_York:20281004T180000
DTSTAMP:20260423T144441
CREATED:20240515T032501Z
LAST-MODIFIED:20240515T032501Z
UID:10001544-1854291600-1854295200@www.rockylakesgolf.com
SUMMARY:Spark League
DESCRIPTION:Tee Times
URL:https://www.rockylakesgolf.com/event/spark-league/2028-10-04/
END:VEVENT
BEGIN:VEVENT
DTSTART;TZID=America/New_York:20281005T100000
DTEND;TZID=America/New_York:20281005T130000
DTSTAMP:20260423T144441
CREATED:20240515T032621Z
LAST-MODIFIED:20240515T032621Z
UID:10001805-1854352800-1854363600@www.rockylakesgolf.com
SUMMARY:Kuna League
DESCRIPTION:Tee Times
URL:https://www.rockylakesgolf.com/event/kuna-league/2028-10-05/
END:VEVENT
BEGIN:VEVENT
DTSTART;TZID=UTC:20281005T140000
DTEND;TZID=UTC:20281005T170000
DTSTAMP:20260423T144441
CREATED:20240515T032658Z
LAST-MODIFIED:20240515T032658Z
UID:10002066-1854367200-1854378000@www.rockylakesgolf.com
SUMMARY:Guard League
DESCRIPTION:Tee Times
URL:https://www.rockylakesgolf.com/event/guard-league/2028-10-05/
END:VEVENT
BEGIN:VEVENT
DTSTART;TZID=America/New_York:20281005T170000
DTEND;TZID=America/New_York:20281005T200000
DTSTAMP:20260423T144441
CREATED:20240515T032803Z
LAST-MODIFIED:20240515T032803Z
UID:10002327-1854378000-1854388800@www.rockylakesgolf.com
SUMMARY:Average Joe's
DESCRIPTION:Tee Times
URL:https://www.rockylakesgolf.com/event/average-joes/2028-10-05/
END:VEVENT
BEGIN:VEVENT
DTSTART;TZID=America/New_York:20281008T090000
DTEND;TZID=America/New_York:20281008T120000
DTSTAMP:20260423T144441
CREATED:20240515T032857Z
LAST-MODIFIED:20240515T032857Z
UID:10002588-1854608400-1854619200@www.rockylakesgolf.com
SUMMARY:Best Ball
DESCRIPTION:Tee Times
URL:https://www.rockylakesgolf.com/event/best-ball/2028-10-08/
END:VEVENT
BEGIN:VEVENT
DTSTART;TZID=America/New_York:20281009T140000
DTEND;TZID=America/New_York:20281009T160000
DTSTAMP:20260423T144441
CREATED:20240515T031308Z
LAST-MODIFIED:20240515T031806Z
UID:10000241-1854712800-1854720000@www.rockylakesgolf.com
SUMMARY:Brick Tap & Tavern
DESCRIPTION:Tee Times
URL:https://www.rockylakesgolf.com/event/brick-tap-tavern/2028-10-09/
END:VEVENT
BEGIN:VEVENT
DTSTART;TZID=America/New_York:20281010T160000
DTEND;TZID=America/New_York:20281010T170000
DTSTAMP:20260423T144441
CREATED:20240515T031624Z
LAST-MODIFIED:20240515T031624Z
UID:10000763-1854806400-1854810000@www.rockylakesgolf.com
SUMMARY:Hipps
DESCRIPTION:Tee Times
URL:https://www.rockylakesgolf.com/event/hipps/2028-10-10/
END:VEVENT
BEGIN:VEVENT
DTSTART;TZID=America/New_York:20281010T170000
DTEND;TZID=America/New_York:20281010T180000
DTSTAMP:20260423T144441
CREATED:20240515T031506Z
LAST-MODIFIED:20240516T075910Z
UID:10002849-1854810000-1854813600@www.rockylakesgolf.com
SUMMARY:Playmates
DESCRIPTION:Scramble Format
URL:https://www.rockylakesgolf.com/event/playmates/2028-10-10/
END:VEVENT
END:VCALENDAR