BEGIN:VCALENDAR
VERSION:2.0
PRODID:-//Rocky Lakes Golf Course - ECPv6.15.18//NONSGML v1.0//EN
CALSCALE:GREGORIAN
METHOD:PUBLISH
X-WR-CALNAME:Rocky Lakes Golf Course
X-ORIGINAL-URL:https://www.rockylakesgolf.com
X-WR-CALDESC:Events for Rocky Lakes Golf Course
REFRESH-INTERVAL;VALUE=DURATION:PT1H
X-Robots-Tag:noindex
X-PUBLISHED-TTL:PT1H
BEGIN:VTIMEZONE
TZID:America/New_York
BEGIN:DAYLIGHT
TZOFFSETFROM:-0500
TZOFFSETTO:-0400
TZNAME:EDT
DTSTART:20250309T070000
END:DAYLIGHT
BEGIN:STANDARD
TZOFFSETFROM:-0400
TZOFFSETTO:-0500
TZNAME:EST
DTSTART:20251102T060000
END:STANDARD
BEGIN:DAYLIGHT
TZOFFSETFROM:-0500
TZOFFSETTO:-0400
TZNAME:EDT
DTSTART:20260308T070000
END:DAYLIGHT
BEGIN:STANDARD
TZOFFSETFROM:-0400
TZOFFSETTO:-0500
TZNAME:EST
DTSTART:20261101T060000
END:STANDARD
BEGIN:DAYLIGHT
TZOFFSETFROM:-0500
TZOFFSETTO:-0400
TZNAME:EDT
DTSTART:20270314T070000
END:DAYLIGHT
BEGIN:STANDARD
TZOFFSETFROM:-0400
TZOFFSETTO:-0500
TZNAME:EST
DTSTART:20271107T060000
END:STANDARD
END:VTIMEZONE
BEGIN:VTIMEZONE
TZID:UTC
BEGIN:STANDARD
TZOFFSETFROM:+0000
TZOFFSETTO:+0000
TZNAME:UTC
DTSTART:20250101T000000
END:STANDARD
END:VTIMEZONE
BEGIN:VEVENT
DTSTART;TZID=America/New_York:20261022T100000
DTEND;TZID=America/New_York:20261022T130000
DTSTAMP:20260421T205358
CREATED:20240515T032621Z
LAST-MODIFIED:20240515T032621Z
UID:10001703-1792663200-1792674000@www.rockylakesgolf.com
SUMMARY:Kuna League
DESCRIPTION:Tee Times
URL:https://www.rockylakesgolf.com/event/kuna-league/2026-10-22/
END:VEVENT
BEGIN:VEVENT
DTSTART;TZID=UTC:20261022T140000
DTEND;TZID=UTC:20261022T170000
DTSTAMP:20260421T205358
CREATED:20240515T032658Z
LAST-MODIFIED:20240515T032658Z
UID:10001964-1792677600-1792688400@www.rockylakesgolf.com
SUMMARY:Guard League
DESCRIPTION:Tee Times
URL:https://www.rockylakesgolf.com/event/guard-league/2026-10-22/
END:VEVENT
BEGIN:VEVENT
DTSTART;TZID=America/New_York:20261022T170000
DTEND;TZID=America/New_York:20261022T200000
DTSTAMP:20260421T205358
CREATED:20240515T032803Z
LAST-MODIFIED:20240515T032803Z
UID:10002225-1792688400-1792699200@www.rockylakesgolf.com
SUMMARY:Average Joe's
DESCRIPTION:Tee Times
URL:https://www.rockylakesgolf.com/event/average-joes/2026-10-22/
END:VEVENT
BEGIN:VEVENT
DTSTART;TZID=America/New_York:20261025T090000
DTEND;TZID=America/New_York:20261025T120000
DTSTAMP:20260421T205358
CREATED:20240515T032857Z
LAST-MODIFIED:20240515T032857Z
UID:10002486-1792918800-1792929600@www.rockylakesgolf.com
SUMMARY:Best Ball
DESCRIPTION:Tee Times
URL:https://www.rockylakesgolf.com/event/best-ball/2026-10-25/
END:VEVENT
BEGIN:VEVENT
DTSTART;TZID=America/New_York:20261026T140000
DTEND;TZID=America/New_York:20261026T160000
DTSTAMP:20260421T205358
CREATED:20240515T031308Z
LAST-MODIFIED:20240515T031806Z
UID:10000139-1793023200-1793030400@www.rockylakesgolf.com
SUMMARY:Brick Tap & Tavern
DESCRIPTION:Tee Times
URL:https://www.rockylakesgolf.com/event/brick-tap-tavern/2026-10-26/
END:VEVENT
BEGIN:VEVENT
DTSTART;TZID=America/New_York:20261027T160000
DTEND;TZID=America/New_York:20261027T170000
DTSTAMP:20260421T205358
CREATED:20240515T031624Z
LAST-MODIFIED:20240515T031624Z
UID:10000661-1793116800-1793120400@www.rockylakesgolf.com
SUMMARY:Hipps
DESCRIPTION:Tee Times
URL:https://www.rockylakesgolf.com/event/hipps/2026-10-27/
END:VEVENT
BEGIN:VEVENT
DTSTART;TZID=America/New_York:20261027T170000
DTEND;TZID=America/New_York:20261027T180000
DTSTAMP:20260421T205358
CREATED:20240515T031506Z
LAST-MODIFIED:20240516T075910Z
UID:10002747-1793120400-1793124000@www.rockylakesgolf.com
SUMMARY:Playmates
DESCRIPTION:Scramble Format
URL:https://www.rockylakesgolf.com/event/playmates/2026-10-27/
END:VEVENT
BEGIN:VEVENT
DTSTART;TZID=America/New_York:20261028T160000
DTEND;TZID=America/New_York:20261028T170000
DTSTAMP:20260421T205358
CREATED:20240515T032155Z
LAST-MODIFIED:20240515T032155Z
UID:10001182-1793203200-1793206800@www.rockylakesgolf.com
SUMMARY:Roger's League
DESCRIPTION:Scramble Format
URL:https://www.rockylakesgolf.com/event/rogers-league/2026-10-28/
END:VEVENT
BEGIN:VEVENT
DTSTART;TZID=America/New_York:20261028T170000
DTEND;TZID=America/New_York:20261028T180000
DTSTAMP:20260421T205358
CREATED:20240515T032501Z
LAST-MODIFIED:20240515T032501Z
UID:10001443-1793206800-1793210400@www.rockylakesgolf.com
SUMMARY:Spark League
DESCRIPTION:Tee Times
URL:https://www.rockylakesgolf.com/event/spark-league/2026-10-28/
END:VEVENT
BEGIN:VEVENT
DTSTART;TZID=America/New_York:20261029T100000
DTEND;TZID=America/New_York:20261029T130000
DTSTAMP:20260421T205358
CREATED:20240515T032621Z
LAST-MODIFIED:20240515T032621Z
UID:10001704-1793268000-1793278800@www.rockylakesgolf.com
SUMMARY:Kuna League
DESCRIPTION:Tee Times
URL:https://www.rockylakesgolf.com/event/kuna-league/2026-10-29/
END:VEVENT
BEGIN:VEVENT
DTSTART;TZID=UTC:20261029T140000
DTEND;TZID=UTC:20261029T170000
DTSTAMP:20260421T205358
CREATED:20240515T032658Z
LAST-MODIFIED:20240515T032658Z
UID:10001965-1793282400-1793293200@www.rockylakesgolf.com
SUMMARY:Guard League
DESCRIPTION:Tee Times
URL:https://www.rockylakesgolf.com/event/guard-league/2026-10-29/
END:VEVENT
BEGIN:VEVENT
DTSTART;TZID=America/New_York:20261029T170000
DTEND;TZID=America/New_York:20261029T200000
DTSTAMP:20260421T205358
CREATED:20240515T032803Z
LAST-MODIFIED:20240515T032803Z
UID:10002226-1793293200-1793304000@www.rockylakesgolf.com
SUMMARY:Average Joe's
DESCRIPTION:Tee Times
URL:https://www.rockylakesgolf.com/event/average-joes/2026-10-29/
END:VEVENT
BEGIN:VEVENT
DTSTART;TZID=America/New_York:20261101T090000
DTEND;TZID=America/New_York:20261101T120000
DTSTAMP:20260421T205358
CREATED:20240515T032857Z
LAST-MODIFIED:20240515T032857Z
UID:10002487-1793523600-1793534400@www.rockylakesgolf.com
SUMMARY:Best Ball
DESCRIPTION:Tee Times
URL:https://www.rockylakesgolf.com/event/best-ball/2026-11-01/
END:VEVENT
BEGIN:VEVENT
DTSTART;TZID=America/New_York:20261102T140000
DTEND;TZID=America/New_York:20261102T160000
DTSTAMP:20260421T205358
CREATED:20240515T031308Z
LAST-MODIFIED:20240515T031806Z
UID:10000140-1793628000-1793635200@www.rockylakesgolf.com
SUMMARY:Brick Tap & Tavern
DESCRIPTION:Tee Times
URL:https://www.rockylakesgolf.com/event/brick-tap-tavern/2026-11-02/
END:VEVENT
BEGIN:VEVENT
DTSTART;TZID=America/New_York:20261103T160000
DTEND;TZID=America/New_York:20261103T170000
DTSTAMP:20260421T205358
CREATED:20240515T031624Z
LAST-MODIFIED:20240515T031624Z
UID:10000662-1793721600-1793725200@www.rockylakesgolf.com
SUMMARY:Hipps
DESCRIPTION:Tee Times
URL:https://www.rockylakesgolf.com/event/hipps/2026-11-03/
END:VEVENT
BEGIN:VEVENT
DTSTART;TZID=America/New_York:20261103T170000
DTEND;TZID=America/New_York:20261103T180000
DTSTAMP:20260421T205358
CREATED:20240515T031506Z
LAST-MODIFIED:20240516T075910Z
UID:10002748-1793725200-1793728800@www.rockylakesgolf.com
SUMMARY:Playmates
DESCRIPTION:Scramble Format
URL:https://www.rockylakesgolf.com/event/playmates/2026-11-03/
END:VEVENT
BEGIN:VEVENT
DTSTART;TZID=America/New_York:20261104T160000
DTEND;TZID=America/New_York:20261104T170000
DTSTAMP:20260421T205358
CREATED:20240515T032155Z
LAST-MODIFIED:20240515T032155Z
UID:10001183-1793808000-1793811600@www.rockylakesgolf.com
SUMMARY:Roger's League
DESCRIPTION:Scramble Format
URL:https://www.rockylakesgolf.com/event/rogers-league/2026-11-04/
END:VEVENT
BEGIN:VEVENT
DTSTART;TZID=America/New_York:20261104T170000
DTEND;TZID=America/New_York:20261104T180000
DTSTAMP:20260421T205358
CREATED:20240515T032501Z
LAST-MODIFIED:20240515T032501Z
UID:10001444-1793811600-1793815200@www.rockylakesgolf.com
SUMMARY:Spark League
DESCRIPTION:Tee Times
URL:https://www.rockylakesgolf.com/event/spark-league/2026-11-04/
END:VEVENT
BEGIN:VEVENT
DTSTART;TZID=America/New_York:20261105T100000
DTEND;TZID=America/New_York:20261105T130000
DTSTAMP:20260421T205358
CREATED:20240515T032621Z
LAST-MODIFIED:20240515T032621Z
UID:10001705-1793872800-1793883600@www.rockylakesgolf.com
SUMMARY:Kuna League
DESCRIPTION:Tee Times
URL:https://www.rockylakesgolf.com/event/kuna-league/2026-11-05/
END:VEVENT
BEGIN:VEVENT
DTSTART;TZID=UTC:20261105T140000
DTEND;TZID=UTC:20261105T170000
DTSTAMP:20260421T205358
CREATED:20240515T032658Z
LAST-MODIFIED:20240515T032658Z
UID:10001966-1793887200-1793898000@www.rockylakesgolf.com
SUMMARY:Guard League
DESCRIPTION:Tee Times
URL:https://www.rockylakesgolf.com/event/guard-league/2026-11-05/
END:VEVENT
BEGIN:VEVENT
DTSTART;TZID=America/New_York:20261105T170000
DTEND;TZID=America/New_York:20261105T200000
DTSTAMP:20260421T205358
CREATED:20240515T032803Z
LAST-MODIFIED:20240515T032803Z
UID:10002227-1793898000-1793908800@www.rockylakesgolf.com
SUMMARY:Average Joe's
DESCRIPTION:Tee Times
URL:https://www.rockylakesgolf.com/event/average-joes/2026-11-05/
END:VEVENT
BEGIN:VEVENT
DTSTART;TZID=America/New_York:20261108T090000
DTEND;TZID=America/New_York:20261108T120000
DTSTAMP:20260421T205358
CREATED:20240515T032857Z
LAST-MODIFIED:20240515T032857Z
UID:10002488-1794128400-1794139200@www.rockylakesgolf.com
SUMMARY:Best Ball
DESCRIPTION:Tee Times
URL:https://www.rockylakesgolf.com/event/best-ball/2026-11-08/
END:VEVENT
BEGIN:VEVENT
DTSTART;TZID=America/New_York:20261109T140000
DTEND;TZID=America/New_York:20261109T160000
DTSTAMP:20260421T205358
CREATED:20240515T031308Z
LAST-MODIFIED:20240515T031806Z
UID:10000141-1794232800-1794240000@www.rockylakesgolf.com
SUMMARY:Brick Tap & Tavern
DESCRIPTION:Tee Times
URL:https://www.rockylakesgolf.com/event/brick-tap-tavern/2026-11-09/
END:VEVENT
BEGIN:VEVENT
DTSTART;TZID=America/New_York:20261110T160000
DTEND;TZID=America/New_York:20261110T170000
DTSTAMP:20260421T205358
CREATED:20240515T031624Z
LAST-MODIFIED:20240515T031624Z
UID:10000663-1794326400-1794330000@www.rockylakesgolf.com
SUMMARY:Hipps
DESCRIPTION:Tee Times
URL:https://www.rockylakesgolf.com/event/hipps/2026-11-10/
END:VEVENT
BEGIN:VEVENT
DTSTART;TZID=America/New_York:20261110T170000
DTEND;TZID=America/New_York:20261110T180000
DTSTAMP:20260421T205358
CREATED:20240515T031506Z
LAST-MODIFIED:20240516T075910Z
UID:10002749-1794330000-1794333600@www.rockylakesgolf.com
SUMMARY:Playmates
DESCRIPTION:Scramble Format
URL:https://www.rockylakesgolf.com/event/playmates/2026-11-10/
END:VEVENT
BEGIN:VEVENT
DTSTART;TZID=America/New_York:20261111T160000
DTEND;TZID=America/New_York:20261111T170000
DTSTAMP:20260421T205358
CREATED:20240515T032155Z
LAST-MODIFIED:20240515T032155Z
UID:10001184-1794412800-1794416400@www.rockylakesgolf.com
SUMMARY:Roger's League
DESCRIPTION:Scramble Format
URL:https://www.rockylakesgolf.com/event/rogers-league/2026-11-11/
END:VEVENT
BEGIN:VEVENT
DTSTART;TZID=America/New_York:20261111T170000
DTEND;TZID=America/New_York:20261111T180000
DTSTAMP:20260421T205358
CREATED:20240515T032501Z
LAST-MODIFIED:20240515T032501Z
UID:10001445-1794416400-1794420000@www.rockylakesgolf.com
SUMMARY:Spark League
DESCRIPTION:Tee Times
URL:https://www.rockylakesgolf.com/event/spark-league/2026-11-11/
END:VEVENT
BEGIN:VEVENT
DTSTART;TZID=America/New_York:20261112T100000
DTEND;TZID=America/New_York:20261112T130000
DTSTAMP:20260421T205358
CREATED:20240515T032621Z
LAST-MODIFIED:20240515T032621Z
UID:10001706-1794477600-1794488400@www.rockylakesgolf.com
SUMMARY:Kuna League
DESCRIPTION:Tee Times
URL:https://www.rockylakesgolf.com/event/kuna-league/2026-11-12/
END:VEVENT
BEGIN:VEVENT
DTSTART;TZID=UTC:20261112T140000
DTEND;TZID=UTC:20261112T170000
DTSTAMP:20260421T205358
CREATED:20240515T032658Z
LAST-MODIFIED:20240515T032658Z
UID:10001967-1794492000-1794502800@www.rockylakesgolf.com
SUMMARY:Guard League
DESCRIPTION:Tee Times
URL:https://www.rockylakesgolf.com/event/guard-league/2026-11-12/
END:VEVENT
BEGIN:VEVENT
DTSTART;TZID=America/New_York:20261112T170000
DTEND;TZID=America/New_York:20261112T200000
DTSTAMP:20260421T205358
CREATED:20240515T032803Z
LAST-MODIFIED:20240515T032803Z
UID:10002228-1794502800-1794513600@www.rockylakesgolf.com
SUMMARY:Average Joe's
DESCRIPTION:Tee Times
URL:https://www.rockylakesgolf.com/event/average-joes/2026-11-12/
END:VEVENT
END:VCALENDAR