BEGIN:VCALENDAR
VERSION:2.0
PRODID:-//Rocky Lakes Golf Course - ECPv6.15.18//NONSGML v1.0//EN
CALSCALE:GREGORIAN
METHOD:PUBLISH
X-ORIGINAL-URL:https://www.rockylakesgolf.com
X-WR-CALDESC:Events for Rocky Lakes Golf Course
REFRESH-INTERVAL;VALUE=DURATION:PT1H
X-Robots-Tag:noindex
X-PUBLISHED-TTL:PT1H
BEGIN:VTIMEZONE
TZID:America/New_York
BEGIN:DAYLIGHT
TZOFFSETFROM:-0500
TZOFFSETTO:-0400
TZNAME:EDT
DTSTART:20250309T070000
END:DAYLIGHT
BEGIN:STANDARD
TZOFFSETFROM:-0400
TZOFFSETTO:-0500
TZNAME:EST
DTSTART:20251102T060000
END:STANDARD
BEGIN:DAYLIGHT
TZOFFSETFROM:-0500
TZOFFSETTO:-0400
TZNAME:EDT
DTSTART:20260308T070000
END:DAYLIGHT
BEGIN:STANDARD
TZOFFSETFROM:-0400
TZOFFSETTO:-0500
TZNAME:EST
DTSTART:20261101T060000
END:STANDARD
BEGIN:DAYLIGHT
TZOFFSETFROM:-0500
TZOFFSETTO:-0400
TZNAME:EDT
DTSTART:20270314T070000
END:DAYLIGHT
BEGIN:STANDARD
TZOFFSETFROM:-0400
TZOFFSETTO:-0500
TZNAME:EST
DTSTART:20271107T060000
END:STANDARD
BEGIN:DAYLIGHT
TZOFFSETFROM:-0500
TZOFFSETTO:-0400
TZNAME:EDT
DTSTART:20280312T070000
END:DAYLIGHT
BEGIN:STANDARD
TZOFFSETFROM:-0400
TZOFFSETTO:-0500
TZNAME:EST
DTSTART:20281105T060000
END:STANDARD
END:VTIMEZONE
BEGIN:VTIMEZONE
TZID:UTC
BEGIN:STANDARD
TZOFFSETFROM:+0000
TZOFFSETTO:+0000
TZNAME:UTC
DTSTART:20250101T000000
END:STANDARD
END:VTIMEZONE
BEGIN:VEVENT
DTSTART;TZID=America/New_York:20261222T170000
DTEND;TZID=America/New_York:20261222T180000
DTSTAMP:20260422T002528
CREATED:20240515T031506Z
LAST-MODIFIED:20240516T075910Z
UID:10002755-1797958800-1797962400@www.rockylakesgolf.com
SUMMARY:Playmates
DESCRIPTION:Scramble Format
URL:https://www.rockylakesgolf.com/event/playmates/2026-12-22/
END:VEVENT
BEGIN:VEVENT
DTSTART;TZID=America/New_York:20261223T160000
DTEND;TZID=America/New_York:20261223T170000
DTSTAMP:20260422T002528
CREATED:20240515T032155Z
LAST-MODIFIED:20240515T032155Z
UID:10001190-1798041600-1798045200@www.rockylakesgolf.com
SUMMARY:Roger's League
DESCRIPTION:Scramble Format
URL:https://www.rockylakesgolf.com/event/rogers-league/2026-12-23/
END:VEVENT
BEGIN:VEVENT
DTSTART;TZID=America/New_York:20261223T170000
DTEND;TZID=America/New_York:20261223T180000
DTSTAMP:20260422T002528
CREATED:20240515T032501Z
LAST-MODIFIED:20240515T032501Z
UID:10001451-1798045200-1798048800@www.rockylakesgolf.com
SUMMARY:Spark League
DESCRIPTION:Tee Times
URL:https://www.rockylakesgolf.com/event/spark-league/2026-12-23/
END:VEVENT
BEGIN:VEVENT
DTSTART;TZID=America/New_York:20261224T100000
DTEND;TZID=America/New_York:20261224T130000
DTSTAMP:20260422T002528
CREATED:20240515T032621Z
LAST-MODIFIED:20240515T032621Z
UID:10001712-1798106400-1798117200@www.rockylakesgolf.com
SUMMARY:Kuna League
DESCRIPTION:Tee Times
URL:https://www.rockylakesgolf.com/event/kuna-league/2026-12-24/
END:VEVENT
BEGIN:VEVENT
DTSTART;TZID=UTC:20261224T140000
DTEND;TZID=UTC:20261224T170000
DTSTAMP:20260422T002528
CREATED:20240515T032658Z
LAST-MODIFIED:20240515T032658Z
UID:10001973-1798120800-1798131600@www.rockylakesgolf.com
SUMMARY:Guard League
DESCRIPTION:Tee Times
URL:https://www.rockylakesgolf.com/event/guard-league/2026-12-24/
END:VEVENT
BEGIN:VEVENT
DTSTART;TZID=America/New_York:20261224T170000
DTEND;TZID=America/New_York:20261224T200000
DTSTAMP:20260422T002528
CREATED:20240515T032803Z
LAST-MODIFIED:20240515T032803Z
UID:10002234-1798131600-1798142400@www.rockylakesgolf.com
SUMMARY:Average Joe's
DESCRIPTION:Tee Times
URL:https://www.rockylakesgolf.com/event/average-joes/2026-12-24/
END:VEVENT
BEGIN:VEVENT
DTSTART;TZID=America/New_York:20261227T090000
DTEND;TZID=America/New_York:20261227T120000
DTSTAMP:20260422T002528
CREATED:20240515T032857Z
LAST-MODIFIED:20240515T032857Z
UID:10002495-1798362000-1798372800@www.rockylakesgolf.com
SUMMARY:Best Ball
DESCRIPTION:Tee Times
URL:https://www.rockylakesgolf.com/event/best-ball/2026-12-27/
END:VEVENT
BEGIN:VEVENT
DTSTART;TZID=America/New_York:20261228T140000
DTEND;TZID=America/New_York:20261228T160000
DTSTAMP:20260422T002528
CREATED:20240515T031308Z
LAST-MODIFIED:20240515T031806Z
UID:10000148-1798466400-1798473600@www.rockylakesgolf.com
SUMMARY:Brick Tap & Tavern
DESCRIPTION:Tee Times
URL:https://www.rockylakesgolf.com/event/brick-tap-tavern/2026-12-28/
END:VEVENT
BEGIN:VEVENT
DTSTART;TZID=America/New_York:20261229T160000
DTEND;TZID=America/New_York:20261229T170000
DTSTAMP:20260422T002528
CREATED:20240515T031624Z
LAST-MODIFIED:20240515T031624Z
UID:10000670-1798560000-1798563600@www.rockylakesgolf.com
SUMMARY:Hipps
DESCRIPTION:Tee Times
URL:https://www.rockylakesgolf.com/event/hipps/2026-12-29/
END:VEVENT
BEGIN:VEVENT
DTSTART;TZID=America/New_York:20261229T170000
DTEND;TZID=America/New_York:20261229T180000
DTSTAMP:20260422T002528
CREATED:20240515T031506Z
LAST-MODIFIED:20240516T075910Z
UID:10002756-1798563600-1798567200@www.rockylakesgolf.com
SUMMARY:Playmates
DESCRIPTION:Scramble Format
URL:https://www.rockylakesgolf.com/event/playmates/2026-12-29/
END:VEVENT
BEGIN:VEVENT
DTSTART;TZID=America/New_York:20261230T160000
DTEND;TZID=America/New_York:20261230T170000
DTSTAMP:20260422T002528
CREATED:20240515T032155Z
LAST-MODIFIED:20240515T032155Z
UID:10001191-1798646400-1798650000@www.rockylakesgolf.com
SUMMARY:Roger's League
DESCRIPTION:Scramble Format
URL:https://www.rockylakesgolf.com/event/rogers-league/2026-12-30/
END:VEVENT
BEGIN:VEVENT
DTSTART;TZID=America/New_York:20261230T170000
DTEND;TZID=America/New_York:20261230T180000
DTSTAMP:20260422T002528
CREATED:20240515T032501Z
LAST-MODIFIED:20240515T032501Z
UID:10001452-1798650000-1798653600@www.rockylakesgolf.com
SUMMARY:Spark League
DESCRIPTION:Tee Times
URL:https://www.rockylakesgolf.com/event/spark-league/2026-12-30/
END:VEVENT
BEGIN:VEVENT
DTSTART;TZID=America/New_York:20261231T100000
DTEND;TZID=America/New_York:20261231T130000
DTSTAMP:20260422T002528
CREATED:20240515T032621Z
LAST-MODIFIED:20240515T032621Z
UID:10001713-1798711200-1798722000@www.rockylakesgolf.com
SUMMARY:Kuna League
DESCRIPTION:Tee Times
URL:https://www.rockylakesgolf.com/event/kuna-league/2026-12-31/
END:VEVENT
BEGIN:VEVENT
DTSTART;TZID=UTC:20261231T140000
DTEND;TZID=UTC:20261231T170000
DTSTAMP:20260422T002528
CREATED:20240515T032658Z
LAST-MODIFIED:20240515T032658Z
UID:10001974-1798725600-1798736400@www.rockylakesgolf.com
SUMMARY:Guard League
DESCRIPTION:Tee Times
URL:https://www.rockylakesgolf.com/event/guard-league/2026-12-31/
END:VEVENT
BEGIN:VEVENT
DTSTART;TZID=America/New_York:20261231T170000
DTEND;TZID=America/New_York:20261231T200000
DTSTAMP:20260422T002528
CREATED:20240515T032803Z
LAST-MODIFIED:20240515T032803Z
UID:10002235-1798736400-1798747200@www.rockylakesgolf.com
SUMMARY:Average Joe's
DESCRIPTION:Tee Times
URL:https://www.rockylakesgolf.com/event/average-joes/2026-12-31/
END:VEVENT
BEGIN:VEVENT
DTSTART;TZID=America/New_York:20270103T090000
DTEND;TZID=America/New_York:20270103T120000
DTSTAMP:20260422T002528
CREATED:20240515T032857Z
LAST-MODIFIED:20240515T032857Z
UID:10002496-1798966800-1798977600@www.rockylakesgolf.com
SUMMARY:Best Ball
DESCRIPTION:Tee Times
URL:https://www.rockylakesgolf.com/event/best-ball/2027-01-03/
END:VEVENT
BEGIN:VEVENT
DTSTART;TZID=America/New_York:20270104T140000
DTEND;TZID=America/New_York:20270104T160000
DTSTAMP:20260422T002528
CREATED:20240515T031308Z
LAST-MODIFIED:20240515T031806Z
UID:10000149-1799071200-1799078400@www.rockylakesgolf.com
SUMMARY:Brick Tap & Tavern
DESCRIPTION:Tee Times
URL:https://www.rockylakesgolf.com/event/brick-tap-tavern/2027-01-04/
END:VEVENT
BEGIN:VEVENT
DTSTART;TZID=America/New_York:20270105T160000
DTEND;TZID=America/New_York:20270105T170000
DTSTAMP:20260422T002528
CREATED:20240515T031624Z
LAST-MODIFIED:20240515T031624Z
UID:10000671-1799164800-1799168400@www.rockylakesgolf.com
SUMMARY:Hipps
DESCRIPTION:Tee Times
URL:https://www.rockylakesgolf.com/event/hipps/2027-01-05/
END:VEVENT
BEGIN:VEVENT
DTSTART;TZID=America/New_York:20270105T170000
DTEND;TZID=America/New_York:20270105T180000
DTSTAMP:20260422T002528
CREATED:20240515T031506Z
LAST-MODIFIED:20240516T075910Z
UID:10002757-1799168400-1799172000@www.rockylakesgolf.com
SUMMARY:Playmates
DESCRIPTION:Scramble Format
URL:https://www.rockylakesgolf.com/event/playmates/2027-01-05/
END:VEVENT
BEGIN:VEVENT
DTSTART;TZID=America/New_York:20270106T160000
DTEND;TZID=America/New_York:20270106T170000
DTSTAMP:20260422T002528
CREATED:20240515T032155Z
LAST-MODIFIED:20240515T032155Z
UID:10001192-1799251200-1799254800@www.rockylakesgolf.com
SUMMARY:Roger's League
DESCRIPTION:Scramble Format
URL:https://www.rockylakesgolf.com/event/rogers-league/2027-01-06/
END:VEVENT
BEGIN:VEVENT
DTSTART;TZID=America/New_York:20270106T170000
DTEND;TZID=America/New_York:20270106T180000
DTSTAMP:20260422T002528
CREATED:20240515T032501Z
LAST-MODIFIED:20240515T032501Z
UID:10001453-1799254800-1799258400@www.rockylakesgolf.com
SUMMARY:Spark League
DESCRIPTION:Tee Times
URL:https://www.rockylakesgolf.com/event/spark-league/2027-01-06/
END:VEVENT
BEGIN:VEVENT
DTSTART;TZID=America/New_York:20270107T100000
DTEND;TZID=America/New_York:20270107T130000
DTSTAMP:20260422T002528
CREATED:20240515T032621Z
LAST-MODIFIED:20240515T032621Z
UID:10001714-1799316000-1799326800@www.rockylakesgolf.com
SUMMARY:Kuna League
DESCRIPTION:Tee Times
URL:https://www.rockylakesgolf.com/event/kuna-league/2027-01-07/
END:VEVENT
BEGIN:VEVENT
DTSTART;TZID=UTC:20270107T140000
DTEND;TZID=UTC:20270107T170000
DTSTAMP:20260422T002528
CREATED:20240515T032658Z
LAST-MODIFIED:20240515T032658Z
UID:10001975-1799330400-1799341200@www.rockylakesgolf.com
SUMMARY:Guard League
DESCRIPTION:Tee Times
URL:https://www.rockylakesgolf.com/event/guard-league/2027-01-07/
END:VEVENT
BEGIN:VEVENT
DTSTART;TZID=America/New_York:20270107T170000
DTEND;TZID=America/New_York:20270107T200000
DTSTAMP:20260422T002528
CREATED:20240515T032803Z
LAST-MODIFIED:20240515T032803Z
UID:10002236-1799341200-1799352000@www.rockylakesgolf.com
SUMMARY:Average Joe's
DESCRIPTION:Tee Times
URL:https://www.rockylakesgolf.com/event/average-joes/2027-01-07/
END:VEVENT
BEGIN:VEVENT
DTSTART;TZID=America/New_York:20270110T090000
DTEND;TZID=America/New_York:20270110T120000
DTSTAMP:20260422T002528
CREATED:20240515T032857Z
LAST-MODIFIED:20240515T032857Z
UID:10002497-1799571600-1799582400@www.rockylakesgolf.com
SUMMARY:Best Ball
DESCRIPTION:Tee Times
URL:https://www.rockylakesgolf.com/event/best-ball/2027-01-10/
END:VEVENT
BEGIN:VEVENT
DTSTART;TZID=America/New_York:20270111T140000
DTEND;TZID=America/New_York:20270111T160000
DTSTAMP:20260422T002528
CREATED:20240515T031308Z
LAST-MODIFIED:20240515T031806Z
UID:10000150-1799676000-1799683200@www.rockylakesgolf.com
SUMMARY:Brick Tap & Tavern
DESCRIPTION:Tee Times
URL:https://www.rockylakesgolf.com/event/brick-tap-tavern/2027-01-11/
END:VEVENT
BEGIN:VEVENT
DTSTART;TZID=America/New_York:20270112T160000
DTEND;TZID=America/New_York:20270112T170000
DTSTAMP:20260422T002528
CREATED:20240515T031624Z
LAST-MODIFIED:20240515T031624Z
UID:10000672-1799769600-1799773200@www.rockylakesgolf.com
SUMMARY:Hipps
DESCRIPTION:Tee Times
URL:https://www.rockylakesgolf.com/event/hipps/2027-01-12/
END:VEVENT
BEGIN:VEVENT
DTSTART;TZID=America/New_York:20270112T170000
DTEND;TZID=America/New_York:20270112T180000
DTSTAMP:20260422T002528
CREATED:20240515T031506Z
LAST-MODIFIED:20240516T075910Z
UID:10002758-1799773200-1799776800@www.rockylakesgolf.com
SUMMARY:Playmates
DESCRIPTION:Scramble Format
URL:https://www.rockylakesgolf.com/event/playmates/2027-01-12/
END:VEVENT
BEGIN:VEVENT
DTSTART;TZID=America/New_York:20270113T160000
DTEND;TZID=America/New_York:20270113T170000
DTSTAMP:20260422T002528
CREATED:20240515T032155Z
LAST-MODIFIED:20240515T032155Z
UID:10001193-1799856000-1799859600@www.rockylakesgolf.com
SUMMARY:Roger's League
DESCRIPTION:Scramble Format
URL:https://www.rockylakesgolf.com/event/rogers-league/2027-01-13/
END:VEVENT
BEGIN:VEVENT
DTSTART;TZID=America/New_York:20270113T170000
DTEND;TZID=America/New_York:20270113T180000
DTSTAMP:20260422T002528
CREATED:20240515T032501Z
LAST-MODIFIED:20240515T032501Z
UID:10001454-1799859600-1799863200@www.rockylakesgolf.com
SUMMARY:Spark League
DESCRIPTION:Tee Times
URL:https://www.rockylakesgolf.com/event/spark-league/2027-01-13/
END:VEVENT
END:VCALENDAR