BEGIN:VCALENDAR
VERSION:2.0
PRODID:-//Rocky Lakes Golf Course - ECPv6.15.18//NONSGML v1.0//EN
CALSCALE:GREGORIAN
METHOD:PUBLISH
X-ORIGINAL-URL:https://www.rockylakesgolf.com
X-WR-CALDESC:Events for Rocky Lakes Golf Course
REFRESH-INTERVAL;VALUE=DURATION:PT1H
X-Robots-Tag:noindex
X-PUBLISHED-TTL:PT1H
BEGIN:VTIMEZONE
TZID:America/New_York
BEGIN:DAYLIGHT
TZOFFSETFROM:-0500
TZOFFSETTO:-0400
TZNAME:EDT
DTSTART:20260308T070000
END:DAYLIGHT
BEGIN:STANDARD
TZOFFSETFROM:-0400
TZOFFSETTO:-0500
TZNAME:EST
DTSTART:20261101T060000
END:STANDARD
BEGIN:DAYLIGHT
TZOFFSETFROM:-0500
TZOFFSETTO:-0400
TZNAME:EDT
DTSTART:20270314T070000
END:DAYLIGHT
BEGIN:STANDARD
TZOFFSETFROM:-0400
TZOFFSETTO:-0500
TZNAME:EST
DTSTART:20271107T060000
END:STANDARD
BEGIN:DAYLIGHT
TZOFFSETFROM:-0500
TZOFFSETTO:-0400
TZNAME:EDT
DTSTART:20280312T070000
END:DAYLIGHT
BEGIN:STANDARD
TZOFFSETFROM:-0400
TZOFFSETTO:-0500
TZNAME:EST
DTSTART:20281105T060000
END:STANDARD
END:VTIMEZONE
BEGIN:VTIMEZONE
TZID:UTC
BEGIN:STANDARD
TZOFFSETFROM:+0000
TZOFFSETTO:+0000
TZNAME:UTC
DTSTART:20260101T000000
END:STANDARD
END:VTIMEZONE
BEGIN:VEVENT
DTSTART;TZID=America/New_York:20270114T100000
DTEND;TZID=America/New_York:20270114T130000
DTSTAMP:20260422T020745
CREATED:20240515T032621Z
LAST-MODIFIED:20240515T032621Z
UID:10001715-1799920800-1799931600@www.rockylakesgolf.com
SUMMARY:Kuna League
DESCRIPTION:Tee Times
URL:https://www.rockylakesgolf.com/event/kuna-league/2027-01-14/
END:VEVENT
BEGIN:VEVENT
DTSTART;TZID=UTC:20270114T140000
DTEND;TZID=UTC:20270114T170000
DTSTAMP:20260422T020745
CREATED:20240515T032658Z
LAST-MODIFIED:20240515T032658Z
UID:10001976-1799935200-1799946000@www.rockylakesgolf.com
SUMMARY:Guard League
DESCRIPTION:Tee Times
URL:https://www.rockylakesgolf.com/event/guard-league/2027-01-14/
END:VEVENT
BEGIN:VEVENT
DTSTART;TZID=America/New_York:20270114T170000
DTEND;TZID=America/New_York:20270114T200000
DTSTAMP:20260422T020745
CREATED:20240515T032803Z
LAST-MODIFIED:20240515T032803Z
UID:10002237-1799946000-1799956800@www.rockylakesgolf.com
SUMMARY:Average Joe's
DESCRIPTION:Tee Times
URL:https://www.rockylakesgolf.com/event/average-joes/2027-01-14/
END:VEVENT
BEGIN:VEVENT
DTSTART;TZID=America/New_York:20270117T090000
DTEND;TZID=America/New_York:20270117T120000
DTSTAMP:20260422T020745
CREATED:20240515T032857Z
LAST-MODIFIED:20240515T032857Z
UID:10002498-1800176400-1800187200@www.rockylakesgolf.com
SUMMARY:Best Ball
DESCRIPTION:Tee Times
URL:https://www.rockylakesgolf.com/event/best-ball/2027-01-17/
END:VEVENT
BEGIN:VEVENT
DTSTART;TZID=America/New_York:20270118T140000
DTEND;TZID=America/New_York:20270118T160000
DTSTAMP:20260422T020745
CREATED:20240515T031308Z
LAST-MODIFIED:20240515T031806Z
UID:10000151-1800280800-1800288000@www.rockylakesgolf.com
SUMMARY:Brick Tap & Tavern
DESCRIPTION:Tee Times
URL:https://www.rockylakesgolf.com/event/brick-tap-tavern/2027-01-18/
END:VEVENT
BEGIN:VEVENT
DTSTART;TZID=America/New_York:20270119T160000
DTEND;TZID=America/New_York:20270119T170000
DTSTAMP:20260422T020745
CREATED:20240515T031624Z
LAST-MODIFIED:20240515T031624Z
UID:10000673-1800374400-1800378000@www.rockylakesgolf.com
SUMMARY:Hipps
DESCRIPTION:Tee Times
URL:https://www.rockylakesgolf.com/event/hipps/2027-01-19/
END:VEVENT
BEGIN:VEVENT
DTSTART;TZID=America/New_York:20270119T170000
DTEND;TZID=America/New_York:20270119T180000
DTSTAMP:20260422T020745
CREATED:20240515T031506Z
LAST-MODIFIED:20240516T075910Z
UID:10002759-1800378000-1800381600@www.rockylakesgolf.com
SUMMARY:Playmates
DESCRIPTION:Scramble Format
URL:https://www.rockylakesgolf.com/event/playmates/2027-01-19/
END:VEVENT
BEGIN:VEVENT
DTSTART;TZID=America/New_York:20270120T160000
DTEND;TZID=America/New_York:20270120T170000
DTSTAMP:20260422T020745
CREATED:20240515T032155Z
LAST-MODIFIED:20240515T032155Z
UID:10001194-1800460800-1800464400@www.rockylakesgolf.com
SUMMARY:Roger's League
DESCRIPTION:Scramble Format
URL:https://www.rockylakesgolf.com/event/rogers-league/2027-01-20/
END:VEVENT
BEGIN:VEVENT
DTSTART;TZID=America/New_York:20270120T170000
DTEND;TZID=America/New_York:20270120T180000
DTSTAMP:20260422T020745
CREATED:20240515T032501Z
LAST-MODIFIED:20240515T032501Z
UID:10001455-1800464400-1800468000@www.rockylakesgolf.com
SUMMARY:Spark League
DESCRIPTION:Tee Times
URL:https://www.rockylakesgolf.com/event/spark-league/2027-01-20/
END:VEVENT
BEGIN:VEVENT
DTSTART;TZID=America/New_York:20270121T100000
DTEND;TZID=America/New_York:20270121T130000
DTSTAMP:20260422T020745
CREATED:20240515T032621Z
LAST-MODIFIED:20240515T032621Z
UID:10001716-1800525600-1800536400@www.rockylakesgolf.com
SUMMARY:Kuna League
DESCRIPTION:Tee Times
URL:https://www.rockylakesgolf.com/event/kuna-league/2027-01-21/
END:VEVENT
BEGIN:VEVENT
DTSTART;TZID=UTC:20270121T140000
DTEND;TZID=UTC:20270121T170000
DTSTAMP:20260422T020745
CREATED:20240515T032658Z
LAST-MODIFIED:20240515T032658Z
UID:10001977-1800540000-1800550800@www.rockylakesgolf.com
SUMMARY:Guard League
DESCRIPTION:Tee Times
URL:https://www.rockylakesgolf.com/event/guard-league/2027-01-21/
END:VEVENT
BEGIN:VEVENT
DTSTART;TZID=America/New_York:20270121T170000
DTEND;TZID=America/New_York:20270121T200000
DTSTAMP:20260422T020745
CREATED:20240515T032803Z
LAST-MODIFIED:20240515T032803Z
UID:10002238-1800550800-1800561600@www.rockylakesgolf.com
SUMMARY:Average Joe's
DESCRIPTION:Tee Times
URL:https://www.rockylakesgolf.com/event/average-joes/2027-01-21/
END:VEVENT
BEGIN:VEVENT
DTSTART;TZID=America/New_York:20270124T090000
DTEND;TZID=America/New_York:20270124T120000
DTSTAMP:20260422T020745
CREATED:20240515T032857Z
LAST-MODIFIED:20240515T032857Z
UID:10002499-1800781200-1800792000@www.rockylakesgolf.com
SUMMARY:Best Ball
DESCRIPTION:Tee Times
URL:https://www.rockylakesgolf.com/event/best-ball/2027-01-24/
END:VEVENT
BEGIN:VEVENT
DTSTART;TZID=America/New_York:20270125T140000
DTEND;TZID=America/New_York:20270125T160000
DTSTAMP:20260422T020745
CREATED:20240515T031308Z
LAST-MODIFIED:20240515T031806Z
UID:10000152-1800885600-1800892800@www.rockylakesgolf.com
SUMMARY:Brick Tap & Tavern
DESCRIPTION:Tee Times
URL:https://www.rockylakesgolf.com/event/brick-tap-tavern/2027-01-25/
END:VEVENT
BEGIN:VEVENT
DTSTART;TZID=America/New_York:20270126T160000
DTEND;TZID=America/New_York:20270126T170000
DTSTAMP:20260422T020745
CREATED:20240515T031624Z
LAST-MODIFIED:20240515T031624Z
UID:10000674-1800979200-1800982800@www.rockylakesgolf.com
SUMMARY:Hipps
DESCRIPTION:Tee Times
URL:https://www.rockylakesgolf.com/event/hipps/2027-01-26/
END:VEVENT
BEGIN:VEVENT
DTSTART;TZID=America/New_York:20270126T170000
DTEND;TZID=America/New_York:20270126T180000
DTSTAMP:20260422T020745
CREATED:20240515T031506Z
LAST-MODIFIED:20240516T075910Z
UID:10002760-1800982800-1800986400@www.rockylakesgolf.com
SUMMARY:Playmates
DESCRIPTION:Scramble Format
URL:https://www.rockylakesgolf.com/event/playmates/2027-01-26/
END:VEVENT
BEGIN:VEVENT
DTSTART;TZID=America/New_York:20270127T160000
DTEND;TZID=America/New_York:20270127T170000
DTSTAMP:20260422T020745
CREATED:20240515T032155Z
LAST-MODIFIED:20240515T032155Z
UID:10001195-1801065600-1801069200@www.rockylakesgolf.com
SUMMARY:Roger's League
DESCRIPTION:Scramble Format
URL:https://www.rockylakesgolf.com/event/rogers-league/2027-01-27/
END:VEVENT
BEGIN:VEVENT
DTSTART;TZID=America/New_York:20270127T170000
DTEND;TZID=America/New_York:20270127T180000
DTSTAMP:20260422T020746
CREATED:20240515T032501Z
LAST-MODIFIED:20240515T032501Z
UID:10001456-1801069200-1801072800@www.rockylakesgolf.com
SUMMARY:Spark League
DESCRIPTION:Tee Times
URL:https://www.rockylakesgolf.com/event/spark-league/2027-01-27/
END:VEVENT
BEGIN:VEVENT
DTSTART;TZID=America/New_York:20270128T100000
DTEND;TZID=America/New_York:20270128T130000
DTSTAMP:20260422T020746
CREATED:20240515T032621Z
LAST-MODIFIED:20240515T032621Z
UID:10001717-1801130400-1801141200@www.rockylakesgolf.com
SUMMARY:Kuna League
DESCRIPTION:Tee Times
URL:https://www.rockylakesgolf.com/event/kuna-league/2027-01-28/
END:VEVENT
BEGIN:VEVENT
DTSTART;TZID=UTC:20270128T140000
DTEND;TZID=UTC:20270128T170000
DTSTAMP:20260422T020746
CREATED:20240515T032658Z
LAST-MODIFIED:20240515T032658Z
UID:10001978-1801144800-1801155600@www.rockylakesgolf.com
SUMMARY:Guard League
DESCRIPTION:Tee Times
URL:https://www.rockylakesgolf.com/event/guard-league/2027-01-28/
END:VEVENT
BEGIN:VEVENT
DTSTART;TZID=America/New_York:20270128T170000
DTEND;TZID=America/New_York:20270128T200000
DTSTAMP:20260422T020746
CREATED:20240515T032803Z
LAST-MODIFIED:20240515T032803Z
UID:10002239-1801155600-1801166400@www.rockylakesgolf.com
SUMMARY:Average Joe's
DESCRIPTION:Tee Times
URL:https://www.rockylakesgolf.com/event/average-joes/2027-01-28/
END:VEVENT
BEGIN:VEVENT
DTSTART;TZID=America/New_York:20270131T090000
DTEND;TZID=America/New_York:20270131T120000
DTSTAMP:20260422T020746
CREATED:20240515T032857Z
LAST-MODIFIED:20240515T032857Z
UID:10002500-1801386000-1801396800@www.rockylakesgolf.com
SUMMARY:Best Ball
DESCRIPTION:Tee Times
URL:https://www.rockylakesgolf.com/event/best-ball/2027-01-31/
END:VEVENT
BEGIN:VEVENT
DTSTART;TZID=America/New_York:20270201T140000
DTEND;TZID=America/New_York:20270201T160000
DTSTAMP:20260422T020746
CREATED:20240515T031308Z
LAST-MODIFIED:20240515T031806Z
UID:10000153-1801490400-1801497600@www.rockylakesgolf.com
SUMMARY:Brick Tap & Tavern
DESCRIPTION:Tee Times
URL:https://www.rockylakesgolf.com/event/brick-tap-tavern/2027-02-01/
END:VEVENT
BEGIN:VEVENT
DTSTART;TZID=America/New_York:20270202T160000
DTEND;TZID=America/New_York:20270202T170000
DTSTAMP:20260422T020746
CREATED:20240515T031624Z
LAST-MODIFIED:20240515T031624Z
UID:10000675-1801584000-1801587600@www.rockylakesgolf.com
SUMMARY:Hipps
DESCRIPTION:Tee Times
URL:https://www.rockylakesgolf.com/event/hipps/2027-02-02/
END:VEVENT
BEGIN:VEVENT
DTSTART;TZID=America/New_York:20270202T170000
DTEND;TZID=America/New_York:20270202T180000
DTSTAMP:20260422T020746
CREATED:20240515T031506Z
LAST-MODIFIED:20240516T075910Z
UID:10002761-1801587600-1801591200@www.rockylakesgolf.com
SUMMARY:Playmates
DESCRIPTION:Scramble Format
URL:https://www.rockylakesgolf.com/event/playmates/2027-02-02/
END:VEVENT
BEGIN:VEVENT
DTSTART;TZID=America/New_York:20270203T160000
DTEND;TZID=America/New_York:20270203T170000
DTSTAMP:20260422T020746
CREATED:20240515T032155Z
LAST-MODIFIED:20240515T032155Z
UID:10001196-1801670400-1801674000@www.rockylakesgolf.com
SUMMARY:Roger's League
DESCRIPTION:Scramble Format
URL:https://www.rockylakesgolf.com/event/rogers-league/2027-02-03/
END:VEVENT
BEGIN:VEVENT
DTSTART;TZID=America/New_York:20270203T170000
DTEND;TZID=America/New_York:20270203T180000
DTSTAMP:20260422T020746
CREATED:20240515T032501Z
LAST-MODIFIED:20240515T032501Z
UID:10001457-1801674000-1801677600@www.rockylakesgolf.com
SUMMARY:Spark League
DESCRIPTION:Tee Times
URL:https://www.rockylakesgolf.com/event/spark-league/2027-02-03/
END:VEVENT
BEGIN:VEVENT
DTSTART;TZID=America/New_York:20270204T100000
DTEND;TZID=America/New_York:20270204T130000
DTSTAMP:20260422T020746
CREATED:20240515T032621Z
LAST-MODIFIED:20240515T032621Z
UID:10001718-1801735200-1801746000@www.rockylakesgolf.com
SUMMARY:Kuna League
DESCRIPTION:Tee Times
URL:https://www.rockylakesgolf.com/event/kuna-league/2027-02-04/
END:VEVENT
BEGIN:VEVENT
DTSTART;TZID=UTC:20270204T140000
DTEND;TZID=UTC:20270204T170000
DTSTAMP:20260422T020746
CREATED:20240515T032658Z
LAST-MODIFIED:20240515T032658Z
UID:10001979-1801749600-1801760400@www.rockylakesgolf.com
SUMMARY:Guard League
DESCRIPTION:Tee Times
URL:https://www.rockylakesgolf.com/event/guard-league/2027-02-04/
END:VEVENT
BEGIN:VEVENT
DTSTART;TZID=America/New_York:20270204T170000
DTEND;TZID=America/New_York:20270204T200000
DTSTAMP:20260422T020746
CREATED:20240515T032803Z
LAST-MODIFIED:20240515T032803Z
UID:10002240-1801760400-1801771200@www.rockylakesgolf.com
SUMMARY:Average Joe's
DESCRIPTION:Tee Times
URL:https://www.rockylakesgolf.com/event/average-joes/2027-02-04/
END:VEVENT
END:VCALENDAR