BEGIN:VCALENDAR
VERSION:2.0
PRODID:-//Rocky Lakes Golf Course - ECPv6.15.18//NONSGML v1.0//EN
CALSCALE:GREGORIAN
METHOD:PUBLISH
X-WR-CALNAME:Rocky Lakes Golf Course
X-ORIGINAL-URL:https://www.rockylakesgolf.com
X-WR-CALDESC:Events for Rocky Lakes Golf Course
REFRESH-INTERVAL;VALUE=DURATION:PT1H
X-Robots-Tag:noindex
X-PUBLISHED-TTL:PT1H
BEGIN:VTIMEZONE
TZID:America/New_York
BEGIN:DAYLIGHT
TZOFFSETFROM:-0500
TZOFFSETTO:-0400
TZNAME:EDT
DTSTART:20230312T070000
END:DAYLIGHT
BEGIN:STANDARD
TZOFFSETFROM:-0400
TZOFFSETTO:-0500
TZNAME:EST
DTSTART:20231105T060000
END:STANDARD
BEGIN:DAYLIGHT
TZOFFSETFROM:-0500
TZOFFSETTO:-0400
TZNAME:EDT
DTSTART:20240310T070000
END:DAYLIGHT
BEGIN:STANDARD
TZOFFSETFROM:-0400
TZOFFSETTO:-0500
TZNAME:EST
DTSTART:20241103T060000
END:STANDARD
BEGIN:DAYLIGHT
TZOFFSETFROM:-0500
TZOFFSETTO:-0400
TZNAME:EDT
DTSTART:20250309T070000
END:DAYLIGHT
BEGIN:STANDARD
TZOFFSETFROM:-0400
TZOFFSETTO:-0500
TZNAME:EST
DTSTART:20251102T060000
END:STANDARD
END:VTIMEZONE
BEGIN:VTIMEZONE
TZID:UTC
BEGIN:STANDARD
TZOFFSETFROM:+0000
TZOFFSETTO:+0000
TZNAME:UTC
DTSTART:20230101T000000
END:STANDARD
END:VTIMEZONE
BEGIN:VEVENT
DTSTART;TZID=America/New_York:20240515T160000
DTEND;TZID=America/New_York:20240515T170000
DTSTAMP:20260424T112459
CREATED:20240515T032155Z
LAST-MODIFIED:20240515T032155Z
UID:10001054-1715788800-1715792400@www.rockylakesgolf.com
SUMMARY:Roger's League
DESCRIPTION:Scramble Format
URL:https://www.rockylakesgolf.com/event/rogers-league/2024-05-15/
END:VEVENT
BEGIN:VEVENT
DTSTART;TZID=America/New_York:20240515T170000
DTEND;TZID=America/New_York:20240515T180000
DTSTAMP:20260424T112459
CREATED:20240515T032501Z
LAST-MODIFIED:20240515T032501Z
UID:10001315-1715792400-1715796000@www.rockylakesgolf.com
SUMMARY:Spark League
DESCRIPTION:Tee Times
URL:https://www.rockylakesgolf.com/event/spark-league/2024-05-15/
END:VEVENT
BEGIN:VEVENT
DTSTART;TZID=America/New_York:20240516T100000
DTEND;TZID=America/New_York:20240516T130000
DTSTAMP:20260424T112459
CREATED:20240515T032621Z
LAST-MODIFIED:20240515T032621Z
UID:10001576-1715853600-1715864400@www.rockylakesgolf.com
SUMMARY:Kuna League
DESCRIPTION:Tee Times
URL:https://www.rockylakesgolf.com/event/kuna-league/2024-05-16/
END:VEVENT
BEGIN:VEVENT
DTSTART;TZID=UTC:20240516T140000
DTEND;TZID=UTC:20240516T170000
DTSTAMP:20260424T112459
CREATED:20240515T032658Z
LAST-MODIFIED:20240515T032658Z
UID:10001837-1715868000-1715878800@www.rockylakesgolf.com
SUMMARY:Guard League
DESCRIPTION:Tee Times
URL:https://www.rockylakesgolf.com/event/guard-league/2024-05-16/
END:VEVENT
BEGIN:VEVENT
DTSTART;TZID=America/New_York:20240516T170000
DTEND;TZID=America/New_York:20240516T200000
DTSTAMP:20260424T112459
CREATED:20240515T032803Z
LAST-MODIFIED:20240515T032803Z
UID:10002098-1715878800-1715889600@www.rockylakesgolf.com
SUMMARY:Average Joe's
DESCRIPTION:Tee Times
URL:https://www.rockylakesgolf.com/event/average-joes/2024-05-16/
END:VEVENT
BEGIN:VEVENT
DTSTART;TZID=America/New_York:20240519T090000
DTEND;TZID=America/New_York:20240519T120000
DTSTAMP:20260424T112459
CREATED:20240515T032857Z
LAST-MODIFIED:20240515T032857Z
UID:10002359-1716109200-1716120000@www.rockylakesgolf.com
SUMMARY:Best Ball
DESCRIPTION:Tee Times
URL:https://www.rockylakesgolf.com/event/best-ball/2024-05-19/
END:VEVENT
BEGIN:VEVENT
DTSTART;TZID=America/New_York:20240520T140000
DTEND;TZID=America/New_York:20240520T160000
DTSTAMP:20260424T112459
CREATED:20240515T031308Z
LAST-MODIFIED:20240515T031806Z
UID:10000012-1716213600-1716220800@www.rockylakesgolf.com
SUMMARY:Brick Tap & Tavern
DESCRIPTION:Tee Times
URL:https://www.rockylakesgolf.com/event/brick-tap-tavern/2024-05-20/
END:VEVENT
BEGIN:VEVENT
DTSTART;TZID=America/New_York:20240521T160000
DTEND;TZID=America/New_York:20240521T170000
DTSTAMP:20260424T112459
CREATED:20240515T031624Z
LAST-MODIFIED:20240515T031624Z
UID:10000534-1716307200-1716310800@www.rockylakesgolf.com
SUMMARY:Hipps
DESCRIPTION:Tee Times
URL:https://www.rockylakesgolf.com/event/hipps/2024-05-21/
END:VEVENT
BEGIN:VEVENT
DTSTART;TZID=America/New_York:20240521T170000
DTEND;TZID=America/New_York:20240521T180000
DTSTAMP:20260424T112459
CREATED:20240515T031506Z
LAST-MODIFIED:20240516T075910Z
UID:10002620-1716310800-1716314400@www.rockylakesgolf.com
SUMMARY:Playmates
DESCRIPTION:Scramble Format
URL:https://www.rockylakesgolf.com/event/playmates/2024-05-21/
END:VEVENT
BEGIN:VEVENT
DTSTART;TZID=America/New_York:20240522T160000
DTEND;TZID=America/New_York:20240522T170000
DTSTAMP:20260424T112459
CREATED:20240515T032155Z
LAST-MODIFIED:20240515T032155Z
UID:10001055-1716393600-1716397200@www.rockylakesgolf.com
SUMMARY:Roger's League
DESCRIPTION:Scramble Format
URL:https://www.rockylakesgolf.com/event/rogers-league/2024-05-22/
END:VEVENT
BEGIN:VEVENT
DTSTART;TZID=America/New_York:20240522T170000
DTEND;TZID=America/New_York:20240522T180000
DTSTAMP:20260424T112459
CREATED:20240515T032501Z
LAST-MODIFIED:20240515T032501Z
UID:10001316-1716397200-1716400800@www.rockylakesgolf.com
SUMMARY:Spark League
DESCRIPTION:Tee Times
URL:https://www.rockylakesgolf.com/event/spark-league/2024-05-22/
END:VEVENT
BEGIN:VEVENT
DTSTART;TZID=America/New_York:20240523T100000
DTEND;TZID=America/New_York:20240523T130000
DTSTAMP:20260424T112459
CREATED:20240515T032621Z
LAST-MODIFIED:20240515T032621Z
UID:10001577-1716458400-1716469200@www.rockylakesgolf.com
SUMMARY:Kuna League
DESCRIPTION:Tee Times
URL:https://www.rockylakesgolf.com/event/kuna-league/2024-05-23/
END:VEVENT
BEGIN:VEVENT
DTSTART;TZID=UTC:20240523T140000
DTEND;TZID=UTC:20240523T170000
DTSTAMP:20260424T112459
CREATED:20240515T032658Z
LAST-MODIFIED:20240515T032658Z
UID:10001838-1716472800-1716483600@www.rockylakesgolf.com
SUMMARY:Guard League
DESCRIPTION:Tee Times
URL:https://www.rockylakesgolf.com/event/guard-league/2024-05-23/
END:VEVENT
BEGIN:VEVENT
DTSTART;TZID=America/New_York:20240523T170000
DTEND;TZID=America/New_York:20240523T200000
DTSTAMP:20260424T112459
CREATED:20240515T032803Z
LAST-MODIFIED:20240515T032803Z
UID:10002099-1716483600-1716494400@www.rockylakesgolf.com
SUMMARY:Average Joe's
DESCRIPTION:Tee Times
URL:https://www.rockylakesgolf.com/event/average-joes/2024-05-23/
END:VEVENT
BEGIN:VEVENT
DTSTART;TZID=America/New_York:20240526T090000
DTEND;TZID=America/New_York:20240526T120000
DTSTAMP:20260424T112459
CREATED:20240515T032857Z
LAST-MODIFIED:20240515T032857Z
UID:10002360-1716714000-1716724800@www.rockylakesgolf.com
SUMMARY:Best Ball
DESCRIPTION:Tee Times
URL:https://www.rockylakesgolf.com/event/best-ball/2024-05-26/
END:VEVENT
BEGIN:VEVENT
DTSTART;TZID=America/New_York:20240527T140000
DTEND;TZID=America/New_York:20240527T160000
DTSTAMP:20260424T112459
CREATED:20240515T031308Z
LAST-MODIFIED:20240515T031806Z
UID:10000013-1716818400-1716825600@www.rockylakesgolf.com
SUMMARY:Brick Tap & Tavern
DESCRIPTION:Tee Times
URL:https://www.rockylakesgolf.com/event/brick-tap-tavern/2024-05-27/
END:VEVENT
BEGIN:VEVENT
DTSTART;TZID=America/New_York:20240528T160000
DTEND;TZID=America/New_York:20240528T170000
DTSTAMP:20260424T112459
CREATED:20240515T031624Z
LAST-MODIFIED:20240515T031624Z
UID:10000535-1716912000-1716915600@www.rockylakesgolf.com
SUMMARY:Hipps
DESCRIPTION:Tee Times
URL:https://www.rockylakesgolf.com/event/hipps/2024-05-28/
END:VEVENT
BEGIN:VEVENT
DTSTART;TZID=America/New_York:20240528T170000
DTEND;TZID=America/New_York:20240528T180000
DTSTAMP:20260424T112459
CREATED:20240515T031506Z
LAST-MODIFIED:20240516T075910Z
UID:10002621-1716915600-1716919200@www.rockylakesgolf.com
SUMMARY:Playmates
DESCRIPTION:Scramble Format
URL:https://www.rockylakesgolf.com/event/playmates/2024-05-28/
END:VEVENT
BEGIN:VEVENT
DTSTART;TZID=America/New_York:20240529T160000
DTEND;TZID=America/New_York:20240529T170000
DTSTAMP:20260424T112459
CREATED:20240515T032155Z
LAST-MODIFIED:20240515T032155Z
UID:10001056-1716998400-1717002000@www.rockylakesgolf.com
SUMMARY:Roger's League
DESCRIPTION:Scramble Format
URL:https://www.rockylakesgolf.com/event/rogers-league/2024-05-29/
END:VEVENT
BEGIN:VEVENT
DTSTART;TZID=America/New_York:20240529T170000
DTEND;TZID=America/New_York:20240529T180000
DTSTAMP:20260424T112459
CREATED:20240515T032501Z
LAST-MODIFIED:20240515T032501Z
UID:10001317-1717002000-1717005600@www.rockylakesgolf.com
SUMMARY:Spark League
DESCRIPTION:Tee Times
URL:https://www.rockylakesgolf.com/event/spark-league/2024-05-29/
END:VEVENT
BEGIN:VEVENT
DTSTART;TZID=America/New_York:20240530T100000
DTEND;TZID=America/New_York:20240530T130000
DTSTAMP:20260424T112459
CREATED:20240515T032621Z
LAST-MODIFIED:20240515T032621Z
UID:10001578-1717063200-1717074000@www.rockylakesgolf.com
SUMMARY:Kuna League
DESCRIPTION:Tee Times
URL:https://www.rockylakesgolf.com/event/kuna-league/2024-05-30/
END:VEVENT
BEGIN:VEVENT
DTSTART;TZID=UTC:20240530T140000
DTEND;TZID=UTC:20240530T170000
DTSTAMP:20260424T112459
CREATED:20240515T032658Z
LAST-MODIFIED:20240515T032658Z
UID:10001839-1717077600-1717088400@www.rockylakesgolf.com
SUMMARY:Guard League
DESCRIPTION:Tee Times
URL:https://www.rockylakesgolf.com/event/guard-league/2024-05-30/
END:VEVENT
BEGIN:VEVENT
DTSTART;TZID=America/New_York:20240530T170000
DTEND;TZID=America/New_York:20240530T200000
DTSTAMP:20260424T112459
CREATED:20240515T032803Z
LAST-MODIFIED:20240515T032803Z
UID:10002100-1717088400-1717099200@www.rockylakesgolf.com
SUMMARY:Average Joe's
DESCRIPTION:Tee Times
URL:https://www.rockylakesgolf.com/event/average-joes/2024-05-30/
END:VEVENT
BEGIN:VEVENT
DTSTART;TZID=America/New_York:20240531T080000
DTEND;TZID=America/New_York:20240531T170000
DTSTAMP:20260424T112459
CREATED:20240515T025430Z
LAST-MODIFIED:20240515T031840Z
UID:10000001-1717142400-1717174800@www.rockylakesgolf.com
SUMMARY:445 Mike Mahoneg (Militag)
DESCRIPTION:Shotgun
URL:https://www.rockylakesgolf.com/event/445-mike-mahoneg-militag/
END:VEVENT
END:VCALENDAR