BEGIN:VCALENDAR
VERSION:2.0
PRODID:-//Rocky Lakes Golf Course - ECPv6.15.18//NONSGML v1.0//EN
CALSCALE:GREGORIAN
METHOD:PUBLISH
X-WR-CALNAME:Rocky Lakes Golf Course
X-ORIGINAL-URL:https://www.rockylakesgolf.com
X-WR-CALDESC:Events for Rocky Lakes Golf Course
REFRESH-INTERVAL;VALUE=DURATION:PT1H
X-Robots-Tag:noindex
X-PUBLISHED-TTL:PT1H
BEGIN:VTIMEZONE
TZID:America/New_York
BEGIN:DAYLIGHT
TZOFFSETFROM:-0500
TZOFFSETTO:-0400
TZNAME:EDT
DTSTART:20230312T070000
END:DAYLIGHT
BEGIN:STANDARD
TZOFFSETFROM:-0400
TZOFFSETTO:-0500
TZNAME:EST
DTSTART:20231105T060000
END:STANDARD
BEGIN:DAYLIGHT
TZOFFSETFROM:-0500
TZOFFSETTO:-0400
TZNAME:EDT
DTSTART:20240310T070000
END:DAYLIGHT
BEGIN:STANDARD
TZOFFSETFROM:-0400
TZOFFSETTO:-0500
TZNAME:EST
DTSTART:20241103T060000
END:STANDARD
BEGIN:DAYLIGHT
TZOFFSETFROM:-0500
TZOFFSETTO:-0400
TZNAME:EDT
DTSTART:20250309T070000
END:DAYLIGHT
BEGIN:STANDARD
TZOFFSETFROM:-0400
TZOFFSETTO:-0500
TZNAME:EST
DTSTART:20251102T060000
END:STANDARD
END:VTIMEZONE
BEGIN:VTIMEZONE
TZID:UTC
BEGIN:STANDARD
TZOFFSETFROM:+0000
TZOFFSETTO:+0000
TZNAME:UTC
DTSTART:20230101T000000
END:STANDARD
END:VTIMEZONE
BEGIN:VEVENT
DTSTART;TZID=America/New_York:20240602T090000
DTEND;TZID=America/New_York:20240602T120000
DTSTAMP:20260424T094530
CREATED:20240515T032857Z
LAST-MODIFIED:20240515T032857Z
UID:10002361-1717318800-1717329600@www.rockylakesgolf.com
SUMMARY:Best Ball
DESCRIPTION:Tee Times
URL:https://www.rockylakesgolf.com/event/best-ball/2024-06-02/
END:VEVENT
BEGIN:VEVENT
DTSTART;TZID=America/New_York:20240602T090000
DTEND;TZID=America/New_York:20240602T170000
DTSTAMP:20260424T094530
CREATED:20240515T025608Z
LAST-MODIFIED:20240515T032014Z
UID:10000002-1717318800-1717347600@www.rockylakesgolf.com
SUMMARY:Vandalia Rental Outing
DESCRIPTION:Shotgun
URL:https://www.rockylakesgolf.com/event/vandalia-rental-outing/
END:VEVENT
BEGIN:VEVENT
DTSTART;TZID=America/New_York:20240603T140000
DTEND;TZID=America/New_York:20240603T160000
DTSTAMP:20260424T094530
CREATED:20240515T031308Z
LAST-MODIFIED:20240515T031806Z
UID:10000014-1717423200-1717430400@www.rockylakesgolf.com
SUMMARY:Brick Tap & Tavern
DESCRIPTION:Tee Times
URL:https://www.rockylakesgolf.com/event/brick-tap-tavern/2024-06-03/
END:VEVENT
BEGIN:VEVENT
DTSTART;TZID=America/New_York:20240604T160000
DTEND;TZID=America/New_York:20240604T170000
DTSTAMP:20260424T094530
CREATED:20240515T031624Z
LAST-MODIFIED:20240515T031624Z
UID:10000536-1717516800-1717520400@www.rockylakesgolf.com
SUMMARY:Hipps
DESCRIPTION:Tee Times
URL:https://www.rockylakesgolf.com/event/hipps/2024-06-04/
END:VEVENT
BEGIN:VEVENT
DTSTART;TZID=America/New_York:20240604T170000
DTEND;TZID=America/New_York:20240604T180000
DTSTAMP:20260424T094530
CREATED:20240515T031506Z
LAST-MODIFIED:20240516T075910Z
UID:10002622-1717520400-1717524000@www.rockylakesgolf.com
SUMMARY:Playmates
DESCRIPTION:Scramble Format
URL:https://www.rockylakesgolf.com/event/playmates/2024-06-04/
END:VEVENT
BEGIN:VEVENT
DTSTART;TZID=America/New_York:20240605T160000
DTEND;TZID=America/New_York:20240605T170000
DTSTAMP:20260424T094530
CREATED:20240515T032155Z
LAST-MODIFIED:20240515T032155Z
UID:10001057-1717603200-1717606800@www.rockylakesgolf.com
SUMMARY:Roger's League
DESCRIPTION:Scramble Format
URL:https://www.rockylakesgolf.com/event/rogers-league/2024-06-05/
END:VEVENT
BEGIN:VEVENT
DTSTART;TZID=America/New_York:20240605T170000
DTEND;TZID=America/New_York:20240605T180000
DTSTAMP:20260424T094530
CREATED:20240515T032501Z
LAST-MODIFIED:20240515T032501Z
UID:10001318-1717606800-1717610400@www.rockylakesgolf.com
SUMMARY:Spark League
DESCRIPTION:Tee Times
URL:https://www.rockylakesgolf.com/event/spark-league/2024-06-05/
END:VEVENT
BEGIN:VEVENT
DTSTART;TZID=America/New_York:20240606T100000
DTEND;TZID=America/New_York:20240606T130000
DTSTAMP:20260424T094530
CREATED:20240515T032621Z
LAST-MODIFIED:20240515T032621Z
UID:10001579-1717668000-1717678800@www.rockylakesgolf.com
SUMMARY:Kuna League
DESCRIPTION:Tee Times
URL:https://www.rockylakesgolf.com/event/kuna-league/2024-06-06/
END:VEVENT
BEGIN:VEVENT
DTSTART;TZID=UTC:20240606T140000
DTEND;TZID=UTC:20240606T170000
DTSTAMP:20260424T094530
CREATED:20240515T032658Z
LAST-MODIFIED:20240515T032658Z
UID:10001840-1717682400-1717693200@www.rockylakesgolf.com
SUMMARY:Guard League
DESCRIPTION:Tee Times
URL:https://www.rockylakesgolf.com/event/guard-league/2024-06-06/
END:VEVENT
BEGIN:VEVENT
DTSTART;TZID=America/New_York:20240606T170000
DTEND;TZID=America/New_York:20240606T200000
DTSTAMP:20260424T094530
CREATED:20240515T032803Z
LAST-MODIFIED:20240515T032803Z
UID:10002101-1717693200-1717704000@www.rockylakesgolf.com
SUMMARY:Average Joe's
DESCRIPTION:Tee Times
URL:https://www.rockylakesgolf.com/event/average-joes/2024-06-06/
END:VEVENT
BEGIN:VEVENT
DTSTART;TZID=America/New_York:20240608T100000
DTEND;TZID=America/New_York:20240608T170000
DTSTAMP:20260424T094530
CREATED:20240515T030202Z
LAST-MODIFIED:20240515T032021Z
UID:10000003-1717840800-1717866000@www.rockylakesgolf.com
SUMMARY:Grieshol Outing
DESCRIPTION:Shotgun
URL:https://www.rockylakesgolf.com/event/grieshol-outing/
END:VEVENT
BEGIN:VEVENT
DTSTART;TZID=America/New_York:20240609T090000
DTEND;TZID=America/New_York:20240609T120000
DTSTAMP:20260424T094530
CREATED:20240515T032857Z
LAST-MODIFIED:20240515T032857Z
UID:10002362-1717923600-1717934400@www.rockylakesgolf.com
SUMMARY:Best Ball
DESCRIPTION:Tee Times
URL:https://www.rockylakesgolf.com/event/best-ball/2024-06-09/
END:VEVENT
BEGIN:VEVENT
DTSTART;TZID=America/New_York:20240610T140000
DTEND;TZID=America/New_York:20240610T160000
DTSTAMP:20260424T094530
CREATED:20240515T031308Z
LAST-MODIFIED:20240515T031806Z
UID:10000015-1718028000-1718035200@www.rockylakesgolf.com
SUMMARY:Brick Tap & Tavern
DESCRIPTION:Tee Times
URL:https://www.rockylakesgolf.com/event/brick-tap-tavern/2024-06-10/
END:VEVENT
BEGIN:VEVENT
DTSTART;TZID=America/New_York:20240611T160000
DTEND;TZID=America/New_York:20240611T170000
DTSTAMP:20260424T094530
CREATED:20240515T031624Z
LAST-MODIFIED:20240515T031624Z
UID:10000537-1718121600-1718125200@www.rockylakesgolf.com
SUMMARY:Hipps
DESCRIPTION:Tee Times
URL:https://www.rockylakesgolf.com/event/hipps/2024-06-11/
END:VEVENT
BEGIN:VEVENT
DTSTART;TZID=America/New_York:20240611T170000
DTEND;TZID=America/New_York:20240611T180000
DTSTAMP:20260424T094530
CREATED:20240515T031506Z
LAST-MODIFIED:20240516T075910Z
UID:10002623-1718125200-1718128800@www.rockylakesgolf.com
SUMMARY:Playmates
DESCRIPTION:Scramble Format
URL:https://www.rockylakesgolf.com/event/playmates/2024-06-11/
END:VEVENT
BEGIN:VEVENT
DTSTART;TZID=America/New_York:20240612T160000
DTEND;TZID=America/New_York:20240612T170000
DTSTAMP:20260424T094530
CREATED:20240515T032155Z
LAST-MODIFIED:20240515T032155Z
UID:10001058-1718208000-1718211600@www.rockylakesgolf.com
SUMMARY:Roger's League
DESCRIPTION:Scramble Format
URL:https://www.rockylakesgolf.com/event/rogers-league/2024-06-12/
END:VEVENT
BEGIN:VEVENT
DTSTART;TZID=America/New_York:20240612T170000
DTEND;TZID=America/New_York:20240612T180000
DTSTAMP:20260424T094530
CREATED:20240515T032501Z
LAST-MODIFIED:20240515T032501Z
UID:10001319-1718211600-1718215200@www.rockylakesgolf.com
SUMMARY:Spark League
DESCRIPTION:Tee Times
URL:https://www.rockylakesgolf.com/event/spark-league/2024-06-12/
END:VEVENT
BEGIN:VEVENT
DTSTART;TZID=America/New_York:20240613T100000
DTEND;TZID=America/New_York:20240613T130000
DTSTAMP:20260424T094530
CREATED:20240515T032621Z
LAST-MODIFIED:20240515T032621Z
UID:10001580-1718272800-1718283600@www.rockylakesgolf.com
SUMMARY:Kuna League
DESCRIPTION:Tee Times
URL:https://www.rockylakesgolf.com/event/kuna-league/2024-06-13/
END:VEVENT
BEGIN:VEVENT
DTSTART;TZID=UTC:20240613T140000
DTEND;TZID=UTC:20240613T170000
DTSTAMP:20260424T094530
CREATED:20240515T032658Z
LAST-MODIFIED:20240515T032658Z
UID:10001841-1718287200-1718298000@www.rockylakesgolf.com
SUMMARY:Guard League
DESCRIPTION:Tee Times
URL:https://www.rockylakesgolf.com/event/guard-league/2024-06-13/
END:VEVENT
BEGIN:VEVENT
DTSTART;TZID=America/New_York:20240613T170000
DTEND;TZID=America/New_York:20240613T200000
DTSTAMP:20260424T094530
CREATED:20240515T032803Z
LAST-MODIFIED:20240515T032803Z
UID:10002102-1718298000-1718308800@www.rockylakesgolf.com
SUMMARY:Average Joe's
DESCRIPTION:Tee Times
URL:https://www.rockylakesgolf.com/event/average-joes/2024-06-13/
END:VEVENT
BEGIN:VEVENT
DTSTART;TZID=America/New_York:20240615T100000
DTEND;TZID=America/New_York:20240615T170000
DTSTAMP:20260424T094530
CREATED:20240515T030315Z
LAST-MODIFIED:20240515T032027Z
UID:10000004-1718445600-1718470800@www.rockylakesgolf.com
SUMMARY:UAW 402 Outing
DESCRIPTION:Shotgun
URL:https://www.rockylakesgolf.com/event/uaw-402-outing/
END:VEVENT
BEGIN:VEVENT
DTSTART;TZID=America/New_York:20240616T090000
DTEND;TZID=America/New_York:20240616T120000
DTSTAMP:20260424T094530
CREATED:20240515T032857Z
LAST-MODIFIED:20240515T032857Z
UID:10002363-1718528400-1718539200@www.rockylakesgolf.com
SUMMARY:Best Ball
DESCRIPTION:Tee Times
URL:https://www.rockylakesgolf.com/event/best-ball/2024-06-16/
END:VEVENT
BEGIN:VEVENT
DTSTART;TZID=America/New_York:20240617T140000
DTEND;TZID=America/New_York:20240617T160000
DTSTAMP:20260424T094530
CREATED:20240515T031308Z
LAST-MODIFIED:20240515T031806Z
UID:10000016-1718632800-1718640000@www.rockylakesgolf.com
SUMMARY:Brick Tap & Tavern
DESCRIPTION:Tee Times
URL:https://www.rockylakesgolf.com/event/brick-tap-tavern/2024-06-17/
END:VEVENT
BEGIN:VEVENT
DTSTART;TZID=America/New_York:20240618T160000
DTEND;TZID=America/New_York:20240618T170000
DTSTAMP:20260424T094530
CREATED:20240515T031624Z
LAST-MODIFIED:20240515T031624Z
UID:10000538-1718726400-1718730000@www.rockylakesgolf.com
SUMMARY:Hipps
DESCRIPTION:Tee Times
URL:https://www.rockylakesgolf.com/event/hipps/2024-06-18/
END:VEVENT
BEGIN:VEVENT
DTSTART;TZID=America/New_York:20240618T170000
DTEND;TZID=America/New_York:20240618T180000
DTSTAMP:20260424T094530
CREATED:20240515T031506Z
LAST-MODIFIED:20240516T075910Z
UID:10002624-1718730000-1718733600@www.rockylakesgolf.com
SUMMARY:Playmates
DESCRIPTION:Scramble Format
URL:https://www.rockylakesgolf.com/event/playmates/2024-06-18/
END:VEVENT
BEGIN:VEVENT
DTSTART;TZID=America/New_York:20240619T160000
DTEND;TZID=America/New_York:20240619T170000
DTSTAMP:20260424T094530
CREATED:20240515T032155Z
LAST-MODIFIED:20240515T032155Z
UID:10001059-1718812800-1718816400@www.rockylakesgolf.com
SUMMARY:Roger's League
DESCRIPTION:Scramble Format
URL:https://www.rockylakesgolf.com/event/rogers-league/2024-06-19/
END:VEVENT
BEGIN:VEVENT
DTSTART;TZID=America/New_York:20240619T170000
DTEND;TZID=America/New_York:20240619T180000
DTSTAMP:20260424T094530
CREATED:20240515T032501Z
LAST-MODIFIED:20240515T032501Z
UID:10001320-1718816400-1718820000@www.rockylakesgolf.com
SUMMARY:Spark League
DESCRIPTION:Tee Times
URL:https://www.rockylakesgolf.com/event/spark-league/2024-06-19/
END:VEVENT
BEGIN:VEVENT
DTSTART;TZID=America/New_York:20240620T100000
DTEND;TZID=America/New_York:20240620T130000
DTSTAMP:20260424T094530
CREATED:20240515T032621Z
LAST-MODIFIED:20240515T032621Z
UID:10001581-1718877600-1718888400@www.rockylakesgolf.com
SUMMARY:Kuna League
DESCRIPTION:Tee Times
URL:https://www.rockylakesgolf.com/event/kuna-league/2024-06-20/
END:VEVENT
BEGIN:VEVENT
DTSTART;TZID=UTC:20240620T140000
DTEND;TZID=UTC:20240620T170000
DTSTAMP:20260424T094530
CREATED:20240515T032658Z
LAST-MODIFIED:20240515T032658Z
UID:10001842-1718892000-1718902800@www.rockylakesgolf.com
SUMMARY:Guard League
DESCRIPTION:Tee Times
URL:https://www.rockylakesgolf.com/event/guard-league/2024-06-20/
END:VEVENT
BEGIN:VEVENT
DTSTART;TZID=America/New_York:20240620T170000
DTEND;TZID=America/New_York:20240620T200000
DTSTAMP:20260424T094530
CREATED:20240515T032803Z
LAST-MODIFIED:20240515T032803Z
UID:10002103-1718902800-1718913600@www.rockylakesgolf.com
SUMMARY:Average Joe's
DESCRIPTION:Tee Times
URL:https://www.rockylakesgolf.com/event/average-joes/2024-06-20/
END:VEVENT
END:VCALENDAR