BEGIN:VCALENDAR
VERSION:2.0
PRODID:-//Rocky Lakes Golf Course - ECPv6.15.18//NONSGML v1.0//EN
CALSCALE:GREGORIAN
METHOD:PUBLISH
X-WR-CALNAME:Rocky Lakes Golf Course
X-ORIGINAL-URL:https://www.rockylakesgolf.com
X-WR-CALDESC:Events for Rocky Lakes Golf Course
REFRESH-INTERVAL;VALUE=DURATION:PT1H
X-Robots-Tag:noindex
X-PUBLISHED-TTL:PT1H
BEGIN:VTIMEZONE
TZID:America/New_York
BEGIN:DAYLIGHT
TZOFFSETFROM:-0500
TZOFFSETTO:-0400
TZNAME:EDT
DTSTART:20230312T070000
END:DAYLIGHT
BEGIN:STANDARD
TZOFFSETFROM:-0400
TZOFFSETTO:-0500
TZNAME:EST
DTSTART:20231105T060000
END:STANDARD
BEGIN:DAYLIGHT
TZOFFSETFROM:-0500
TZOFFSETTO:-0400
TZNAME:EDT
DTSTART:20240310T070000
END:DAYLIGHT
BEGIN:STANDARD
TZOFFSETFROM:-0400
TZOFFSETTO:-0500
TZNAME:EST
DTSTART:20241103T060000
END:STANDARD
BEGIN:DAYLIGHT
TZOFFSETFROM:-0500
TZOFFSETTO:-0400
TZNAME:EDT
DTSTART:20250309T070000
END:DAYLIGHT
BEGIN:STANDARD
TZOFFSETFROM:-0400
TZOFFSETTO:-0500
TZNAME:EST
DTSTART:20251102T060000
END:STANDARD
END:VTIMEZONE
BEGIN:VTIMEZONE
TZID:UTC
BEGIN:STANDARD
TZOFFSETFROM:+0000
TZOFFSETTO:+0000
TZNAME:UTC
DTSTART:20230101T000000
END:STANDARD
END:VTIMEZONE
BEGIN:VEVENT
DTSTART;TZID=America/New_York:20241103T090000
DTEND;TZID=America/New_York:20241103T120000
DTSTAMP:20260422T045215
CREATED:20240515T032857Z
LAST-MODIFIED:20240515T032857Z
UID:10002383-1730624400-1730635200@www.rockylakesgolf.com
SUMMARY:Best Ball
DESCRIPTION:Tee Times
URL:https://www.rockylakesgolf.com/event/best-ball/2024-11-03/
END:VEVENT
BEGIN:VEVENT
DTSTART;TZID=America/New_York:20241104T140000
DTEND;TZID=America/New_York:20241104T160000
DTSTAMP:20260422T045215
CREATED:20240515T031308Z
LAST-MODIFIED:20240515T031806Z
UID:10000036-1730728800-1730736000@www.rockylakesgolf.com
SUMMARY:Brick Tap & Tavern
DESCRIPTION:Tee Times
URL:https://www.rockylakesgolf.com/event/brick-tap-tavern/2024-11-04/
END:VEVENT
BEGIN:VEVENT
DTSTART;TZID=America/New_York:20241105T160000
DTEND;TZID=America/New_York:20241105T170000
DTSTAMP:20260422T045215
CREATED:20240515T031624Z
LAST-MODIFIED:20240515T031624Z
UID:10000558-1730822400-1730826000@www.rockylakesgolf.com
SUMMARY:Hipps
DESCRIPTION:Tee Times
URL:https://www.rockylakesgolf.com/event/hipps/2024-11-05/
END:VEVENT
BEGIN:VEVENT
DTSTART;TZID=America/New_York:20241105T170000
DTEND;TZID=America/New_York:20241105T180000
DTSTAMP:20260422T045215
CREATED:20240515T031506Z
LAST-MODIFIED:20240516T075910Z
UID:10002644-1730826000-1730829600@www.rockylakesgolf.com
SUMMARY:Playmates
DESCRIPTION:Scramble Format
URL:https://www.rockylakesgolf.com/event/playmates/2024-11-05/
END:VEVENT
BEGIN:VEVENT
DTSTART;TZID=America/New_York:20241106T160000
DTEND;TZID=America/New_York:20241106T170000
DTSTAMP:20260422T045215
CREATED:20240515T032155Z
LAST-MODIFIED:20240515T032155Z
UID:10001079-1730908800-1730912400@www.rockylakesgolf.com
SUMMARY:Roger's League
DESCRIPTION:Scramble Format
URL:https://www.rockylakesgolf.com/event/rogers-league/2024-11-06/
END:VEVENT
BEGIN:VEVENT
DTSTART;TZID=America/New_York:20241106T170000
DTEND;TZID=America/New_York:20241106T180000
DTSTAMP:20260422T045215
CREATED:20240515T032501Z
LAST-MODIFIED:20240515T032501Z
UID:10001340-1730912400-1730916000@www.rockylakesgolf.com
SUMMARY:Spark League
DESCRIPTION:Tee Times
URL:https://www.rockylakesgolf.com/event/spark-league/2024-11-06/
END:VEVENT
BEGIN:VEVENT
DTSTART;TZID=America/New_York:20241107T100000
DTEND;TZID=America/New_York:20241107T130000
DTSTAMP:20260422T045215
CREATED:20240515T032621Z
LAST-MODIFIED:20240515T032621Z
UID:10001601-1730973600-1730984400@www.rockylakesgolf.com
SUMMARY:Kuna League
DESCRIPTION:Tee Times
URL:https://www.rockylakesgolf.com/event/kuna-league/2024-11-07/
END:VEVENT
BEGIN:VEVENT
DTSTART;TZID=UTC:20241107T140000
DTEND;TZID=UTC:20241107T170000
DTSTAMP:20260422T045215
CREATED:20240515T032658Z
LAST-MODIFIED:20240515T032658Z
UID:10001862-1730988000-1730998800@www.rockylakesgolf.com
SUMMARY:Guard League
DESCRIPTION:Tee Times
URL:https://www.rockylakesgolf.com/event/guard-league/2024-11-07/
END:VEVENT
BEGIN:VEVENT
DTSTART;TZID=America/New_York:20241107T170000
DTEND;TZID=America/New_York:20241107T200000
DTSTAMP:20260422T045215
CREATED:20240515T032803Z
LAST-MODIFIED:20240515T032803Z
UID:10002123-1730998800-1731009600@www.rockylakesgolf.com
SUMMARY:Average Joe's
DESCRIPTION:Tee Times
URL:https://www.rockylakesgolf.com/event/average-joes/2024-11-07/
END:VEVENT
BEGIN:VEVENT
DTSTART;TZID=America/New_York:20241110T090000
DTEND;TZID=America/New_York:20241110T120000
DTSTAMP:20260422T045215
CREATED:20240515T032857Z
LAST-MODIFIED:20240515T032857Z
UID:10002384-1731229200-1731240000@www.rockylakesgolf.com
SUMMARY:Best Ball
DESCRIPTION:Tee Times
URL:https://www.rockylakesgolf.com/event/best-ball/2024-11-10/
END:VEVENT
BEGIN:VEVENT
DTSTART;TZID=America/New_York:20241111T140000
DTEND;TZID=America/New_York:20241111T160000
DTSTAMP:20260422T045215
CREATED:20240515T031308Z
LAST-MODIFIED:20240515T031806Z
UID:10000037-1731333600-1731340800@www.rockylakesgolf.com
SUMMARY:Brick Tap & Tavern
DESCRIPTION:Tee Times
URL:https://www.rockylakesgolf.com/event/brick-tap-tavern/2024-11-11/
END:VEVENT
BEGIN:VEVENT
DTSTART;TZID=America/New_York:20241112T160000
DTEND;TZID=America/New_York:20241112T170000
DTSTAMP:20260422T045215
CREATED:20240515T031624Z
LAST-MODIFIED:20240515T031624Z
UID:10000559-1731427200-1731430800@www.rockylakesgolf.com
SUMMARY:Hipps
DESCRIPTION:Tee Times
URL:https://www.rockylakesgolf.com/event/hipps/2024-11-12/
END:VEVENT
BEGIN:VEVENT
DTSTART;TZID=America/New_York:20241112T170000
DTEND;TZID=America/New_York:20241112T180000
DTSTAMP:20260422T045215
CREATED:20240515T031506Z
LAST-MODIFIED:20240516T075910Z
UID:10002645-1731430800-1731434400@www.rockylakesgolf.com
SUMMARY:Playmates
DESCRIPTION:Scramble Format
URL:https://www.rockylakesgolf.com/event/playmates/2024-11-12/
END:VEVENT
BEGIN:VEVENT
DTSTART;TZID=America/New_York:20241113T160000
DTEND;TZID=America/New_York:20241113T170000
DTSTAMP:20260422T045215
CREATED:20240515T032155Z
LAST-MODIFIED:20240515T032155Z
UID:10001080-1731513600-1731517200@www.rockylakesgolf.com
SUMMARY:Roger's League
DESCRIPTION:Scramble Format
URL:https://www.rockylakesgolf.com/event/rogers-league/2024-11-13/
END:VEVENT
BEGIN:VEVENT
DTSTART;TZID=America/New_York:20241113T170000
DTEND;TZID=America/New_York:20241113T180000
DTSTAMP:20260422T045215
CREATED:20240515T032501Z
LAST-MODIFIED:20240515T032501Z
UID:10001341-1731517200-1731520800@www.rockylakesgolf.com
SUMMARY:Spark League
DESCRIPTION:Tee Times
URL:https://www.rockylakesgolf.com/event/spark-league/2024-11-13/
END:VEVENT
BEGIN:VEVENT
DTSTART;TZID=America/New_York:20241114T100000
DTEND;TZID=America/New_York:20241114T130000
DTSTAMP:20260422T045215
CREATED:20240515T032621Z
LAST-MODIFIED:20240515T032621Z
UID:10001602-1731578400-1731589200@www.rockylakesgolf.com
SUMMARY:Kuna League
DESCRIPTION:Tee Times
URL:https://www.rockylakesgolf.com/event/kuna-league/2024-11-14/
END:VEVENT
BEGIN:VEVENT
DTSTART;TZID=UTC:20241114T140000
DTEND;TZID=UTC:20241114T170000
DTSTAMP:20260422T045215
CREATED:20240515T032658Z
LAST-MODIFIED:20240515T032658Z
UID:10001863-1731592800-1731603600@www.rockylakesgolf.com
SUMMARY:Guard League
DESCRIPTION:Tee Times
URL:https://www.rockylakesgolf.com/event/guard-league/2024-11-14/
END:VEVENT
BEGIN:VEVENT
DTSTART;TZID=America/New_York:20241114T170000
DTEND;TZID=America/New_York:20241114T200000
DTSTAMP:20260422T045215
CREATED:20240515T032803Z
LAST-MODIFIED:20240515T032803Z
UID:10002124-1731603600-1731614400@www.rockylakesgolf.com
SUMMARY:Average Joe's
DESCRIPTION:Tee Times
URL:https://www.rockylakesgolf.com/event/average-joes/2024-11-14/
END:VEVENT
BEGIN:VEVENT
DTSTART;TZID=America/New_York:20241117T090000
DTEND;TZID=America/New_York:20241117T120000
DTSTAMP:20260422T045215
CREATED:20240515T032857Z
LAST-MODIFIED:20240515T032857Z
UID:10002385-1731834000-1731844800@www.rockylakesgolf.com
SUMMARY:Best Ball
DESCRIPTION:Tee Times
URL:https://www.rockylakesgolf.com/event/best-ball/2024-11-17/
END:VEVENT
BEGIN:VEVENT
DTSTART;TZID=America/New_York:20241118T140000
DTEND;TZID=America/New_York:20241118T160000
DTSTAMP:20260422T045215
CREATED:20240515T031308Z
LAST-MODIFIED:20240515T031806Z
UID:10000038-1731938400-1731945600@www.rockylakesgolf.com
SUMMARY:Brick Tap & Tavern
DESCRIPTION:Tee Times
URL:https://www.rockylakesgolf.com/event/brick-tap-tavern/2024-11-18/
END:VEVENT
BEGIN:VEVENT
DTSTART;TZID=America/New_York:20241119T160000
DTEND;TZID=America/New_York:20241119T170000
DTSTAMP:20260422T045215
CREATED:20240515T031624Z
LAST-MODIFIED:20240515T031624Z
UID:10000560-1732032000-1732035600@www.rockylakesgolf.com
SUMMARY:Hipps
DESCRIPTION:Tee Times
URL:https://www.rockylakesgolf.com/event/hipps/2024-11-19/
END:VEVENT
BEGIN:VEVENT
DTSTART;TZID=America/New_York:20241119T170000
DTEND;TZID=America/New_York:20241119T180000
DTSTAMP:20260422T045215
CREATED:20240515T031506Z
LAST-MODIFIED:20240516T075910Z
UID:10002646-1732035600-1732039200@www.rockylakesgolf.com
SUMMARY:Playmates
DESCRIPTION:Scramble Format
URL:https://www.rockylakesgolf.com/event/playmates/2024-11-19/
END:VEVENT
BEGIN:VEVENT
DTSTART;TZID=America/New_York:20241120T160000
DTEND;TZID=America/New_York:20241120T170000
DTSTAMP:20260422T045215
CREATED:20240515T032155Z
LAST-MODIFIED:20240515T032155Z
UID:10001081-1732118400-1732122000@www.rockylakesgolf.com
SUMMARY:Roger's League
DESCRIPTION:Scramble Format
URL:https://www.rockylakesgolf.com/event/rogers-league/2024-11-20/
END:VEVENT
BEGIN:VEVENT
DTSTART;TZID=America/New_York:20241120T170000
DTEND;TZID=America/New_York:20241120T180000
DTSTAMP:20260422T045215
CREATED:20240515T032501Z
LAST-MODIFIED:20240515T032501Z
UID:10001342-1732122000-1732125600@www.rockylakesgolf.com
SUMMARY:Spark League
DESCRIPTION:Tee Times
URL:https://www.rockylakesgolf.com/event/spark-league/2024-11-20/
END:VEVENT
BEGIN:VEVENT
DTSTART;TZID=America/New_York:20241121T100000
DTEND;TZID=America/New_York:20241121T130000
DTSTAMP:20260422T045215
CREATED:20240515T032621Z
LAST-MODIFIED:20240515T032621Z
UID:10001603-1732183200-1732194000@www.rockylakesgolf.com
SUMMARY:Kuna League
DESCRIPTION:Tee Times
URL:https://www.rockylakesgolf.com/event/kuna-league/2024-11-21/
END:VEVENT
BEGIN:VEVENT
DTSTART;TZID=UTC:20241121T140000
DTEND;TZID=UTC:20241121T170000
DTSTAMP:20260422T045215
CREATED:20240515T032658Z
LAST-MODIFIED:20240515T032658Z
UID:10001864-1732197600-1732208400@www.rockylakesgolf.com
SUMMARY:Guard League
DESCRIPTION:Tee Times
URL:https://www.rockylakesgolf.com/event/guard-league/2024-11-21/
END:VEVENT
BEGIN:VEVENT
DTSTART;TZID=America/New_York:20241121T170000
DTEND;TZID=America/New_York:20241121T200000
DTSTAMP:20260422T045215
CREATED:20240515T032803Z
LAST-MODIFIED:20240515T032803Z
UID:10002125-1732208400-1732219200@www.rockylakesgolf.com
SUMMARY:Average Joe's
DESCRIPTION:Tee Times
URL:https://www.rockylakesgolf.com/event/average-joes/2024-11-21/
END:VEVENT
BEGIN:VEVENT
DTSTART;TZID=America/New_York:20241124T090000
DTEND;TZID=America/New_York:20241124T120000
DTSTAMP:20260422T045215
CREATED:20240515T032857Z
LAST-MODIFIED:20240515T032857Z
UID:10002386-1732438800-1732449600@www.rockylakesgolf.com
SUMMARY:Best Ball
DESCRIPTION:Tee Times
URL:https://www.rockylakesgolf.com/event/best-ball/2024-11-24/
END:VEVENT
BEGIN:VEVENT
DTSTART;TZID=America/New_York:20241125T140000
DTEND;TZID=America/New_York:20241125T160000
DTSTAMP:20260422T045215
CREATED:20240515T031308Z
LAST-MODIFIED:20240515T031806Z
UID:10000039-1732543200-1732550400@www.rockylakesgolf.com
SUMMARY:Brick Tap & Tavern
DESCRIPTION:Tee Times
URL:https://www.rockylakesgolf.com/event/brick-tap-tavern/2024-11-25/
END:VEVENT
BEGIN:VEVENT
DTSTART;TZID=America/New_York:20241126T160000
DTEND;TZID=America/New_York:20241126T170000
DTSTAMP:20260422T045215
CREATED:20240515T031624Z
LAST-MODIFIED:20240515T031624Z
UID:10000561-1732636800-1732640400@www.rockylakesgolf.com
SUMMARY:Hipps
DESCRIPTION:Tee Times
URL:https://www.rockylakesgolf.com/event/hipps/2024-11-26/
END:VEVENT
END:VCALENDAR