BEGIN:VCALENDAR
VERSION:2.0
PRODID:-//Rocky Lakes Golf Course - ECPv6.15.18//NONSGML v1.0//EN
CALSCALE:GREGORIAN
METHOD:PUBLISH
X-WR-CALNAME:Rocky Lakes Golf Course
X-ORIGINAL-URL:https://www.rockylakesgolf.com
X-WR-CALDESC:Events for Rocky Lakes Golf Course
REFRESH-INTERVAL;VALUE=DURATION:PT1H
X-Robots-Tag:noindex
X-PUBLISHED-TTL:PT1H
BEGIN:VTIMEZONE
TZID:America/New_York
BEGIN:DAYLIGHT
TZOFFSETFROM:-0500
TZOFFSETTO:-0400
TZNAME:EDT
DTSTART:20230312T070000
END:DAYLIGHT
BEGIN:STANDARD
TZOFFSETFROM:-0400
TZOFFSETTO:-0500
TZNAME:EST
DTSTART:20231105T060000
END:STANDARD
BEGIN:DAYLIGHT
TZOFFSETFROM:-0500
TZOFFSETTO:-0400
TZNAME:EDT
DTSTART:20240310T070000
END:DAYLIGHT
BEGIN:STANDARD
TZOFFSETFROM:-0400
TZOFFSETTO:-0500
TZNAME:EST
DTSTART:20241103T060000
END:STANDARD
BEGIN:DAYLIGHT
TZOFFSETFROM:-0500
TZOFFSETTO:-0400
TZNAME:EDT
DTSTART:20250309T070000
END:DAYLIGHT
BEGIN:STANDARD
TZOFFSETFROM:-0400
TZOFFSETTO:-0500
TZNAME:EST
DTSTART:20251102T060000
END:STANDARD
END:VTIMEZONE
BEGIN:VTIMEZONE
TZID:UTC
BEGIN:STANDARD
TZOFFSETFROM:+0000
TZOFFSETTO:+0000
TZNAME:UTC
DTSTART:20230101T000000
END:STANDARD
END:VTIMEZONE
BEGIN:VEVENT
DTSTART;TZID=America/New_York:20241201T090000
DTEND;TZID=America/New_York:20241201T120000
DTSTAMP:20260422T010907
CREATED:20240515T032857Z
LAST-MODIFIED:20240515T032857Z
UID:10002387-1733043600-1733054400@www.rockylakesgolf.com
SUMMARY:Best Ball
DESCRIPTION:Tee Times
URL:https://www.rockylakesgolf.com/event/best-ball/2024-12-01/
END:VEVENT
BEGIN:VEVENT
DTSTART;TZID=America/New_York:20241202T140000
DTEND;TZID=America/New_York:20241202T160000
DTSTAMP:20260422T010907
CREATED:20240515T031308Z
LAST-MODIFIED:20240515T031806Z
UID:10000040-1733148000-1733155200@www.rockylakesgolf.com
SUMMARY:Brick Tap & Tavern
DESCRIPTION:Tee Times
URL:https://www.rockylakesgolf.com/event/brick-tap-tavern/2024-12-02/
END:VEVENT
BEGIN:VEVENT
DTSTART;TZID=America/New_York:20241203T160000
DTEND;TZID=America/New_York:20241203T170000
DTSTAMP:20260422T010907
CREATED:20240515T031624Z
LAST-MODIFIED:20240515T031624Z
UID:10000562-1733241600-1733245200@www.rockylakesgolf.com
SUMMARY:Hipps
DESCRIPTION:Tee Times
URL:https://www.rockylakesgolf.com/event/hipps/2024-12-03/
END:VEVENT
BEGIN:VEVENT
DTSTART;TZID=America/New_York:20241203T170000
DTEND;TZID=America/New_York:20241203T180000
DTSTAMP:20260422T010907
CREATED:20240515T031506Z
LAST-MODIFIED:20240516T075910Z
UID:10002648-1733245200-1733248800@www.rockylakesgolf.com
SUMMARY:Playmates
DESCRIPTION:Scramble Format
URL:https://www.rockylakesgolf.com/event/playmates/2024-12-03/
END:VEVENT
BEGIN:VEVENT
DTSTART;TZID=America/New_York:20241204T160000
DTEND;TZID=America/New_York:20241204T170000
DTSTAMP:20260422T010907
CREATED:20240515T032155Z
LAST-MODIFIED:20240515T032155Z
UID:10001083-1733328000-1733331600@www.rockylakesgolf.com
SUMMARY:Roger's League
DESCRIPTION:Scramble Format
URL:https://www.rockylakesgolf.com/event/rogers-league/2024-12-04/
END:VEVENT
BEGIN:VEVENT
DTSTART;TZID=America/New_York:20241204T170000
DTEND;TZID=America/New_York:20241204T180000
DTSTAMP:20260422T010907
CREATED:20240515T032501Z
LAST-MODIFIED:20240515T032501Z
UID:10001344-1733331600-1733335200@www.rockylakesgolf.com
SUMMARY:Spark League
DESCRIPTION:Tee Times
URL:https://www.rockylakesgolf.com/event/spark-league/2024-12-04/
END:VEVENT
BEGIN:VEVENT
DTSTART;TZID=America/New_York:20241205T100000
DTEND;TZID=America/New_York:20241205T130000
DTSTAMP:20260422T010907
CREATED:20240515T032621Z
LAST-MODIFIED:20240515T032621Z
UID:10001605-1733392800-1733403600@www.rockylakesgolf.com
SUMMARY:Kuna League
DESCRIPTION:Tee Times
URL:https://www.rockylakesgolf.com/event/kuna-league/2024-12-05/
END:VEVENT
BEGIN:VEVENT
DTSTART;TZID=UTC:20241205T140000
DTEND;TZID=UTC:20241205T170000
DTSTAMP:20260422T010907
CREATED:20240515T032658Z
LAST-MODIFIED:20240515T032658Z
UID:10001866-1733407200-1733418000@www.rockylakesgolf.com
SUMMARY:Guard League
DESCRIPTION:Tee Times
URL:https://www.rockylakesgolf.com/event/guard-league/2024-12-05/
END:VEVENT
BEGIN:VEVENT
DTSTART;TZID=America/New_York:20241205T170000
DTEND;TZID=America/New_York:20241205T200000
DTSTAMP:20260422T010907
CREATED:20240515T032803Z
LAST-MODIFIED:20240515T032803Z
UID:10002127-1733418000-1733428800@www.rockylakesgolf.com
SUMMARY:Average Joe's
DESCRIPTION:Tee Times
URL:https://www.rockylakesgolf.com/event/average-joes/2024-12-05/
END:VEVENT
BEGIN:VEVENT
DTSTART;TZID=America/New_York:20241208T090000
DTEND;TZID=America/New_York:20241208T120000
DTSTAMP:20260422T010907
CREATED:20240515T032857Z
LAST-MODIFIED:20240515T032857Z
UID:10002388-1733648400-1733659200@www.rockylakesgolf.com
SUMMARY:Best Ball
DESCRIPTION:Tee Times
URL:https://www.rockylakesgolf.com/event/best-ball/2024-12-08/
END:VEVENT
BEGIN:VEVENT
DTSTART;TZID=America/New_York:20241209T140000
DTEND;TZID=America/New_York:20241209T160000
DTSTAMP:20260422T010907
CREATED:20240515T031308Z
LAST-MODIFIED:20240515T031806Z
UID:10000041-1733752800-1733760000@www.rockylakesgolf.com
SUMMARY:Brick Tap & Tavern
DESCRIPTION:Tee Times
URL:https://www.rockylakesgolf.com/event/brick-tap-tavern/2024-12-09/
END:VEVENT
BEGIN:VEVENT
DTSTART;TZID=America/New_York:20241210T160000
DTEND;TZID=America/New_York:20241210T170000
DTSTAMP:20260422T010907
CREATED:20240515T031624Z
LAST-MODIFIED:20240515T031624Z
UID:10000563-1733846400-1733850000@www.rockylakesgolf.com
SUMMARY:Hipps
DESCRIPTION:Tee Times
URL:https://www.rockylakesgolf.com/event/hipps/2024-12-10/
END:VEVENT
BEGIN:VEVENT
DTSTART;TZID=America/New_York:20241210T170000
DTEND;TZID=America/New_York:20241210T180000
DTSTAMP:20260422T010907
CREATED:20240515T031506Z
LAST-MODIFIED:20240516T075910Z
UID:10002649-1733850000-1733853600@www.rockylakesgolf.com
SUMMARY:Playmates
DESCRIPTION:Scramble Format
URL:https://www.rockylakesgolf.com/event/playmates/2024-12-10/
END:VEVENT
BEGIN:VEVENT
DTSTART;TZID=America/New_York:20241211T160000
DTEND;TZID=America/New_York:20241211T170000
DTSTAMP:20260422T010907
CREATED:20240515T032155Z
LAST-MODIFIED:20240515T032155Z
UID:10001084-1733932800-1733936400@www.rockylakesgolf.com
SUMMARY:Roger's League
DESCRIPTION:Scramble Format
URL:https://www.rockylakesgolf.com/event/rogers-league/2024-12-11/
END:VEVENT
BEGIN:VEVENT
DTSTART;TZID=America/New_York:20241211T170000
DTEND;TZID=America/New_York:20241211T180000
DTSTAMP:20260422T010907
CREATED:20240515T032501Z
LAST-MODIFIED:20240515T032501Z
UID:10001345-1733936400-1733940000@www.rockylakesgolf.com
SUMMARY:Spark League
DESCRIPTION:Tee Times
URL:https://www.rockylakesgolf.com/event/spark-league/2024-12-11/
END:VEVENT
BEGIN:VEVENT
DTSTART;TZID=America/New_York:20241212T100000
DTEND;TZID=America/New_York:20241212T130000
DTSTAMP:20260422T010907
CREATED:20240515T032621Z
LAST-MODIFIED:20240515T032621Z
UID:10001606-1733997600-1734008400@www.rockylakesgolf.com
SUMMARY:Kuna League
DESCRIPTION:Tee Times
URL:https://www.rockylakesgolf.com/event/kuna-league/2024-12-12/
END:VEVENT
BEGIN:VEVENT
DTSTART;TZID=UTC:20241212T140000
DTEND;TZID=UTC:20241212T170000
DTSTAMP:20260422T010907
CREATED:20240515T032658Z
LAST-MODIFIED:20240515T032658Z
UID:10001867-1734012000-1734022800@www.rockylakesgolf.com
SUMMARY:Guard League
DESCRIPTION:Tee Times
URL:https://www.rockylakesgolf.com/event/guard-league/2024-12-12/
END:VEVENT
BEGIN:VEVENT
DTSTART;TZID=America/New_York:20241212T170000
DTEND;TZID=America/New_York:20241212T200000
DTSTAMP:20260422T010907
CREATED:20240515T032803Z
LAST-MODIFIED:20240515T032803Z
UID:10002128-1734022800-1734033600@www.rockylakesgolf.com
SUMMARY:Average Joe's
DESCRIPTION:Tee Times
URL:https://www.rockylakesgolf.com/event/average-joes/2024-12-12/
END:VEVENT
BEGIN:VEVENT
DTSTART;TZID=America/New_York:20241215T090000
DTEND;TZID=America/New_York:20241215T120000
DTSTAMP:20260422T010907
CREATED:20240515T032857Z
LAST-MODIFIED:20240515T032857Z
UID:10002389-1734253200-1734264000@www.rockylakesgolf.com
SUMMARY:Best Ball
DESCRIPTION:Tee Times
URL:https://www.rockylakesgolf.com/event/best-ball/2024-12-15/
END:VEVENT
BEGIN:VEVENT
DTSTART;TZID=America/New_York:20241216T140000
DTEND;TZID=America/New_York:20241216T160000
DTSTAMP:20260422T010907
CREATED:20240515T031308Z
LAST-MODIFIED:20240515T031806Z
UID:10000042-1734357600-1734364800@www.rockylakesgolf.com
SUMMARY:Brick Tap & Tavern
DESCRIPTION:Tee Times
URL:https://www.rockylakesgolf.com/event/brick-tap-tavern/2024-12-16/
END:VEVENT
BEGIN:VEVENT
DTSTART;TZID=America/New_York:20241217T160000
DTEND;TZID=America/New_York:20241217T170000
DTSTAMP:20260422T010907
CREATED:20240515T031624Z
LAST-MODIFIED:20240515T031624Z
UID:10000564-1734451200-1734454800@www.rockylakesgolf.com
SUMMARY:Hipps
DESCRIPTION:Tee Times
URL:https://www.rockylakesgolf.com/event/hipps/2024-12-17/
END:VEVENT
BEGIN:VEVENT
DTSTART;TZID=America/New_York:20241217T170000
DTEND;TZID=America/New_York:20241217T180000
DTSTAMP:20260422T010907
CREATED:20240515T031506Z
LAST-MODIFIED:20240516T075910Z
UID:10002650-1734454800-1734458400@www.rockylakesgolf.com
SUMMARY:Playmates
DESCRIPTION:Scramble Format
URL:https://www.rockylakesgolf.com/event/playmates/2024-12-17/
END:VEVENT
BEGIN:VEVENT
DTSTART;TZID=America/New_York:20241218T160000
DTEND;TZID=America/New_York:20241218T170000
DTSTAMP:20260422T010907
CREATED:20240515T032155Z
LAST-MODIFIED:20240515T032155Z
UID:10001085-1734537600-1734541200@www.rockylakesgolf.com
SUMMARY:Roger's League
DESCRIPTION:Scramble Format
URL:https://www.rockylakesgolf.com/event/rogers-league/2024-12-18/
END:VEVENT
BEGIN:VEVENT
DTSTART;TZID=America/New_York:20241218T170000
DTEND;TZID=America/New_York:20241218T180000
DTSTAMP:20260422T010907
CREATED:20240515T032501Z
LAST-MODIFIED:20240515T032501Z
UID:10001346-1734541200-1734544800@www.rockylakesgolf.com
SUMMARY:Spark League
DESCRIPTION:Tee Times
URL:https://www.rockylakesgolf.com/event/spark-league/2024-12-18/
END:VEVENT
BEGIN:VEVENT
DTSTART;TZID=America/New_York:20241219T100000
DTEND;TZID=America/New_York:20241219T130000
DTSTAMP:20260422T010907
CREATED:20240515T032621Z
LAST-MODIFIED:20240515T032621Z
UID:10001607-1734602400-1734613200@www.rockylakesgolf.com
SUMMARY:Kuna League
DESCRIPTION:Tee Times
URL:https://www.rockylakesgolf.com/event/kuna-league/2024-12-19/
END:VEVENT
BEGIN:VEVENT
DTSTART;TZID=UTC:20241219T140000
DTEND;TZID=UTC:20241219T170000
DTSTAMP:20260422T010907
CREATED:20240515T032658Z
LAST-MODIFIED:20240515T032658Z
UID:10001868-1734616800-1734627600@www.rockylakesgolf.com
SUMMARY:Guard League
DESCRIPTION:Tee Times
URL:https://www.rockylakesgolf.com/event/guard-league/2024-12-19/
END:VEVENT
BEGIN:VEVENT
DTSTART;TZID=America/New_York:20241219T170000
DTEND;TZID=America/New_York:20241219T200000
DTSTAMP:20260422T010907
CREATED:20240515T032803Z
LAST-MODIFIED:20240515T032803Z
UID:10002129-1734627600-1734638400@www.rockylakesgolf.com
SUMMARY:Average Joe's
DESCRIPTION:Tee Times
URL:https://www.rockylakesgolf.com/event/average-joes/2024-12-19/
END:VEVENT
BEGIN:VEVENT
DTSTART;TZID=America/New_York:20241222T090000
DTEND;TZID=America/New_York:20241222T120000
DTSTAMP:20260422T010907
CREATED:20240515T032857Z
LAST-MODIFIED:20240515T032857Z
UID:10002390-1734858000-1734868800@www.rockylakesgolf.com
SUMMARY:Best Ball
DESCRIPTION:Tee Times
URL:https://www.rockylakesgolf.com/event/best-ball/2024-12-22/
END:VEVENT
BEGIN:VEVENT
DTSTART;TZID=America/New_York:20241223T140000
DTEND;TZID=America/New_York:20241223T160000
DTSTAMP:20260422T010907
CREATED:20240515T031308Z
LAST-MODIFIED:20240515T031806Z
UID:10000043-1734962400-1734969600@www.rockylakesgolf.com
SUMMARY:Brick Tap & Tavern
DESCRIPTION:Tee Times
URL:https://www.rockylakesgolf.com/event/brick-tap-tavern/2024-12-23/
END:VEVENT
BEGIN:VEVENT
DTSTART;TZID=America/New_York:20241224T160000
DTEND;TZID=America/New_York:20241224T170000
DTSTAMP:20260422T010907
CREATED:20240515T031624Z
LAST-MODIFIED:20240515T031624Z
UID:10000565-1735056000-1735059600@www.rockylakesgolf.com
SUMMARY:Hipps
DESCRIPTION:Tee Times
URL:https://www.rockylakesgolf.com/event/hipps/2024-12-24/
END:VEVENT
END:VCALENDAR