BEGIN:VCALENDAR
VERSION:2.0
PRODID:-//Rocky Lakes Golf Course - ECPv6.15.18//NONSGML v1.0//EN
CALSCALE:GREGORIAN
METHOD:PUBLISH
X-WR-CALNAME:Rocky Lakes Golf Course
X-ORIGINAL-URL:https://www.rockylakesgolf.com
X-WR-CALDESC:Events for Rocky Lakes Golf Course
REFRESH-INTERVAL;VALUE=DURATION:PT1H
X-Robots-Tag:noindex
X-PUBLISHED-TTL:PT1H
BEGIN:VTIMEZONE
TZID:America/New_York
BEGIN:DAYLIGHT
TZOFFSETFROM:-0500
TZOFFSETTO:-0400
TZNAME:EDT
DTSTART:20240310T070000
END:DAYLIGHT
BEGIN:STANDARD
TZOFFSETFROM:-0400
TZOFFSETTO:-0500
TZNAME:EST
DTSTART:20241103T060000
END:STANDARD
BEGIN:DAYLIGHT
TZOFFSETFROM:-0500
TZOFFSETTO:-0400
TZNAME:EDT
DTSTART:20250309T070000
END:DAYLIGHT
BEGIN:STANDARD
TZOFFSETFROM:-0400
TZOFFSETTO:-0500
TZNAME:EST
DTSTART:20251102T060000
END:STANDARD
BEGIN:DAYLIGHT
TZOFFSETFROM:-0500
TZOFFSETTO:-0400
TZNAME:EDT
DTSTART:20260308T070000
END:DAYLIGHT
BEGIN:STANDARD
TZOFFSETFROM:-0400
TZOFFSETTO:-0500
TZNAME:EST
DTSTART:20261101T060000
END:STANDARD
END:VTIMEZONE
BEGIN:VTIMEZONE
TZID:UTC
BEGIN:STANDARD
TZOFFSETFROM:+0000
TZOFFSETTO:+0000
TZNAME:UTC
DTSTART:20240101T000000
END:STANDARD
END:VTIMEZONE
BEGIN:VEVENT
DTSTART;TZID=America/New_York:20250101T160000
DTEND;TZID=America/New_York:20250101T170000
DTSTAMP:20260421T233654
CREATED:20240515T032155Z
LAST-MODIFIED:20240515T032155Z
UID:10001087-1735747200-1735750800@www.rockylakesgolf.com
SUMMARY:Roger's League
DESCRIPTION:Scramble Format
URL:https://www.rockylakesgolf.com/event/rogers-league/2025-01-01/
END:VEVENT
BEGIN:VEVENT
DTSTART;TZID=America/New_York:20250101T170000
DTEND;TZID=America/New_York:20250101T180000
DTSTAMP:20260421T233654
CREATED:20240515T032501Z
LAST-MODIFIED:20240515T032501Z
UID:10001348-1735750800-1735754400@www.rockylakesgolf.com
SUMMARY:Spark League
DESCRIPTION:Tee Times
URL:https://www.rockylakesgolf.com/event/spark-league/2025-01-01/
END:VEVENT
BEGIN:VEVENT
DTSTART;TZID=America/New_York:20250102T100000
DTEND;TZID=America/New_York:20250102T130000
DTSTAMP:20260421T233654
CREATED:20240515T032621Z
LAST-MODIFIED:20240515T032621Z
UID:10001609-1735812000-1735822800@www.rockylakesgolf.com
SUMMARY:Kuna League
DESCRIPTION:Tee Times
URL:https://www.rockylakesgolf.com/event/kuna-league/2025-01-02/
END:VEVENT
BEGIN:VEVENT
DTSTART;TZID=UTC:20250102T140000
DTEND;TZID=UTC:20250102T170000
DTSTAMP:20260421T233654
CREATED:20240515T032658Z
LAST-MODIFIED:20240515T032658Z
UID:10001870-1735826400-1735837200@www.rockylakesgolf.com
SUMMARY:Guard League
DESCRIPTION:Tee Times
URL:https://www.rockylakesgolf.com/event/guard-league/2025-01-02/
END:VEVENT
BEGIN:VEVENT
DTSTART;TZID=America/New_York:20250102T170000
DTEND;TZID=America/New_York:20250102T200000
DTSTAMP:20260421T233654
CREATED:20240515T032803Z
LAST-MODIFIED:20240515T032803Z
UID:10002131-1735837200-1735848000@www.rockylakesgolf.com
SUMMARY:Average Joe's
DESCRIPTION:Tee Times
URL:https://www.rockylakesgolf.com/event/average-joes/2025-01-02/
END:VEVENT
BEGIN:VEVENT
DTSTART;TZID=America/New_York:20250105T090000
DTEND;TZID=America/New_York:20250105T120000
DTSTAMP:20260421T233654
CREATED:20240515T032857Z
LAST-MODIFIED:20240515T032857Z
UID:10002392-1736067600-1736078400@www.rockylakesgolf.com
SUMMARY:Best Ball
DESCRIPTION:Tee Times
URL:https://www.rockylakesgolf.com/event/best-ball/2025-01-05/
END:VEVENT
BEGIN:VEVENT
DTSTART;TZID=America/New_York:20250106T140000
DTEND;TZID=America/New_York:20250106T160000
DTSTAMP:20260421T233654
CREATED:20240515T031308Z
LAST-MODIFIED:20240515T031806Z
UID:10000045-1736172000-1736179200@www.rockylakesgolf.com
SUMMARY:Brick Tap & Tavern
DESCRIPTION:Tee Times
URL:https://www.rockylakesgolf.com/event/brick-tap-tavern/2025-01-06/
END:VEVENT
BEGIN:VEVENT
DTSTART;TZID=America/New_York:20250107T160000
DTEND;TZID=America/New_York:20250107T170000
DTSTAMP:20260421T233654
CREATED:20240515T031624Z
LAST-MODIFIED:20240515T031624Z
UID:10000567-1736265600-1736269200@www.rockylakesgolf.com
SUMMARY:Hipps
DESCRIPTION:Tee Times
URL:https://www.rockylakesgolf.com/event/hipps/2025-01-07/
END:VEVENT
BEGIN:VEVENT
DTSTART;TZID=America/New_York:20250107T170000
DTEND;TZID=America/New_York:20250107T180000
DTSTAMP:20260421T233654
CREATED:20240515T031506Z
LAST-MODIFIED:20240516T075910Z
UID:10002653-1736269200-1736272800@www.rockylakesgolf.com
SUMMARY:Playmates
DESCRIPTION:Scramble Format
URL:https://www.rockylakesgolf.com/event/playmates/2025-01-07/
END:VEVENT
BEGIN:VEVENT
DTSTART;TZID=America/New_York:20250108T160000
DTEND;TZID=America/New_York:20250108T170000
DTSTAMP:20260421T233654
CREATED:20240515T032155Z
LAST-MODIFIED:20240515T032155Z
UID:10001088-1736352000-1736355600@www.rockylakesgolf.com
SUMMARY:Roger's League
DESCRIPTION:Scramble Format
URL:https://www.rockylakesgolf.com/event/rogers-league/2025-01-08/
END:VEVENT
BEGIN:VEVENT
DTSTART;TZID=America/New_York:20250108T170000
DTEND;TZID=America/New_York:20250108T180000
DTSTAMP:20260421T233654
CREATED:20240515T032501Z
LAST-MODIFIED:20240515T032501Z
UID:10001349-1736355600-1736359200@www.rockylakesgolf.com
SUMMARY:Spark League
DESCRIPTION:Tee Times
URL:https://www.rockylakesgolf.com/event/spark-league/2025-01-08/
END:VEVENT
BEGIN:VEVENT
DTSTART;TZID=America/New_York:20250109T100000
DTEND;TZID=America/New_York:20250109T130000
DTSTAMP:20260421T233654
CREATED:20240515T032621Z
LAST-MODIFIED:20240515T032621Z
UID:10001610-1736416800-1736427600@www.rockylakesgolf.com
SUMMARY:Kuna League
DESCRIPTION:Tee Times
URL:https://www.rockylakesgolf.com/event/kuna-league/2025-01-09/
END:VEVENT
BEGIN:VEVENT
DTSTART;TZID=UTC:20250109T140000
DTEND;TZID=UTC:20250109T170000
DTSTAMP:20260421T233654
CREATED:20240515T032658Z
LAST-MODIFIED:20240515T032658Z
UID:10001871-1736431200-1736442000@www.rockylakesgolf.com
SUMMARY:Guard League
DESCRIPTION:Tee Times
URL:https://www.rockylakesgolf.com/event/guard-league/2025-01-09/
END:VEVENT
BEGIN:VEVENT
DTSTART;TZID=America/New_York:20250109T170000
DTEND;TZID=America/New_York:20250109T200000
DTSTAMP:20260421T233654
CREATED:20240515T032803Z
LAST-MODIFIED:20240515T032803Z
UID:10002132-1736442000-1736452800@www.rockylakesgolf.com
SUMMARY:Average Joe's
DESCRIPTION:Tee Times
URL:https://www.rockylakesgolf.com/event/average-joes/2025-01-09/
END:VEVENT
BEGIN:VEVENT
DTSTART;TZID=America/New_York:20250112T090000
DTEND;TZID=America/New_York:20250112T120000
DTSTAMP:20260421T233654
CREATED:20240515T032857Z
LAST-MODIFIED:20240515T032857Z
UID:10002393-1736672400-1736683200@www.rockylakesgolf.com
SUMMARY:Best Ball
DESCRIPTION:Tee Times
URL:https://www.rockylakesgolf.com/event/best-ball/2025-01-12/
END:VEVENT
BEGIN:VEVENT
DTSTART;TZID=America/New_York:20250113T140000
DTEND;TZID=America/New_York:20250113T160000
DTSTAMP:20260421T233654
CREATED:20240515T031308Z
LAST-MODIFIED:20240515T031806Z
UID:10000046-1736776800-1736784000@www.rockylakesgolf.com
SUMMARY:Brick Tap & Tavern
DESCRIPTION:Tee Times
URL:https://www.rockylakesgolf.com/event/brick-tap-tavern/2025-01-13/
END:VEVENT
BEGIN:VEVENT
DTSTART;TZID=America/New_York:20250114T160000
DTEND;TZID=America/New_York:20250114T170000
DTSTAMP:20260421T233654
CREATED:20240515T031624Z
LAST-MODIFIED:20240515T031624Z
UID:10000568-1736870400-1736874000@www.rockylakesgolf.com
SUMMARY:Hipps
DESCRIPTION:Tee Times
URL:https://www.rockylakesgolf.com/event/hipps/2025-01-14/
END:VEVENT
BEGIN:VEVENT
DTSTART;TZID=America/New_York:20250114T170000
DTEND;TZID=America/New_York:20250114T180000
DTSTAMP:20260421T233654
CREATED:20240515T031506Z
LAST-MODIFIED:20240516T075910Z
UID:10002654-1736874000-1736877600@www.rockylakesgolf.com
SUMMARY:Playmates
DESCRIPTION:Scramble Format
URL:https://www.rockylakesgolf.com/event/playmates/2025-01-14/
END:VEVENT
BEGIN:VEVENT
DTSTART;TZID=America/New_York:20250115T160000
DTEND;TZID=America/New_York:20250115T170000
DTSTAMP:20260421T233654
CREATED:20240515T032155Z
LAST-MODIFIED:20240515T032155Z
UID:10001089-1736956800-1736960400@www.rockylakesgolf.com
SUMMARY:Roger's League
DESCRIPTION:Scramble Format
URL:https://www.rockylakesgolf.com/event/rogers-league/2025-01-15/
END:VEVENT
BEGIN:VEVENT
DTSTART;TZID=America/New_York:20250115T170000
DTEND;TZID=America/New_York:20250115T180000
DTSTAMP:20260421T233654
CREATED:20240515T032501Z
LAST-MODIFIED:20240515T032501Z
UID:10001350-1736960400-1736964000@www.rockylakesgolf.com
SUMMARY:Spark League
DESCRIPTION:Tee Times
URL:https://www.rockylakesgolf.com/event/spark-league/2025-01-15/
END:VEVENT
BEGIN:VEVENT
DTSTART;TZID=America/New_York:20250116T100000
DTEND;TZID=America/New_York:20250116T130000
DTSTAMP:20260421T233654
CREATED:20240515T032621Z
LAST-MODIFIED:20240515T032621Z
UID:10001611-1737021600-1737032400@www.rockylakesgolf.com
SUMMARY:Kuna League
DESCRIPTION:Tee Times
URL:https://www.rockylakesgolf.com/event/kuna-league/2025-01-16/
END:VEVENT
BEGIN:VEVENT
DTSTART;TZID=UTC:20250116T140000
DTEND;TZID=UTC:20250116T170000
DTSTAMP:20260421T233654
CREATED:20240515T032658Z
LAST-MODIFIED:20240515T032658Z
UID:10001872-1737036000-1737046800@www.rockylakesgolf.com
SUMMARY:Guard League
DESCRIPTION:Tee Times
URL:https://www.rockylakesgolf.com/event/guard-league/2025-01-16/
END:VEVENT
BEGIN:VEVENT
DTSTART;TZID=America/New_York:20250116T170000
DTEND;TZID=America/New_York:20250116T200000
DTSTAMP:20260421T233654
CREATED:20240515T032803Z
LAST-MODIFIED:20240515T032803Z
UID:10002133-1737046800-1737057600@www.rockylakesgolf.com
SUMMARY:Average Joe's
DESCRIPTION:Tee Times
URL:https://www.rockylakesgolf.com/event/average-joes/2025-01-16/
END:VEVENT
BEGIN:VEVENT
DTSTART;TZID=America/New_York:20250119T090000
DTEND;TZID=America/New_York:20250119T120000
DTSTAMP:20260421T233654
CREATED:20240515T032857Z
LAST-MODIFIED:20240515T032857Z
UID:10002394-1737277200-1737288000@www.rockylakesgolf.com
SUMMARY:Best Ball
DESCRIPTION:Tee Times
URL:https://www.rockylakesgolf.com/event/best-ball/2025-01-19/
END:VEVENT
BEGIN:VEVENT
DTSTART;TZID=America/New_York:20250120T140000
DTEND;TZID=America/New_York:20250120T160000
DTSTAMP:20260421T233654
CREATED:20240515T031308Z
LAST-MODIFIED:20240515T031806Z
UID:10000047-1737381600-1737388800@www.rockylakesgolf.com
SUMMARY:Brick Tap & Tavern
DESCRIPTION:Tee Times
URL:https://www.rockylakesgolf.com/event/brick-tap-tavern/2025-01-20/
END:VEVENT
BEGIN:VEVENT
DTSTART;TZID=America/New_York:20250121T160000
DTEND;TZID=America/New_York:20250121T170000
DTSTAMP:20260421T233654
CREATED:20240515T031624Z
LAST-MODIFIED:20240515T031624Z
UID:10000569-1737475200-1737478800@www.rockylakesgolf.com
SUMMARY:Hipps
DESCRIPTION:Tee Times
URL:https://www.rockylakesgolf.com/event/hipps/2025-01-21/
END:VEVENT
BEGIN:VEVENT
DTSTART;TZID=America/New_York:20250121T170000
DTEND;TZID=America/New_York:20250121T180000
DTSTAMP:20260421T233654
CREATED:20240515T031506Z
LAST-MODIFIED:20240516T075910Z
UID:10002655-1737478800-1737482400@www.rockylakesgolf.com
SUMMARY:Playmates
DESCRIPTION:Scramble Format
URL:https://www.rockylakesgolf.com/event/playmates/2025-01-21/
END:VEVENT
BEGIN:VEVENT
DTSTART;TZID=America/New_York:20250122T160000
DTEND;TZID=America/New_York:20250122T170000
DTSTAMP:20260421T233654
CREATED:20240515T032155Z
LAST-MODIFIED:20240515T032155Z
UID:10001090-1737561600-1737565200@www.rockylakesgolf.com
SUMMARY:Roger's League
DESCRIPTION:Scramble Format
URL:https://www.rockylakesgolf.com/event/rogers-league/2025-01-22/
END:VEVENT
BEGIN:VEVENT
DTSTART;TZID=America/New_York:20250122T170000
DTEND;TZID=America/New_York:20250122T180000
DTSTAMP:20260421T233654
CREATED:20240515T032501Z
LAST-MODIFIED:20240515T032501Z
UID:10001351-1737565200-1737568800@www.rockylakesgolf.com
SUMMARY:Spark League
DESCRIPTION:Tee Times
URL:https://www.rockylakesgolf.com/event/spark-league/2025-01-22/
END:VEVENT
BEGIN:VEVENT
DTSTART;TZID=America/New_York:20250123T100000
DTEND;TZID=America/New_York:20250123T130000
DTSTAMP:20260421T233654
CREATED:20240515T032621Z
LAST-MODIFIED:20240515T032621Z
UID:10001612-1737626400-1737637200@www.rockylakesgolf.com
SUMMARY:Kuna League
DESCRIPTION:Tee Times
URL:https://www.rockylakesgolf.com/event/kuna-league/2025-01-23/
END:VEVENT
END:VCALENDAR