BEGIN:VCALENDAR
VERSION:2.0
PRODID:-//Rocky Lakes Golf Course - ECPv6.15.18//NONSGML v1.0//EN
CALSCALE:GREGORIAN
METHOD:PUBLISH
X-WR-CALNAME:Rocky Lakes Golf Course
X-ORIGINAL-URL:https://www.rockylakesgolf.com
X-WR-CALDESC:Events for Rocky Lakes Golf Course
REFRESH-INTERVAL;VALUE=DURATION:PT1H
X-Robots-Tag:noindex
X-PUBLISHED-TTL:PT1H
BEGIN:VTIMEZONE
TZID:America/New_York
BEGIN:DAYLIGHT
TZOFFSETFROM:-0500
TZOFFSETTO:-0400
TZNAME:EDT
DTSTART:20240310T070000
END:DAYLIGHT
BEGIN:STANDARD
TZOFFSETFROM:-0400
TZOFFSETTO:-0500
TZNAME:EST
DTSTART:20241103T060000
END:STANDARD
BEGIN:DAYLIGHT
TZOFFSETFROM:-0500
TZOFFSETTO:-0400
TZNAME:EDT
DTSTART:20250309T070000
END:DAYLIGHT
BEGIN:STANDARD
TZOFFSETFROM:-0400
TZOFFSETTO:-0500
TZNAME:EST
DTSTART:20251102T060000
END:STANDARD
BEGIN:DAYLIGHT
TZOFFSETFROM:-0500
TZOFFSETTO:-0400
TZNAME:EDT
DTSTART:20260308T070000
END:DAYLIGHT
BEGIN:STANDARD
TZOFFSETFROM:-0400
TZOFFSETTO:-0500
TZNAME:EST
DTSTART:20261101T060000
END:STANDARD
END:VTIMEZONE
BEGIN:VTIMEZONE
TZID:UTC
BEGIN:STANDARD
TZOFFSETFROM:+0000
TZOFFSETTO:+0000
TZNAME:UTC
DTSTART:20240101T000000
END:STANDARD
END:VTIMEZONE
BEGIN:VEVENT
DTSTART;TZID=America/New_York:20250202T090000
DTEND;TZID=America/New_York:20250202T120000
DTSTAMP:20260421T214309
CREATED:20240515T032857Z
LAST-MODIFIED:20240515T032857Z
UID:10002396-1738486800-1738497600@www.rockylakesgolf.com
SUMMARY:Best Ball
DESCRIPTION:Tee Times
URL:https://www.rockylakesgolf.com/event/best-ball/2025-02-02/
END:VEVENT
BEGIN:VEVENT
DTSTART;TZID=America/New_York:20250203T140000
DTEND;TZID=America/New_York:20250203T160000
DTSTAMP:20260421T214309
CREATED:20240515T031308Z
LAST-MODIFIED:20240515T031806Z
UID:10000049-1738591200-1738598400@www.rockylakesgolf.com
SUMMARY:Brick Tap & Tavern
DESCRIPTION:Tee Times
URL:https://www.rockylakesgolf.com/event/brick-tap-tavern/2025-02-03/
END:VEVENT
BEGIN:VEVENT
DTSTART;TZID=America/New_York:20250204T160000
DTEND;TZID=America/New_York:20250204T170000
DTSTAMP:20260421T214309
CREATED:20240515T031624Z
LAST-MODIFIED:20240515T031624Z
UID:10000571-1738684800-1738688400@www.rockylakesgolf.com
SUMMARY:Hipps
DESCRIPTION:Tee Times
URL:https://www.rockylakesgolf.com/event/hipps/2025-02-04/
END:VEVENT
BEGIN:VEVENT
DTSTART;TZID=America/New_York:20250204T170000
DTEND;TZID=America/New_York:20250204T180000
DTSTAMP:20260421T214309
CREATED:20240515T031506Z
LAST-MODIFIED:20240516T075910Z
UID:10002657-1738688400-1738692000@www.rockylakesgolf.com
SUMMARY:Playmates
DESCRIPTION:Scramble Format
URL:https://www.rockylakesgolf.com/event/playmates/2025-02-04/
END:VEVENT
BEGIN:VEVENT
DTSTART;TZID=America/New_York:20250205T160000
DTEND;TZID=America/New_York:20250205T170000
DTSTAMP:20260421T214309
CREATED:20240515T032155Z
LAST-MODIFIED:20240515T032155Z
UID:10001092-1738771200-1738774800@www.rockylakesgolf.com
SUMMARY:Roger's League
DESCRIPTION:Scramble Format
URL:https://www.rockylakesgolf.com/event/rogers-league/2025-02-05/
END:VEVENT
BEGIN:VEVENT
DTSTART;TZID=America/New_York:20250205T170000
DTEND;TZID=America/New_York:20250205T180000
DTSTAMP:20260421T214309
CREATED:20240515T032501Z
LAST-MODIFIED:20240515T032501Z
UID:10001353-1738774800-1738778400@www.rockylakesgolf.com
SUMMARY:Spark League
DESCRIPTION:Tee Times
URL:https://www.rockylakesgolf.com/event/spark-league/2025-02-05/
END:VEVENT
BEGIN:VEVENT
DTSTART;TZID=America/New_York:20250206T100000
DTEND;TZID=America/New_York:20250206T130000
DTSTAMP:20260421T214309
CREATED:20240515T032621Z
LAST-MODIFIED:20240515T032621Z
UID:10001614-1738836000-1738846800@www.rockylakesgolf.com
SUMMARY:Kuna League
DESCRIPTION:Tee Times
URL:https://www.rockylakesgolf.com/event/kuna-league/2025-02-06/
END:VEVENT
BEGIN:VEVENT
DTSTART;TZID=UTC:20250206T140000
DTEND;TZID=UTC:20250206T170000
DTSTAMP:20260421T214309
CREATED:20240515T032658Z
LAST-MODIFIED:20240515T032658Z
UID:10001875-1738850400-1738861200@www.rockylakesgolf.com
SUMMARY:Guard League
DESCRIPTION:Tee Times
URL:https://www.rockylakesgolf.com/event/guard-league/2025-02-06/
END:VEVENT
BEGIN:VEVENT
DTSTART;TZID=America/New_York:20250206T170000
DTEND;TZID=America/New_York:20250206T200000
DTSTAMP:20260421T214309
CREATED:20240515T032803Z
LAST-MODIFIED:20240515T032803Z
UID:10002136-1738861200-1738872000@www.rockylakesgolf.com
SUMMARY:Average Joe's
DESCRIPTION:Tee Times
URL:https://www.rockylakesgolf.com/event/average-joes/2025-02-06/
END:VEVENT
BEGIN:VEVENT
DTSTART;TZID=America/New_York:20250209T090000
DTEND;TZID=America/New_York:20250209T120000
DTSTAMP:20260421T214309
CREATED:20240515T032857Z
LAST-MODIFIED:20240515T032857Z
UID:10002397-1739091600-1739102400@www.rockylakesgolf.com
SUMMARY:Best Ball
DESCRIPTION:Tee Times
URL:https://www.rockylakesgolf.com/event/best-ball/2025-02-09/
END:VEVENT
BEGIN:VEVENT
DTSTART;TZID=America/New_York:20250210T140000
DTEND;TZID=America/New_York:20250210T160000
DTSTAMP:20260421T214309
CREATED:20240515T031308Z
LAST-MODIFIED:20240515T031806Z
UID:10000050-1739196000-1739203200@www.rockylakesgolf.com
SUMMARY:Brick Tap & Tavern
DESCRIPTION:Tee Times
URL:https://www.rockylakesgolf.com/event/brick-tap-tavern/2025-02-10/
END:VEVENT
BEGIN:VEVENT
DTSTART;TZID=America/New_York:20250211T160000
DTEND;TZID=America/New_York:20250211T170000
DTSTAMP:20260421T214309
CREATED:20240515T031624Z
LAST-MODIFIED:20240515T031624Z
UID:10000572-1739289600-1739293200@www.rockylakesgolf.com
SUMMARY:Hipps
DESCRIPTION:Tee Times
URL:https://www.rockylakesgolf.com/event/hipps/2025-02-11/
END:VEVENT
BEGIN:VEVENT
DTSTART;TZID=America/New_York:20250211T170000
DTEND;TZID=America/New_York:20250211T180000
DTSTAMP:20260421T214309
CREATED:20240515T031506Z
LAST-MODIFIED:20240516T075910Z
UID:10002658-1739293200-1739296800@www.rockylakesgolf.com
SUMMARY:Playmates
DESCRIPTION:Scramble Format
URL:https://www.rockylakesgolf.com/event/playmates/2025-02-11/
END:VEVENT
BEGIN:VEVENT
DTSTART;TZID=America/New_York:20250212T160000
DTEND;TZID=America/New_York:20250212T170000
DTSTAMP:20260421T214309
CREATED:20240515T032155Z
LAST-MODIFIED:20240515T032155Z
UID:10001093-1739376000-1739379600@www.rockylakesgolf.com
SUMMARY:Roger's League
DESCRIPTION:Scramble Format
URL:https://www.rockylakesgolf.com/event/rogers-league/2025-02-12/
END:VEVENT
BEGIN:VEVENT
DTSTART;TZID=America/New_York:20250212T170000
DTEND;TZID=America/New_York:20250212T180000
DTSTAMP:20260421T214309
CREATED:20240515T032501Z
LAST-MODIFIED:20240515T032501Z
UID:10001354-1739379600-1739383200@www.rockylakesgolf.com
SUMMARY:Spark League
DESCRIPTION:Tee Times
URL:https://www.rockylakesgolf.com/event/spark-league/2025-02-12/
END:VEVENT
BEGIN:VEVENT
DTSTART;TZID=America/New_York:20250213T100000
DTEND;TZID=America/New_York:20250213T130000
DTSTAMP:20260421T214309
CREATED:20240515T032621Z
LAST-MODIFIED:20240515T032621Z
UID:10001615-1739440800-1739451600@www.rockylakesgolf.com
SUMMARY:Kuna League
DESCRIPTION:Tee Times
URL:https://www.rockylakesgolf.com/event/kuna-league/2025-02-13/
END:VEVENT
BEGIN:VEVENT
DTSTART;TZID=UTC:20250213T140000
DTEND;TZID=UTC:20250213T170000
DTSTAMP:20260421T214309
CREATED:20240515T032658Z
LAST-MODIFIED:20240515T032658Z
UID:10001876-1739455200-1739466000@www.rockylakesgolf.com
SUMMARY:Guard League
DESCRIPTION:Tee Times
URL:https://www.rockylakesgolf.com/event/guard-league/2025-02-13/
END:VEVENT
BEGIN:VEVENT
DTSTART;TZID=America/New_York:20250213T170000
DTEND;TZID=America/New_York:20250213T200000
DTSTAMP:20260421T214309
CREATED:20240515T032803Z
LAST-MODIFIED:20240515T032803Z
UID:10002137-1739466000-1739476800@www.rockylakesgolf.com
SUMMARY:Average Joe's
DESCRIPTION:Tee Times
URL:https://www.rockylakesgolf.com/event/average-joes/2025-02-13/
END:VEVENT
BEGIN:VEVENT
DTSTART;TZID=America/New_York:20250216T090000
DTEND;TZID=America/New_York:20250216T120000
DTSTAMP:20260421T214309
CREATED:20240515T032857Z
LAST-MODIFIED:20240515T032857Z
UID:10002398-1739696400-1739707200@www.rockylakesgolf.com
SUMMARY:Best Ball
DESCRIPTION:Tee Times
URL:https://www.rockylakesgolf.com/event/best-ball/2025-02-16/
END:VEVENT
BEGIN:VEVENT
DTSTART;TZID=America/New_York:20250217T140000
DTEND;TZID=America/New_York:20250217T160000
DTSTAMP:20260421T214309
CREATED:20240515T031308Z
LAST-MODIFIED:20240515T031806Z
UID:10000051-1739800800-1739808000@www.rockylakesgolf.com
SUMMARY:Brick Tap & Tavern
DESCRIPTION:Tee Times
URL:https://www.rockylakesgolf.com/event/brick-tap-tavern/2025-02-17/
END:VEVENT
BEGIN:VEVENT
DTSTART;TZID=America/New_York:20250218T160000
DTEND;TZID=America/New_York:20250218T170000
DTSTAMP:20260421T214309
CREATED:20240515T031624Z
LAST-MODIFIED:20240515T031624Z
UID:10000573-1739894400-1739898000@www.rockylakesgolf.com
SUMMARY:Hipps
DESCRIPTION:Tee Times
URL:https://www.rockylakesgolf.com/event/hipps/2025-02-18/
END:VEVENT
BEGIN:VEVENT
DTSTART;TZID=America/New_York:20250218T170000
DTEND;TZID=America/New_York:20250218T180000
DTSTAMP:20260421T214309
CREATED:20240515T031506Z
LAST-MODIFIED:20240516T075910Z
UID:10002659-1739898000-1739901600@www.rockylakesgolf.com
SUMMARY:Playmates
DESCRIPTION:Scramble Format
URL:https://www.rockylakesgolf.com/event/playmates/2025-02-18/
END:VEVENT
BEGIN:VEVENT
DTSTART;TZID=America/New_York:20250219T160000
DTEND;TZID=America/New_York:20250219T170000
DTSTAMP:20260421T214309
CREATED:20240515T032155Z
LAST-MODIFIED:20240515T032155Z
UID:10001094-1739980800-1739984400@www.rockylakesgolf.com
SUMMARY:Roger's League
DESCRIPTION:Scramble Format
URL:https://www.rockylakesgolf.com/event/rogers-league/2025-02-19/
END:VEVENT
BEGIN:VEVENT
DTSTART;TZID=America/New_York:20250219T170000
DTEND;TZID=America/New_York:20250219T180000
DTSTAMP:20260421T214309
CREATED:20240515T032501Z
LAST-MODIFIED:20240515T032501Z
UID:10001355-1739984400-1739988000@www.rockylakesgolf.com
SUMMARY:Spark League
DESCRIPTION:Tee Times
URL:https://www.rockylakesgolf.com/event/spark-league/2025-02-19/
END:VEVENT
BEGIN:VEVENT
DTSTART;TZID=America/New_York:20250220T100000
DTEND;TZID=America/New_York:20250220T130000
DTSTAMP:20260421T214309
CREATED:20240515T032621Z
LAST-MODIFIED:20240515T032621Z
UID:10001616-1740045600-1740056400@www.rockylakesgolf.com
SUMMARY:Kuna League
DESCRIPTION:Tee Times
URL:https://www.rockylakesgolf.com/event/kuna-league/2025-02-20/
END:VEVENT
BEGIN:VEVENT
DTSTART;TZID=UTC:20250220T140000
DTEND;TZID=UTC:20250220T170000
DTSTAMP:20260421T214309
CREATED:20240515T032658Z
LAST-MODIFIED:20240515T032658Z
UID:10001877-1740060000-1740070800@www.rockylakesgolf.com
SUMMARY:Guard League
DESCRIPTION:Tee Times
URL:https://www.rockylakesgolf.com/event/guard-league/2025-02-20/
END:VEVENT
BEGIN:VEVENT
DTSTART;TZID=America/New_York:20250220T170000
DTEND;TZID=America/New_York:20250220T200000
DTSTAMP:20260421T214309
CREATED:20240515T032803Z
LAST-MODIFIED:20240515T032803Z
UID:10002138-1740070800-1740081600@www.rockylakesgolf.com
SUMMARY:Average Joe's
DESCRIPTION:Tee Times
URL:https://www.rockylakesgolf.com/event/average-joes/2025-02-20/
END:VEVENT
BEGIN:VEVENT
DTSTART;TZID=America/New_York:20250223T090000
DTEND;TZID=America/New_York:20250223T120000
DTSTAMP:20260421T214309
CREATED:20240515T032857Z
LAST-MODIFIED:20240515T032857Z
UID:10002399-1740301200-1740312000@www.rockylakesgolf.com
SUMMARY:Best Ball
DESCRIPTION:Tee Times
URL:https://www.rockylakesgolf.com/event/best-ball/2025-02-23/
END:VEVENT
BEGIN:VEVENT
DTSTART;TZID=America/New_York:20250224T140000
DTEND;TZID=America/New_York:20250224T160000
DTSTAMP:20260421T214309
CREATED:20240515T031308Z
LAST-MODIFIED:20240515T031806Z
UID:10000052-1740405600-1740412800@www.rockylakesgolf.com
SUMMARY:Brick Tap & Tavern
DESCRIPTION:Tee Times
URL:https://www.rockylakesgolf.com/event/brick-tap-tavern/2025-02-24/
END:VEVENT
BEGIN:VEVENT
DTSTART;TZID=America/New_York:20250225T160000
DTEND;TZID=America/New_York:20250225T170000
DTSTAMP:20260421T214309
CREATED:20240515T031624Z
LAST-MODIFIED:20240515T031624Z
UID:10000574-1740499200-1740502800@www.rockylakesgolf.com
SUMMARY:Hipps
DESCRIPTION:Tee Times
URL:https://www.rockylakesgolf.com/event/hipps/2025-02-25/
END:VEVENT
END:VCALENDAR