BEGIN:VCALENDAR
VERSION:2.0
PRODID:-//Rocky Lakes Golf Course - ECPv6.15.18//NONSGML v1.0//EN
CALSCALE:GREGORIAN
METHOD:PUBLISH
X-WR-CALNAME:Rocky Lakes Golf Course
X-ORIGINAL-URL:https://www.rockylakesgolf.com
X-WR-CALDESC:Events for Rocky Lakes Golf Course
REFRESH-INTERVAL;VALUE=DURATION:PT1H
X-Robots-Tag:noindex
X-PUBLISHED-TTL:PT1H
BEGIN:VTIMEZONE
TZID:America/New_York
BEGIN:DAYLIGHT
TZOFFSETFROM:-0500
TZOFFSETTO:-0400
TZNAME:EDT
DTSTART:20240310T070000
END:DAYLIGHT
BEGIN:STANDARD
TZOFFSETFROM:-0400
TZOFFSETTO:-0500
TZNAME:EST
DTSTART:20241103T060000
END:STANDARD
BEGIN:DAYLIGHT
TZOFFSETFROM:-0500
TZOFFSETTO:-0400
TZNAME:EDT
DTSTART:20250309T070000
END:DAYLIGHT
BEGIN:STANDARD
TZOFFSETFROM:-0400
TZOFFSETTO:-0500
TZNAME:EST
DTSTART:20251102T060000
END:STANDARD
BEGIN:DAYLIGHT
TZOFFSETFROM:-0500
TZOFFSETTO:-0400
TZNAME:EDT
DTSTART:20260308T070000
END:DAYLIGHT
BEGIN:STANDARD
TZOFFSETFROM:-0400
TZOFFSETTO:-0500
TZNAME:EST
DTSTART:20261101T060000
END:STANDARD
END:VTIMEZONE
BEGIN:VTIMEZONE
TZID:UTC
BEGIN:STANDARD
TZOFFSETFROM:+0000
TZOFFSETTO:+0000
TZNAME:UTC
DTSTART:20240101T000000
END:STANDARD
END:VTIMEZONE
BEGIN:VEVENT
DTSTART;TZID=America/New_York:20250401T160000
DTEND;TZID=America/New_York:20250401T170000
DTSTAMP:20260421T181408
CREATED:20240515T031624Z
LAST-MODIFIED:20240515T031624Z
UID:10000579-1743523200-1743526800@www.rockylakesgolf.com
SUMMARY:Hipps
DESCRIPTION:Tee Times
URL:https://www.rockylakesgolf.com/event/hipps/2025-04-01/
END:VEVENT
BEGIN:VEVENT
DTSTART;TZID=America/New_York:20250401T170000
DTEND;TZID=America/New_York:20250401T180000
DTSTAMP:20260421T181408
CREATED:20240515T031506Z
LAST-MODIFIED:20240516T075910Z
UID:10002665-1743526800-1743530400@www.rockylakesgolf.com
SUMMARY:Playmates
DESCRIPTION:Scramble Format
URL:https://www.rockylakesgolf.com/event/playmates/2025-04-01/
END:VEVENT
BEGIN:VEVENT
DTSTART;TZID=America/New_York:20250402T160000
DTEND;TZID=America/New_York:20250402T170000
DTSTAMP:20260421T181408
CREATED:20240515T032155Z
LAST-MODIFIED:20240515T032155Z
UID:10001100-1743609600-1743613200@www.rockylakesgolf.com
SUMMARY:Roger's League
DESCRIPTION:Scramble Format
URL:https://www.rockylakesgolf.com/event/rogers-league/2025-04-02/
END:VEVENT
BEGIN:VEVENT
DTSTART;TZID=America/New_York:20250402T170000
DTEND;TZID=America/New_York:20250402T180000
DTSTAMP:20260421T181408
CREATED:20240515T032501Z
LAST-MODIFIED:20240515T032501Z
UID:10001361-1743613200-1743616800@www.rockylakesgolf.com
SUMMARY:Spark League
DESCRIPTION:Tee Times
URL:https://www.rockylakesgolf.com/event/spark-league/2025-04-02/
END:VEVENT
BEGIN:VEVENT
DTSTART;TZID=America/New_York:20250403T100000
DTEND;TZID=America/New_York:20250403T130000
DTSTAMP:20260421T181408
CREATED:20240515T032621Z
LAST-MODIFIED:20240515T032621Z
UID:10001622-1743674400-1743685200@www.rockylakesgolf.com
SUMMARY:Kuna League
DESCRIPTION:Tee Times
URL:https://www.rockylakesgolf.com/event/kuna-league/2025-04-03/
END:VEVENT
BEGIN:VEVENT
DTSTART;TZID=UTC:20250403T140000
DTEND;TZID=UTC:20250403T170000
DTSTAMP:20260421T181408
CREATED:20240515T032658Z
LAST-MODIFIED:20240515T032658Z
UID:10001883-1743688800-1743699600@www.rockylakesgolf.com
SUMMARY:Guard League
DESCRIPTION:Tee Times
URL:https://www.rockylakesgolf.com/event/guard-league/2025-04-03/
END:VEVENT
BEGIN:VEVENT
DTSTART;TZID=America/New_York:20250403T170000
DTEND;TZID=America/New_York:20250403T200000
DTSTAMP:20260421T181408
CREATED:20240515T032803Z
LAST-MODIFIED:20240515T032803Z
UID:10002144-1743699600-1743710400@www.rockylakesgolf.com
SUMMARY:Average Joe's
DESCRIPTION:Tee Times
URL:https://www.rockylakesgolf.com/event/average-joes/2025-04-03/
END:VEVENT
BEGIN:VEVENT
DTSTART;TZID=America/New_York:20250406T090000
DTEND;TZID=America/New_York:20250406T120000
DTSTAMP:20260421T181408
CREATED:20240515T032857Z
LAST-MODIFIED:20240515T032857Z
UID:10002405-1743930000-1743940800@www.rockylakesgolf.com
SUMMARY:Best Ball
DESCRIPTION:Tee Times
URL:https://www.rockylakesgolf.com/event/best-ball/2025-04-06/
END:VEVENT
BEGIN:VEVENT
DTSTART;TZID=America/New_York:20250407T140000
DTEND;TZID=America/New_York:20250407T160000
DTSTAMP:20260421T181408
CREATED:20240515T031308Z
LAST-MODIFIED:20240515T031806Z
UID:10000058-1744034400-1744041600@www.rockylakesgolf.com
SUMMARY:Brick Tap & Tavern
DESCRIPTION:Tee Times
URL:https://www.rockylakesgolf.com/event/brick-tap-tavern/2025-04-07/
END:VEVENT
BEGIN:VEVENT
DTSTART;TZID=America/New_York:20250408T160000
DTEND;TZID=America/New_York:20250408T170000
DTSTAMP:20260421T181409
CREATED:20240515T031624Z
LAST-MODIFIED:20240515T031624Z
UID:10000580-1744128000-1744131600@www.rockylakesgolf.com
SUMMARY:Hipps
DESCRIPTION:Tee Times
URL:https://www.rockylakesgolf.com/event/hipps/2025-04-08/
END:VEVENT
BEGIN:VEVENT
DTSTART;TZID=America/New_York:20250408T170000
DTEND;TZID=America/New_York:20250408T180000
DTSTAMP:20260421T181409
CREATED:20240515T031506Z
LAST-MODIFIED:20240516T075910Z
UID:10002666-1744131600-1744135200@www.rockylakesgolf.com
SUMMARY:Playmates
DESCRIPTION:Scramble Format
URL:https://www.rockylakesgolf.com/event/playmates/2025-04-08/
END:VEVENT
BEGIN:VEVENT
DTSTART;TZID=America/New_York:20250409T160000
DTEND;TZID=America/New_York:20250409T170000
DTSTAMP:20260421T181409
CREATED:20240515T032155Z
LAST-MODIFIED:20240515T032155Z
UID:10001101-1744214400-1744218000@www.rockylakesgolf.com
SUMMARY:Roger's League
DESCRIPTION:Scramble Format
URL:https://www.rockylakesgolf.com/event/rogers-league/2025-04-09/
END:VEVENT
BEGIN:VEVENT
DTSTART;TZID=America/New_York:20250409T170000
DTEND;TZID=America/New_York:20250409T180000
DTSTAMP:20260421T181409
CREATED:20240515T032501Z
LAST-MODIFIED:20240515T032501Z
UID:10001362-1744218000-1744221600@www.rockylakesgolf.com
SUMMARY:Spark League
DESCRIPTION:Tee Times
URL:https://www.rockylakesgolf.com/event/spark-league/2025-04-09/
END:VEVENT
BEGIN:VEVENT
DTSTART;TZID=America/New_York:20250410T100000
DTEND;TZID=America/New_York:20250410T130000
DTSTAMP:20260421T181409
CREATED:20240515T032621Z
LAST-MODIFIED:20240515T032621Z
UID:10001623-1744279200-1744290000@www.rockylakesgolf.com
SUMMARY:Kuna League
DESCRIPTION:Tee Times
URL:https://www.rockylakesgolf.com/event/kuna-league/2025-04-10/
END:VEVENT
BEGIN:VEVENT
DTSTART;TZID=UTC:20250410T140000
DTEND;TZID=UTC:20250410T170000
DTSTAMP:20260421T181409
CREATED:20240515T032658Z
LAST-MODIFIED:20240515T032658Z
UID:10001884-1744293600-1744304400@www.rockylakesgolf.com
SUMMARY:Guard League
DESCRIPTION:Tee Times
URL:https://www.rockylakesgolf.com/event/guard-league/2025-04-10/
END:VEVENT
BEGIN:VEVENT
DTSTART;TZID=America/New_York:20250410T170000
DTEND;TZID=America/New_York:20250410T200000
DTSTAMP:20260421T181409
CREATED:20240515T032803Z
LAST-MODIFIED:20240515T032803Z
UID:10002145-1744304400-1744315200@www.rockylakesgolf.com
SUMMARY:Average Joe's
DESCRIPTION:Tee Times
URL:https://www.rockylakesgolf.com/event/average-joes/2025-04-10/
END:VEVENT
BEGIN:VEVENT
DTSTART;TZID=America/New_York:20250413T090000
DTEND;TZID=America/New_York:20250413T120000
DTSTAMP:20260421T181409
CREATED:20240515T032857Z
LAST-MODIFIED:20240515T032857Z
UID:10002406-1744534800-1744545600@www.rockylakesgolf.com
SUMMARY:Best Ball
DESCRIPTION:Tee Times
URL:https://www.rockylakesgolf.com/event/best-ball/2025-04-13/
END:VEVENT
BEGIN:VEVENT
DTSTART;TZID=America/New_York:20250414T140000
DTEND;TZID=America/New_York:20250414T160000
DTSTAMP:20260421T181409
CREATED:20240515T031308Z
LAST-MODIFIED:20240515T031806Z
UID:10000059-1744639200-1744646400@www.rockylakesgolf.com
SUMMARY:Brick Tap & Tavern
DESCRIPTION:Tee Times
URL:https://www.rockylakesgolf.com/event/brick-tap-tavern/2025-04-14/
END:VEVENT
BEGIN:VEVENT
DTSTART;TZID=America/New_York:20250415T160000
DTEND;TZID=America/New_York:20250415T170000
DTSTAMP:20260421T181409
CREATED:20240515T031624Z
LAST-MODIFIED:20240515T031624Z
UID:10000581-1744732800-1744736400@www.rockylakesgolf.com
SUMMARY:Hipps
DESCRIPTION:Tee Times
URL:https://www.rockylakesgolf.com/event/hipps/2025-04-15/
END:VEVENT
BEGIN:VEVENT
DTSTART;TZID=America/New_York:20250415T170000
DTEND;TZID=America/New_York:20250415T180000
DTSTAMP:20260421T181409
CREATED:20240515T031506Z
LAST-MODIFIED:20240516T075910Z
UID:10002667-1744736400-1744740000@www.rockylakesgolf.com
SUMMARY:Playmates
DESCRIPTION:Scramble Format
URL:https://www.rockylakesgolf.com/event/playmates/2025-04-15/
END:VEVENT
BEGIN:VEVENT
DTSTART;TZID=America/New_York:20250416T160000
DTEND;TZID=America/New_York:20250416T170000
DTSTAMP:20260421T181409
CREATED:20240515T032155Z
LAST-MODIFIED:20240515T032155Z
UID:10001102-1744819200-1744822800@www.rockylakesgolf.com
SUMMARY:Roger's League
DESCRIPTION:Scramble Format
URL:https://www.rockylakesgolf.com/event/rogers-league/2025-04-16/
END:VEVENT
BEGIN:VEVENT
DTSTART;TZID=America/New_York:20250416T170000
DTEND;TZID=America/New_York:20250416T180000
DTSTAMP:20260421T181409
CREATED:20240515T032501Z
LAST-MODIFIED:20240515T032501Z
UID:10001363-1744822800-1744826400@www.rockylakesgolf.com
SUMMARY:Spark League
DESCRIPTION:Tee Times
URL:https://www.rockylakesgolf.com/event/spark-league/2025-04-16/
END:VEVENT
BEGIN:VEVENT
DTSTART;TZID=America/New_York:20250417T100000
DTEND;TZID=America/New_York:20250417T130000
DTSTAMP:20260421T181409
CREATED:20240515T032621Z
LAST-MODIFIED:20240515T032621Z
UID:10001624-1744884000-1744894800@www.rockylakesgolf.com
SUMMARY:Kuna League
DESCRIPTION:Tee Times
URL:https://www.rockylakesgolf.com/event/kuna-league/2025-04-17/
END:VEVENT
BEGIN:VEVENT
DTSTART;TZID=UTC:20250417T140000
DTEND;TZID=UTC:20250417T170000
DTSTAMP:20260421T181409
CREATED:20240515T032658Z
LAST-MODIFIED:20240515T032658Z
UID:10001885-1744898400-1744909200@www.rockylakesgolf.com
SUMMARY:Guard League
DESCRIPTION:Tee Times
URL:https://www.rockylakesgolf.com/event/guard-league/2025-04-17/
END:VEVENT
BEGIN:VEVENT
DTSTART;TZID=America/New_York:20250417T170000
DTEND;TZID=America/New_York:20250417T200000
DTSTAMP:20260421T181409
CREATED:20240515T032803Z
LAST-MODIFIED:20240515T032803Z
UID:10002146-1744909200-1744920000@www.rockylakesgolf.com
SUMMARY:Average Joe's
DESCRIPTION:Tee Times
URL:https://www.rockylakesgolf.com/event/average-joes/2025-04-17/
END:VEVENT
BEGIN:VEVENT
DTSTART;TZID=America/New_York:20250420T090000
DTEND;TZID=America/New_York:20250420T120000
DTSTAMP:20260421T181409
CREATED:20240515T032857Z
LAST-MODIFIED:20240515T032857Z
UID:10002407-1745139600-1745150400@www.rockylakesgolf.com
SUMMARY:Best Ball
DESCRIPTION:Tee Times
URL:https://www.rockylakesgolf.com/event/best-ball/2025-04-20/
END:VEVENT
BEGIN:VEVENT
DTSTART;TZID=America/New_York:20250421T140000
DTEND;TZID=America/New_York:20250421T160000
DTSTAMP:20260421T181409
CREATED:20240515T031308Z
LAST-MODIFIED:20240515T031806Z
UID:10000060-1745244000-1745251200@www.rockylakesgolf.com
SUMMARY:Brick Tap & Tavern
DESCRIPTION:Tee Times
URL:https://www.rockylakesgolf.com/event/brick-tap-tavern/2025-04-21/
END:VEVENT
BEGIN:VEVENT
DTSTART;TZID=America/New_York:20250422T160000
DTEND;TZID=America/New_York:20250422T170000
DTSTAMP:20260421T181409
CREATED:20240515T031624Z
LAST-MODIFIED:20240515T031624Z
UID:10000582-1745337600-1745341200@www.rockylakesgolf.com
SUMMARY:Hipps
DESCRIPTION:Tee Times
URL:https://www.rockylakesgolf.com/event/hipps/2025-04-22/
END:VEVENT
BEGIN:VEVENT
DTSTART;TZID=America/New_York:20250422T170000
DTEND;TZID=America/New_York:20250422T180000
DTSTAMP:20260421T181409
CREATED:20240515T031506Z
LAST-MODIFIED:20240516T075910Z
UID:10002668-1745341200-1745344800@www.rockylakesgolf.com
SUMMARY:Playmates
DESCRIPTION:Scramble Format
URL:https://www.rockylakesgolf.com/event/playmates/2025-04-22/
END:VEVENT
BEGIN:VEVENT
DTSTART;TZID=America/New_York:20250423T160000
DTEND;TZID=America/New_York:20250423T170000
DTSTAMP:20260421T181410
CREATED:20240515T032155Z
LAST-MODIFIED:20240515T032155Z
UID:10001103-1745424000-1745427600@www.rockylakesgolf.com
SUMMARY:Roger's League
DESCRIPTION:Scramble Format
URL:https://www.rockylakesgolf.com/event/rogers-league/2025-04-23/
END:VEVENT
END:VCALENDAR