BEGIN:VCALENDAR
VERSION:2.0
PRODID:-//Rocky Lakes Golf Course - ECPv6.15.18//NONSGML v1.0//EN
CALSCALE:GREGORIAN
METHOD:PUBLISH
X-WR-CALNAME:Rocky Lakes Golf Course
X-ORIGINAL-URL:https://www.rockylakesgolf.com
X-WR-CALDESC:Events for Rocky Lakes Golf Course
REFRESH-INTERVAL;VALUE=DURATION:PT1H
X-Robots-Tag:noindex
X-PUBLISHED-TTL:PT1H
BEGIN:VTIMEZONE
TZID:America/New_York
BEGIN:DAYLIGHT
TZOFFSETFROM:-0500
TZOFFSETTO:-0400
TZNAME:EDT
DTSTART:20260308T070000
END:DAYLIGHT
BEGIN:STANDARD
TZOFFSETFROM:-0400
TZOFFSETTO:-0500
TZNAME:EST
DTSTART:20261101T060000
END:STANDARD
BEGIN:DAYLIGHT
TZOFFSETFROM:-0500
TZOFFSETTO:-0400
TZNAME:EDT
DTSTART:20270314T070000
END:DAYLIGHT
BEGIN:STANDARD
TZOFFSETFROM:-0400
TZOFFSETTO:-0500
TZNAME:EST
DTSTART:20271107T060000
END:STANDARD
BEGIN:DAYLIGHT
TZOFFSETFROM:-0500
TZOFFSETTO:-0400
TZNAME:EDT
DTSTART:20280312T070000
END:DAYLIGHT
BEGIN:STANDARD
TZOFFSETFROM:-0400
TZOFFSETTO:-0500
TZNAME:EST
DTSTART:20281105T060000
END:STANDARD
END:VTIMEZONE
BEGIN:VTIMEZONE
TZID:UTC
BEGIN:STANDARD
TZOFFSETFROM:+0000
TZOFFSETTO:+0000
TZNAME:UTC
DTSTART:20260101T000000
END:STANDARD
END:VTIMEZONE
BEGIN:VEVENT
DTSTART;TZID=America/New_York:20270201T140000
DTEND;TZID=America/New_York:20270201T160000
DTSTAMP:20260421T135511
CREATED:20240515T031308Z
LAST-MODIFIED:20240515T031806Z
UID:10000153-1801490400-1801497600@www.rockylakesgolf.com
SUMMARY:Brick Tap & Tavern
DESCRIPTION:Tee Times
URL:https://www.rockylakesgolf.com/event/brick-tap-tavern/2027-02-01/
END:VEVENT
BEGIN:VEVENT
DTSTART;TZID=America/New_York:20270202T160000
DTEND;TZID=America/New_York:20270202T170000
DTSTAMP:20260421T135511
CREATED:20240515T031624Z
LAST-MODIFIED:20240515T031624Z
UID:10000675-1801584000-1801587600@www.rockylakesgolf.com
SUMMARY:Hipps
DESCRIPTION:Tee Times
URL:https://www.rockylakesgolf.com/event/hipps/2027-02-02/
END:VEVENT
BEGIN:VEVENT
DTSTART;TZID=America/New_York:20270202T170000
DTEND;TZID=America/New_York:20270202T180000
DTSTAMP:20260421T135511
CREATED:20240515T031506Z
LAST-MODIFIED:20240516T075910Z
UID:10002761-1801587600-1801591200@www.rockylakesgolf.com
SUMMARY:Playmates
DESCRIPTION:Scramble Format
URL:https://www.rockylakesgolf.com/event/playmates/2027-02-02/
END:VEVENT
BEGIN:VEVENT
DTSTART;TZID=America/New_York:20270203T160000
DTEND;TZID=America/New_York:20270203T170000
DTSTAMP:20260421T135511
CREATED:20240515T032155Z
LAST-MODIFIED:20240515T032155Z
UID:10001196-1801670400-1801674000@www.rockylakesgolf.com
SUMMARY:Roger's League
DESCRIPTION:Scramble Format
URL:https://www.rockylakesgolf.com/event/rogers-league/2027-02-03/
END:VEVENT
BEGIN:VEVENT
DTSTART;TZID=America/New_York:20270203T170000
DTEND;TZID=America/New_York:20270203T180000
DTSTAMP:20260421T135511
CREATED:20240515T032501Z
LAST-MODIFIED:20240515T032501Z
UID:10001457-1801674000-1801677600@www.rockylakesgolf.com
SUMMARY:Spark League
DESCRIPTION:Tee Times
URL:https://www.rockylakesgolf.com/event/spark-league/2027-02-03/
END:VEVENT
BEGIN:VEVENT
DTSTART;TZID=America/New_York:20270204T100000
DTEND;TZID=America/New_York:20270204T130000
DTSTAMP:20260421T135511
CREATED:20240515T032621Z
LAST-MODIFIED:20240515T032621Z
UID:10001718-1801735200-1801746000@www.rockylakesgolf.com
SUMMARY:Kuna League
DESCRIPTION:Tee Times
URL:https://www.rockylakesgolf.com/event/kuna-league/2027-02-04/
END:VEVENT
BEGIN:VEVENT
DTSTART;TZID=UTC:20270204T140000
DTEND;TZID=UTC:20270204T170000
DTSTAMP:20260421T135511
CREATED:20240515T032658Z
LAST-MODIFIED:20240515T032658Z
UID:10001979-1801749600-1801760400@www.rockylakesgolf.com
SUMMARY:Guard League
DESCRIPTION:Tee Times
URL:https://www.rockylakesgolf.com/event/guard-league/2027-02-04/
END:VEVENT
BEGIN:VEVENT
DTSTART;TZID=America/New_York:20270204T170000
DTEND;TZID=America/New_York:20270204T200000
DTSTAMP:20260421T135511
CREATED:20240515T032803Z
LAST-MODIFIED:20240515T032803Z
UID:10002240-1801760400-1801771200@www.rockylakesgolf.com
SUMMARY:Average Joe's
DESCRIPTION:Tee Times
URL:https://www.rockylakesgolf.com/event/average-joes/2027-02-04/
END:VEVENT
BEGIN:VEVENT
DTSTART;TZID=America/New_York:20270207T090000
DTEND;TZID=America/New_York:20270207T120000
DTSTAMP:20260421T135511
CREATED:20240515T032857Z
LAST-MODIFIED:20240515T032857Z
UID:10002501-1801990800-1802001600@www.rockylakesgolf.com
SUMMARY:Best Ball
DESCRIPTION:Tee Times
URL:https://www.rockylakesgolf.com/event/best-ball/2027-02-07/
END:VEVENT
BEGIN:VEVENT
DTSTART;TZID=America/New_York:20270208T140000
DTEND;TZID=America/New_York:20270208T160000
DTSTAMP:20260421T135511
CREATED:20240515T031308Z
LAST-MODIFIED:20240515T031806Z
UID:10000154-1802095200-1802102400@www.rockylakesgolf.com
SUMMARY:Brick Tap & Tavern
DESCRIPTION:Tee Times
URL:https://www.rockylakesgolf.com/event/brick-tap-tavern/2027-02-08/
END:VEVENT
BEGIN:VEVENT
DTSTART;TZID=America/New_York:20270209T160000
DTEND;TZID=America/New_York:20270209T170000
DTSTAMP:20260421T135511
CREATED:20240515T031624Z
LAST-MODIFIED:20240515T031624Z
UID:10000676-1802188800-1802192400@www.rockylakesgolf.com
SUMMARY:Hipps
DESCRIPTION:Tee Times
URL:https://www.rockylakesgolf.com/event/hipps/2027-02-09/
END:VEVENT
BEGIN:VEVENT
DTSTART;TZID=America/New_York:20270209T170000
DTEND;TZID=America/New_York:20270209T180000
DTSTAMP:20260421T135511
CREATED:20240515T031506Z
LAST-MODIFIED:20240516T075910Z
UID:10002762-1802192400-1802196000@www.rockylakesgolf.com
SUMMARY:Playmates
DESCRIPTION:Scramble Format
URL:https://www.rockylakesgolf.com/event/playmates/2027-02-09/
END:VEVENT
BEGIN:VEVENT
DTSTART;TZID=America/New_York:20270210T160000
DTEND;TZID=America/New_York:20270210T170000
DTSTAMP:20260421T135511
CREATED:20240515T032155Z
LAST-MODIFIED:20240515T032155Z
UID:10001197-1802275200-1802278800@www.rockylakesgolf.com
SUMMARY:Roger's League
DESCRIPTION:Scramble Format
URL:https://www.rockylakesgolf.com/event/rogers-league/2027-02-10/
END:VEVENT
BEGIN:VEVENT
DTSTART;TZID=America/New_York:20270210T170000
DTEND;TZID=America/New_York:20270210T180000
DTSTAMP:20260421T135511
CREATED:20240515T032501Z
LAST-MODIFIED:20240515T032501Z
UID:10001458-1802278800-1802282400@www.rockylakesgolf.com
SUMMARY:Spark League
DESCRIPTION:Tee Times
URL:https://www.rockylakesgolf.com/event/spark-league/2027-02-10/
END:VEVENT
BEGIN:VEVENT
DTSTART;TZID=America/New_York:20270211T100000
DTEND;TZID=America/New_York:20270211T130000
DTSTAMP:20260421T135511
CREATED:20240515T032621Z
LAST-MODIFIED:20240515T032621Z
UID:10001719-1802340000-1802350800@www.rockylakesgolf.com
SUMMARY:Kuna League
DESCRIPTION:Tee Times
URL:https://www.rockylakesgolf.com/event/kuna-league/2027-02-11/
END:VEVENT
BEGIN:VEVENT
DTSTART;TZID=UTC:20270211T140000
DTEND;TZID=UTC:20270211T170000
DTSTAMP:20260421T135511
CREATED:20240515T032658Z
LAST-MODIFIED:20240515T032658Z
UID:10001980-1802354400-1802365200@www.rockylakesgolf.com
SUMMARY:Guard League
DESCRIPTION:Tee Times
URL:https://www.rockylakesgolf.com/event/guard-league/2027-02-11/
END:VEVENT
BEGIN:VEVENT
DTSTART;TZID=America/New_York:20270211T170000
DTEND;TZID=America/New_York:20270211T200000
DTSTAMP:20260421T135511
CREATED:20240515T032803Z
LAST-MODIFIED:20240515T032803Z
UID:10002241-1802365200-1802376000@www.rockylakesgolf.com
SUMMARY:Average Joe's
DESCRIPTION:Tee Times
URL:https://www.rockylakesgolf.com/event/average-joes/2027-02-11/
END:VEVENT
BEGIN:VEVENT
DTSTART;TZID=America/New_York:20270214T090000
DTEND;TZID=America/New_York:20270214T120000
DTSTAMP:20260421T135511
CREATED:20240515T032857Z
LAST-MODIFIED:20240515T032857Z
UID:10002502-1802595600-1802606400@www.rockylakesgolf.com
SUMMARY:Best Ball
DESCRIPTION:Tee Times
URL:https://www.rockylakesgolf.com/event/best-ball/2027-02-14/
END:VEVENT
BEGIN:VEVENT
DTSTART;TZID=America/New_York:20270215T140000
DTEND;TZID=America/New_York:20270215T160000
DTSTAMP:20260421T135511
CREATED:20240515T031308Z
LAST-MODIFIED:20240515T031806Z
UID:10000155-1802700000-1802707200@www.rockylakesgolf.com
SUMMARY:Brick Tap & Tavern
DESCRIPTION:Tee Times
URL:https://www.rockylakesgolf.com/event/brick-tap-tavern/2027-02-15/
END:VEVENT
BEGIN:VEVENT
DTSTART;TZID=America/New_York:20270216T160000
DTEND;TZID=America/New_York:20270216T170000
DTSTAMP:20260421T135511
CREATED:20240515T031624Z
LAST-MODIFIED:20240515T031624Z
UID:10000677-1802793600-1802797200@www.rockylakesgolf.com
SUMMARY:Hipps
DESCRIPTION:Tee Times
URL:https://www.rockylakesgolf.com/event/hipps/2027-02-16/
END:VEVENT
BEGIN:VEVENT
DTSTART;TZID=America/New_York:20270216T170000
DTEND;TZID=America/New_York:20270216T180000
DTSTAMP:20260421T135511
CREATED:20240515T031506Z
LAST-MODIFIED:20240516T075910Z
UID:10002763-1802797200-1802800800@www.rockylakesgolf.com
SUMMARY:Playmates
DESCRIPTION:Scramble Format
URL:https://www.rockylakesgolf.com/event/playmates/2027-02-16/
END:VEVENT
BEGIN:VEVENT
DTSTART;TZID=America/New_York:20270217T160000
DTEND;TZID=America/New_York:20270217T170000
DTSTAMP:20260421T135511
CREATED:20240515T032155Z
LAST-MODIFIED:20240515T032155Z
UID:10001198-1802880000-1802883600@www.rockylakesgolf.com
SUMMARY:Roger's League
DESCRIPTION:Scramble Format
URL:https://www.rockylakesgolf.com/event/rogers-league/2027-02-17/
END:VEVENT
BEGIN:VEVENT
DTSTART;TZID=America/New_York:20270217T170000
DTEND;TZID=America/New_York:20270217T180000
DTSTAMP:20260421T135511
CREATED:20240515T032501Z
LAST-MODIFIED:20240515T032501Z
UID:10001459-1802883600-1802887200@www.rockylakesgolf.com
SUMMARY:Spark League
DESCRIPTION:Tee Times
URL:https://www.rockylakesgolf.com/event/spark-league/2027-02-17/
END:VEVENT
BEGIN:VEVENT
DTSTART;TZID=America/New_York:20270218T100000
DTEND;TZID=America/New_York:20270218T130000
DTSTAMP:20260421T135511
CREATED:20240515T032621Z
LAST-MODIFIED:20240515T032621Z
UID:10001720-1802944800-1802955600@www.rockylakesgolf.com
SUMMARY:Kuna League
DESCRIPTION:Tee Times
URL:https://www.rockylakesgolf.com/event/kuna-league/2027-02-18/
END:VEVENT
BEGIN:VEVENT
DTSTART;TZID=UTC:20270218T140000
DTEND;TZID=UTC:20270218T170000
DTSTAMP:20260421T135511
CREATED:20240515T032658Z
LAST-MODIFIED:20240515T032658Z
UID:10001981-1802959200-1802970000@www.rockylakesgolf.com
SUMMARY:Guard League
DESCRIPTION:Tee Times
URL:https://www.rockylakesgolf.com/event/guard-league/2027-02-18/
END:VEVENT
BEGIN:VEVENT
DTSTART;TZID=America/New_York:20270218T170000
DTEND;TZID=America/New_York:20270218T200000
DTSTAMP:20260421T135512
CREATED:20240515T032803Z
LAST-MODIFIED:20240515T032803Z
UID:10002242-1802970000-1802980800@www.rockylakesgolf.com
SUMMARY:Average Joe's
DESCRIPTION:Tee Times
URL:https://www.rockylakesgolf.com/event/average-joes/2027-02-18/
END:VEVENT
BEGIN:VEVENT
DTSTART;TZID=America/New_York:20270221T090000
DTEND;TZID=America/New_York:20270221T120000
DTSTAMP:20260421T135512
CREATED:20240515T032857Z
LAST-MODIFIED:20240515T032857Z
UID:10002503-1803200400-1803211200@www.rockylakesgolf.com
SUMMARY:Best Ball
DESCRIPTION:Tee Times
URL:https://www.rockylakesgolf.com/event/best-ball/2027-02-21/
END:VEVENT
BEGIN:VEVENT
DTSTART;TZID=America/New_York:20270222T140000
DTEND;TZID=America/New_York:20270222T160000
DTSTAMP:20260421T135512
CREATED:20240515T031308Z
LAST-MODIFIED:20240515T031806Z
UID:10000156-1803304800-1803312000@www.rockylakesgolf.com
SUMMARY:Brick Tap & Tavern
DESCRIPTION:Tee Times
URL:https://www.rockylakesgolf.com/event/brick-tap-tavern/2027-02-22/
END:VEVENT
BEGIN:VEVENT
DTSTART;TZID=America/New_York:20270223T160000
DTEND;TZID=America/New_York:20270223T170000
DTSTAMP:20260421T135512
CREATED:20240515T031624Z
LAST-MODIFIED:20240515T031624Z
UID:10000678-1803398400-1803402000@www.rockylakesgolf.com
SUMMARY:Hipps
DESCRIPTION:Tee Times
URL:https://www.rockylakesgolf.com/event/hipps/2027-02-23/
END:VEVENT
BEGIN:VEVENT
DTSTART;TZID=America/New_York:20270223T170000
DTEND;TZID=America/New_York:20270223T180000
DTSTAMP:20260421T135512
CREATED:20240515T031506Z
LAST-MODIFIED:20240516T075910Z
UID:10002764-1803402000-1803405600@www.rockylakesgolf.com
SUMMARY:Playmates
DESCRIPTION:Scramble Format
URL:https://www.rockylakesgolf.com/event/playmates/2027-02-23/
END:VEVENT
END:VCALENDAR