BEGIN:VCALENDAR
VERSION:2.0
PRODID:-//Rocky Lakes Golf Course - ECPv6.15.18//NONSGML v1.0//EN
CALSCALE:GREGORIAN
METHOD:PUBLISH
X-WR-CALNAME:Rocky Lakes Golf Course
X-ORIGINAL-URL:https://www.rockylakesgolf.com
X-WR-CALDESC:Events for Rocky Lakes Golf Course
REFRESH-INTERVAL;VALUE=DURATION:PT1H
X-Robots-Tag:noindex
X-PUBLISHED-TTL:PT1H
BEGIN:VTIMEZONE
TZID:America/New_York
BEGIN:DAYLIGHT
TZOFFSETFROM:-0500
TZOFFSETTO:-0400
TZNAME:EDT
DTSTART:20260308T070000
END:DAYLIGHT
BEGIN:STANDARD
TZOFFSETFROM:-0400
TZOFFSETTO:-0500
TZNAME:EST
DTSTART:20261101T060000
END:STANDARD
BEGIN:DAYLIGHT
TZOFFSETFROM:-0500
TZOFFSETTO:-0400
TZNAME:EDT
DTSTART:20270314T070000
END:DAYLIGHT
BEGIN:STANDARD
TZOFFSETFROM:-0400
TZOFFSETTO:-0500
TZNAME:EST
DTSTART:20271107T060000
END:STANDARD
BEGIN:DAYLIGHT
TZOFFSETFROM:-0500
TZOFFSETTO:-0400
TZNAME:EDT
DTSTART:20280312T070000
END:DAYLIGHT
BEGIN:STANDARD
TZOFFSETFROM:-0400
TZOFFSETTO:-0500
TZNAME:EST
DTSTART:20281105T060000
END:STANDARD
END:VTIMEZONE
BEGIN:VTIMEZONE
TZID:UTC
BEGIN:STANDARD
TZOFFSETFROM:+0000
TZOFFSETTO:+0000
TZNAME:UTC
DTSTART:20260101T000000
END:STANDARD
END:VTIMEZONE
BEGIN:VEVENT
DTSTART;TZID=America/New_York:20270801T090000
DTEND;TZID=America/New_York:20270801T120000
DTSTAMP:20260422T000331
CREATED:20240515T032857Z
LAST-MODIFIED:20240515T032857Z
UID:10002526-1817110800-1817121600@www.rockylakesgolf.com
SUMMARY:Best Ball
DESCRIPTION:Tee Times
URL:https://www.rockylakesgolf.com/event/best-ball/2027-08-01/
END:VEVENT
BEGIN:VEVENT
DTSTART;TZID=America/New_York:20270802T140000
DTEND;TZID=America/New_York:20270802T160000
DTSTAMP:20260422T000331
CREATED:20240515T031308Z
LAST-MODIFIED:20240515T031806Z
UID:10000179-1817215200-1817222400@www.rockylakesgolf.com
SUMMARY:Brick Tap & Tavern
DESCRIPTION:Tee Times
URL:https://www.rockylakesgolf.com/event/brick-tap-tavern/2027-08-02/
END:VEVENT
BEGIN:VEVENT
DTSTART;TZID=America/New_York:20270803T160000
DTEND;TZID=America/New_York:20270803T170000
DTSTAMP:20260422T000331
CREATED:20240515T031624Z
LAST-MODIFIED:20240515T031624Z
UID:10000701-1817308800-1817312400@www.rockylakesgolf.com
SUMMARY:Hipps
DESCRIPTION:Tee Times
URL:https://www.rockylakesgolf.com/event/hipps/2027-08-03/
END:VEVENT
BEGIN:VEVENT
DTSTART;TZID=America/New_York:20270803T170000
DTEND;TZID=America/New_York:20270803T180000
DTSTAMP:20260422T000331
CREATED:20240515T031506Z
LAST-MODIFIED:20240516T075910Z
UID:10002787-1817312400-1817316000@www.rockylakesgolf.com
SUMMARY:Playmates
DESCRIPTION:Scramble Format
URL:https://www.rockylakesgolf.com/event/playmates/2027-08-03/
END:VEVENT
BEGIN:VEVENT
DTSTART;TZID=America/New_York:20270804T160000
DTEND;TZID=America/New_York:20270804T170000
DTSTAMP:20260422T000331
CREATED:20240515T032155Z
LAST-MODIFIED:20240515T032155Z
UID:10001222-1817395200-1817398800@www.rockylakesgolf.com
SUMMARY:Roger's League
DESCRIPTION:Scramble Format
URL:https://www.rockylakesgolf.com/event/rogers-league/2027-08-04/
END:VEVENT
BEGIN:VEVENT
DTSTART;TZID=America/New_York:20270804T170000
DTEND;TZID=America/New_York:20270804T180000
DTSTAMP:20260422T000331
CREATED:20240515T032501Z
LAST-MODIFIED:20240515T032501Z
UID:10001483-1817398800-1817402400@www.rockylakesgolf.com
SUMMARY:Spark League
DESCRIPTION:Tee Times
URL:https://www.rockylakesgolf.com/event/spark-league/2027-08-04/
END:VEVENT
BEGIN:VEVENT
DTSTART;TZID=America/New_York:20270805T100000
DTEND;TZID=America/New_York:20270805T130000
DTSTAMP:20260422T000331
CREATED:20240515T032621Z
LAST-MODIFIED:20240515T032621Z
UID:10001744-1817460000-1817470800@www.rockylakesgolf.com
SUMMARY:Kuna League
DESCRIPTION:Tee Times
URL:https://www.rockylakesgolf.com/event/kuna-league/2027-08-05/
END:VEVENT
BEGIN:VEVENT
DTSTART;TZID=UTC:20270805T140000
DTEND;TZID=UTC:20270805T170000
DTSTAMP:20260422T000331
CREATED:20240515T032658Z
LAST-MODIFIED:20240515T032658Z
UID:10002005-1817474400-1817485200@www.rockylakesgolf.com
SUMMARY:Guard League
DESCRIPTION:Tee Times
URL:https://www.rockylakesgolf.com/event/guard-league/2027-08-05/
END:VEVENT
BEGIN:VEVENT
DTSTART;TZID=America/New_York:20270805T170000
DTEND;TZID=America/New_York:20270805T200000
DTSTAMP:20260422T000331
CREATED:20240515T032803Z
LAST-MODIFIED:20240515T032803Z
UID:10002266-1817485200-1817496000@www.rockylakesgolf.com
SUMMARY:Average Joe's
DESCRIPTION:Tee Times
URL:https://www.rockylakesgolf.com/event/average-joes/2027-08-05/
END:VEVENT
BEGIN:VEVENT
DTSTART;TZID=America/New_York:20270808T090000
DTEND;TZID=America/New_York:20270808T120000
DTSTAMP:20260422T000331
CREATED:20240515T032857Z
LAST-MODIFIED:20240515T032857Z
UID:10002527-1817715600-1817726400@www.rockylakesgolf.com
SUMMARY:Best Ball
DESCRIPTION:Tee Times
URL:https://www.rockylakesgolf.com/event/best-ball/2027-08-08/
END:VEVENT
BEGIN:VEVENT
DTSTART;TZID=America/New_York:20270809T140000
DTEND;TZID=America/New_York:20270809T160000
DTSTAMP:20260422T000331
CREATED:20240515T031308Z
LAST-MODIFIED:20240515T031806Z
UID:10000180-1817820000-1817827200@www.rockylakesgolf.com
SUMMARY:Brick Tap & Tavern
DESCRIPTION:Tee Times
URL:https://www.rockylakesgolf.com/event/brick-tap-tavern/2027-08-09/
END:VEVENT
BEGIN:VEVENT
DTSTART;TZID=America/New_York:20270810T160000
DTEND;TZID=America/New_York:20270810T170000
DTSTAMP:20260422T000331
CREATED:20240515T031624Z
LAST-MODIFIED:20240515T031624Z
UID:10000702-1817913600-1817917200@www.rockylakesgolf.com
SUMMARY:Hipps
DESCRIPTION:Tee Times
URL:https://www.rockylakesgolf.com/event/hipps/2027-08-10/
END:VEVENT
BEGIN:VEVENT
DTSTART;TZID=America/New_York:20270810T170000
DTEND;TZID=America/New_York:20270810T180000
DTSTAMP:20260422T000331
CREATED:20240515T031506Z
LAST-MODIFIED:20240516T075910Z
UID:10002788-1817917200-1817920800@www.rockylakesgolf.com
SUMMARY:Playmates
DESCRIPTION:Scramble Format
URL:https://www.rockylakesgolf.com/event/playmates/2027-08-10/
END:VEVENT
BEGIN:VEVENT
DTSTART;TZID=America/New_York:20270811T160000
DTEND;TZID=America/New_York:20270811T170000
DTSTAMP:20260422T000331
CREATED:20240515T032155Z
LAST-MODIFIED:20240515T032155Z
UID:10001223-1818000000-1818003600@www.rockylakesgolf.com
SUMMARY:Roger's League
DESCRIPTION:Scramble Format
URL:https://www.rockylakesgolf.com/event/rogers-league/2027-08-11/
END:VEVENT
BEGIN:VEVENT
DTSTART;TZID=America/New_York:20270811T170000
DTEND;TZID=America/New_York:20270811T180000
DTSTAMP:20260422T000331
CREATED:20240515T032501Z
LAST-MODIFIED:20240515T032501Z
UID:10001484-1818003600-1818007200@www.rockylakesgolf.com
SUMMARY:Spark League
DESCRIPTION:Tee Times
URL:https://www.rockylakesgolf.com/event/spark-league/2027-08-11/
END:VEVENT
BEGIN:VEVENT
DTSTART;TZID=America/New_York:20270812T100000
DTEND;TZID=America/New_York:20270812T130000
DTSTAMP:20260422T000331
CREATED:20240515T032621Z
LAST-MODIFIED:20240515T032621Z
UID:10001745-1818064800-1818075600@www.rockylakesgolf.com
SUMMARY:Kuna League
DESCRIPTION:Tee Times
URL:https://www.rockylakesgolf.com/event/kuna-league/2027-08-12/
END:VEVENT
BEGIN:VEVENT
DTSTART;TZID=UTC:20270812T140000
DTEND;TZID=UTC:20270812T170000
DTSTAMP:20260422T000331
CREATED:20240515T032658Z
LAST-MODIFIED:20240515T032658Z
UID:10002006-1818079200-1818090000@www.rockylakesgolf.com
SUMMARY:Guard League
DESCRIPTION:Tee Times
URL:https://www.rockylakesgolf.com/event/guard-league/2027-08-12/
END:VEVENT
BEGIN:VEVENT
DTSTART;TZID=America/New_York:20270812T170000
DTEND;TZID=America/New_York:20270812T200000
DTSTAMP:20260422T000331
CREATED:20240515T032803Z
LAST-MODIFIED:20240515T032803Z
UID:10002267-1818090000-1818100800@www.rockylakesgolf.com
SUMMARY:Average Joe's
DESCRIPTION:Tee Times
URL:https://www.rockylakesgolf.com/event/average-joes/2027-08-12/
END:VEVENT
BEGIN:VEVENT
DTSTART;TZID=America/New_York:20270815T090000
DTEND;TZID=America/New_York:20270815T120000
DTSTAMP:20260422T000331
CREATED:20240515T032857Z
LAST-MODIFIED:20240515T032857Z
UID:10002528-1818320400-1818331200@www.rockylakesgolf.com
SUMMARY:Best Ball
DESCRIPTION:Tee Times
URL:https://www.rockylakesgolf.com/event/best-ball/2027-08-15/
END:VEVENT
BEGIN:VEVENT
DTSTART;TZID=America/New_York:20270816T140000
DTEND;TZID=America/New_York:20270816T160000
DTSTAMP:20260422T000331
CREATED:20240515T031308Z
LAST-MODIFIED:20240515T031806Z
UID:10000181-1818424800-1818432000@www.rockylakesgolf.com
SUMMARY:Brick Tap & Tavern
DESCRIPTION:Tee Times
URL:https://www.rockylakesgolf.com/event/brick-tap-tavern/2027-08-16/
END:VEVENT
BEGIN:VEVENT
DTSTART;TZID=America/New_York:20270817T160000
DTEND;TZID=America/New_York:20270817T170000
DTSTAMP:20260422T000331
CREATED:20240515T031624Z
LAST-MODIFIED:20240515T031624Z
UID:10000703-1818518400-1818522000@www.rockylakesgolf.com
SUMMARY:Hipps
DESCRIPTION:Tee Times
URL:https://www.rockylakesgolf.com/event/hipps/2027-08-17/
END:VEVENT
BEGIN:VEVENT
DTSTART;TZID=America/New_York:20270817T170000
DTEND;TZID=America/New_York:20270817T180000
DTSTAMP:20260422T000331
CREATED:20240515T031506Z
LAST-MODIFIED:20240516T075910Z
UID:10002789-1818522000-1818525600@www.rockylakesgolf.com
SUMMARY:Playmates
DESCRIPTION:Scramble Format
URL:https://www.rockylakesgolf.com/event/playmates/2027-08-17/
END:VEVENT
BEGIN:VEVENT
DTSTART;TZID=America/New_York:20270818T160000
DTEND;TZID=America/New_York:20270818T170000
DTSTAMP:20260422T000331
CREATED:20240515T032155Z
LAST-MODIFIED:20240515T032155Z
UID:10001224-1818604800-1818608400@www.rockylakesgolf.com
SUMMARY:Roger's League
DESCRIPTION:Scramble Format
URL:https://www.rockylakesgolf.com/event/rogers-league/2027-08-18/
END:VEVENT
BEGIN:VEVENT
DTSTART;TZID=America/New_York:20270818T170000
DTEND;TZID=America/New_York:20270818T180000
DTSTAMP:20260422T000331
CREATED:20240515T032501Z
LAST-MODIFIED:20240515T032501Z
UID:10001485-1818608400-1818612000@www.rockylakesgolf.com
SUMMARY:Spark League
DESCRIPTION:Tee Times
URL:https://www.rockylakesgolf.com/event/spark-league/2027-08-18/
END:VEVENT
BEGIN:VEVENT
DTSTART;TZID=America/New_York:20270819T100000
DTEND;TZID=America/New_York:20270819T130000
DTSTAMP:20260422T000331
CREATED:20240515T032621Z
LAST-MODIFIED:20240515T032621Z
UID:10001746-1818669600-1818680400@www.rockylakesgolf.com
SUMMARY:Kuna League
DESCRIPTION:Tee Times
URL:https://www.rockylakesgolf.com/event/kuna-league/2027-08-19/
END:VEVENT
BEGIN:VEVENT
DTSTART;TZID=UTC:20270819T140000
DTEND;TZID=UTC:20270819T170000
DTSTAMP:20260422T000331
CREATED:20240515T032658Z
LAST-MODIFIED:20240515T032658Z
UID:10002007-1818684000-1818694800@www.rockylakesgolf.com
SUMMARY:Guard League
DESCRIPTION:Tee Times
URL:https://www.rockylakesgolf.com/event/guard-league/2027-08-19/
END:VEVENT
BEGIN:VEVENT
DTSTART;TZID=America/New_York:20270819T170000
DTEND;TZID=America/New_York:20270819T200000
DTSTAMP:20260422T000331
CREATED:20240515T032803Z
LAST-MODIFIED:20240515T032803Z
UID:10002268-1818694800-1818705600@www.rockylakesgolf.com
SUMMARY:Average Joe's
DESCRIPTION:Tee Times
URL:https://www.rockylakesgolf.com/event/average-joes/2027-08-19/
END:VEVENT
BEGIN:VEVENT
DTSTART;TZID=America/New_York:20270822T090000
DTEND;TZID=America/New_York:20270822T120000
DTSTAMP:20260422T000331
CREATED:20240515T032857Z
LAST-MODIFIED:20240515T032857Z
UID:10002529-1818925200-1818936000@www.rockylakesgolf.com
SUMMARY:Best Ball
DESCRIPTION:Tee Times
URL:https://www.rockylakesgolf.com/event/best-ball/2027-08-22/
END:VEVENT
BEGIN:VEVENT
DTSTART;TZID=America/New_York:20270823T140000
DTEND;TZID=America/New_York:20270823T160000
DTSTAMP:20260422T000331
CREATED:20240515T031308Z
LAST-MODIFIED:20240515T031806Z
UID:10000182-1819029600-1819036800@www.rockylakesgolf.com
SUMMARY:Brick Tap & Tavern
DESCRIPTION:Tee Times
URL:https://www.rockylakesgolf.com/event/brick-tap-tavern/2027-08-23/
END:VEVENT
BEGIN:VEVENT
DTSTART;TZID=America/New_York:20270824T160000
DTEND;TZID=America/New_York:20270824T170000
DTSTAMP:20260422T000332
CREATED:20240515T031624Z
LAST-MODIFIED:20240515T031624Z
UID:10000704-1819123200-1819126800@www.rockylakesgolf.com
SUMMARY:Hipps
DESCRIPTION:Tee Times
URL:https://www.rockylakesgolf.com/event/hipps/2027-08-24/
END:VEVENT
END:VCALENDAR