BEGIN:VCALENDAR
VERSION:2.0
PRODID:-//Rocky Lakes Golf Course - ECPv6.15.18//NONSGML v1.0//EN
CALSCALE:GREGORIAN
METHOD:PUBLISH
X-WR-CALNAME:Rocky Lakes Golf Course
X-ORIGINAL-URL:https://www.rockylakesgolf.com
X-WR-CALDESC:Events for Rocky Lakes Golf Course
REFRESH-INTERVAL;VALUE=DURATION:PT1H
X-Robots-Tag:noindex
X-PUBLISHED-TTL:PT1H
BEGIN:VTIMEZONE
TZID:America/New_York
BEGIN:DAYLIGHT
TZOFFSETFROM:-0500
TZOFFSETTO:-0400
TZNAME:EDT
DTSTART:20260308T070000
END:DAYLIGHT
BEGIN:STANDARD
TZOFFSETFROM:-0400
TZOFFSETTO:-0500
TZNAME:EST
DTSTART:20261101T060000
END:STANDARD
BEGIN:DAYLIGHT
TZOFFSETFROM:-0500
TZOFFSETTO:-0400
TZNAME:EDT
DTSTART:20270314T070000
END:DAYLIGHT
BEGIN:STANDARD
TZOFFSETFROM:-0400
TZOFFSETTO:-0500
TZNAME:EST
DTSTART:20271107T060000
END:STANDARD
BEGIN:DAYLIGHT
TZOFFSETFROM:-0500
TZOFFSETTO:-0400
TZNAME:EDT
DTSTART:20280312T070000
END:DAYLIGHT
BEGIN:STANDARD
TZOFFSETFROM:-0400
TZOFFSETTO:-0500
TZNAME:EST
DTSTART:20281105T060000
END:STANDARD
END:VTIMEZONE
BEGIN:VTIMEZONE
TZID:UTC
BEGIN:STANDARD
TZOFFSETFROM:+0000
TZOFFSETTO:+0000
TZNAME:UTC
DTSTART:20260101T000000
END:STANDARD
END:VTIMEZONE
BEGIN:VEVENT
DTSTART;TZID=America/New_York:20271101T140000
DTEND;TZID=America/New_York:20271101T160000
DTSTAMP:20260422T052548
CREATED:20240515T031308Z
LAST-MODIFIED:20240515T031806Z
UID:10000192-1825077600-1825084800@www.rockylakesgolf.com
SUMMARY:Brick Tap & Tavern
DESCRIPTION:Tee Times
URL:https://www.rockylakesgolf.com/event/brick-tap-tavern/2027-11-01/
END:VEVENT
BEGIN:VEVENT
DTSTART;TZID=America/New_York:20271102T160000
DTEND;TZID=America/New_York:20271102T170000
DTSTAMP:20260422T052548
CREATED:20240515T031624Z
LAST-MODIFIED:20240515T031624Z
UID:10000714-1825171200-1825174800@www.rockylakesgolf.com
SUMMARY:Hipps
DESCRIPTION:Tee Times
URL:https://www.rockylakesgolf.com/event/hipps/2027-11-02/
END:VEVENT
BEGIN:VEVENT
DTSTART;TZID=America/New_York:20271102T170000
DTEND;TZID=America/New_York:20271102T180000
DTSTAMP:20260422T052548
CREATED:20240515T031506Z
LAST-MODIFIED:20240516T075910Z
UID:10002800-1825174800-1825178400@www.rockylakesgolf.com
SUMMARY:Playmates
DESCRIPTION:Scramble Format
URL:https://www.rockylakesgolf.com/event/playmates/2027-11-02/
END:VEVENT
BEGIN:VEVENT
DTSTART;TZID=America/New_York:20271103T160000
DTEND;TZID=America/New_York:20271103T170000
DTSTAMP:20260422T052548
CREATED:20240515T032155Z
LAST-MODIFIED:20240515T032155Z
UID:10001235-1825257600-1825261200@www.rockylakesgolf.com
SUMMARY:Roger's League
DESCRIPTION:Scramble Format
URL:https://www.rockylakesgolf.com/event/rogers-league/2027-11-03/
END:VEVENT
BEGIN:VEVENT
DTSTART;TZID=America/New_York:20271103T170000
DTEND;TZID=America/New_York:20271103T180000
DTSTAMP:20260422T052548
CREATED:20240515T032501Z
LAST-MODIFIED:20240515T032501Z
UID:10001496-1825261200-1825264800@www.rockylakesgolf.com
SUMMARY:Spark League
DESCRIPTION:Tee Times
URL:https://www.rockylakesgolf.com/event/spark-league/2027-11-03/
END:VEVENT
BEGIN:VEVENT
DTSTART;TZID=America/New_York:20271104T100000
DTEND;TZID=America/New_York:20271104T130000
DTSTAMP:20260422T052548
CREATED:20240515T032621Z
LAST-MODIFIED:20240515T032621Z
UID:10001757-1825322400-1825333200@www.rockylakesgolf.com
SUMMARY:Kuna League
DESCRIPTION:Tee Times
URL:https://www.rockylakesgolf.com/event/kuna-league/2027-11-04/
END:VEVENT
BEGIN:VEVENT
DTSTART;TZID=UTC:20271104T140000
DTEND;TZID=UTC:20271104T170000
DTSTAMP:20260422T052548
CREATED:20240515T032658Z
LAST-MODIFIED:20240515T032658Z
UID:10002018-1825336800-1825347600@www.rockylakesgolf.com
SUMMARY:Guard League
DESCRIPTION:Tee Times
URL:https://www.rockylakesgolf.com/event/guard-league/2027-11-04/
END:VEVENT
BEGIN:VEVENT
DTSTART;TZID=America/New_York:20271104T170000
DTEND;TZID=America/New_York:20271104T200000
DTSTAMP:20260422T052548
CREATED:20240515T032803Z
LAST-MODIFIED:20240515T032803Z
UID:10002279-1825347600-1825358400@www.rockylakesgolf.com
SUMMARY:Average Joe's
DESCRIPTION:Tee Times
URL:https://www.rockylakesgolf.com/event/average-joes/2027-11-04/
END:VEVENT
BEGIN:VEVENT
DTSTART;TZID=America/New_York:20271107T090000
DTEND;TZID=America/New_York:20271107T120000
DTSTAMP:20260422T052548
CREATED:20240515T032857Z
LAST-MODIFIED:20240515T032857Z
UID:10002540-1825578000-1825588800@www.rockylakesgolf.com
SUMMARY:Best Ball
DESCRIPTION:Tee Times
URL:https://www.rockylakesgolf.com/event/best-ball/2027-11-07/
END:VEVENT
BEGIN:VEVENT
DTSTART;TZID=America/New_York:20271108T140000
DTEND;TZID=America/New_York:20271108T160000
DTSTAMP:20260422T052548
CREATED:20240515T031308Z
LAST-MODIFIED:20240515T031806Z
UID:10000193-1825682400-1825689600@www.rockylakesgolf.com
SUMMARY:Brick Tap & Tavern
DESCRIPTION:Tee Times
URL:https://www.rockylakesgolf.com/event/brick-tap-tavern/2027-11-08/
END:VEVENT
BEGIN:VEVENT
DTSTART;TZID=America/New_York:20271109T160000
DTEND;TZID=America/New_York:20271109T170000
DTSTAMP:20260422T052548
CREATED:20240515T031624Z
LAST-MODIFIED:20240515T031624Z
UID:10000715-1825776000-1825779600@www.rockylakesgolf.com
SUMMARY:Hipps
DESCRIPTION:Tee Times
URL:https://www.rockylakesgolf.com/event/hipps/2027-11-09/
END:VEVENT
BEGIN:VEVENT
DTSTART;TZID=America/New_York:20271109T170000
DTEND;TZID=America/New_York:20271109T180000
DTSTAMP:20260422T052548
CREATED:20240515T031506Z
LAST-MODIFIED:20240516T075910Z
UID:10002801-1825779600-1825783200@www.rockylakesgolf.com
SUMMARY:Playmates
DESCRIPTION:Scramble Format
URL:https://www.rockylakesgolf.com/event/playmates/2027-11-09/
END:VEVENT
BEGIN:VEVENT
DTSTART;TZID=America/New_York:20271110T160000
DTEND;TZID=America/New_York:20271110T170000
DTSTAMP:20260422T052548
CREATED:20240515T032155Z
LAST-MODIFIED:20240515T032155Z
UID:10001236-1825862400-1825866000@www.rockylakesgolf.com
SUMMARY:Roger's League
DESCRIPTION:Scramble Format
URL:https://www.rockylakesgolf.com/event/rogers-league/2027-11-10/
END:VEVENT
BEGIN:VEVENT
DTSTART;TZID=America/New_York:20271110T170000
DTEND;TZID=America/New_York:20271110T180000
DTSTAMP:20260422T052548
CREATED:20240515T032501Z
LAST-MODIFIED:20240515T032501Z
UID:10001497-1825866000-1825869600@www.rockylakesgolf.com
SUMMARY:Spark League
DESCRIPTION:Tee Times
URL:https://www.rockylakesgolf.com/event/spark-league/2027-11-10/
END:VEVENT
BEGIN:VEVENT
DTSTART;TZID=America/New_York:20271111T100000
DTEND;TZID=America/New_York:20271111T130000
DTSTAMP:20260422T052548
CREATED:20240515T032621Z
LAST-MODIFIED:20240515T032621Z
UID:10001758-1825927200-1825938000@www.rockylakesgolf.com
SUMMARY:Kuna League
DESCRIPTION:Tee Times
URL:https://www.rockylakesgolf.com/event/kuna-league/2027-11-11/
END:VEVENT
BEGIN:VEVENT
DTSTART;TZID=UTC:20271111T140000
DTEND;TZID=UTC:20271111T170000
DTSTAMP:20260422T052548
CREATED:20240515T032658Z
LAST-MODIFIED:20240515T032658Z
UID:10002019-1825941600-1825952400@www.rockylakesgolf.com
SUMMARY:Guard League
DESCRIPTION:Tee Times
URL:https://www.rockylakesgolf.com/event/guard-league/2027-11-11/
END:VEVENT
BEGIN:VEVENT
DTSTART;TZID=America/New_York:20271111T170000
DTEND;TZID=America/New_York:20271111T200000
DTSTAMP:20260422T052548
CREATED:20240515T032803Z
LAST-MODIFIED:20240515T032803Z
UID:10002280-1825952400-1825963200@www.rockylakesgolf.com
SUMMARY:Average Joe's
DESCRIPTION:Tee Times
URL:https://www.rockylakesgolf.com/event/average-joes/2027-11-11/
END:VEVENT
BEGIN:VEVENT
DTSTART;TZID=America/New_York:20271114T090000
DTEND;TZID=America/New_York:20271114T120000
DTSTAMP:20260422T052548
CREATED:20240515T032857Z
LAST-MODIFIED:20240515T032857Z
UID:10002541-1826182800-1826193600@www.rockylakesgolf.com
SUMMARY:Best Ball
DESCRIPTION:Tee Times
URL:https://www.rockylakesgolf.com/event/best-ball/2027-11-14/
END:VEVENT
BEGIN:VEVENT
DTSTART;TZID=America/New_York:20271115T140000
DTEND;TZID=America/New_York:20271115T160000
DTSTAMP:20260422T052548
CREATED:20240515T031308Z
LAST-MODIFIED:20240515T031806Z
UID:10000194-1826287200-1826294400@www.rockylakesgolf.com
SUMMARY:Brick Tap & Tavern
DESCRIPTION:Tee Times
URL:https://www.rockylakesgolf.com/event/brick-tap-tavern/2027-11-15/
END:VEVENT
BEGIN:VEVENT
DTSTART;TZID=America/New_York:20271116T160000
DTEND;TZID=America/New_York:20271116T170000
DTSTAMP:20260422T052548
CREATED:20240515T031624Z
LAST-MODIFIED:20240515T031624Z
UID:10000716-1826380800-1826384400@www.rockylakesgolf.com
SUMMARY:Hipps
DESCRIPTION:Tee Times
URL:https://www.rockylakesgolf.com/event/hipps/2027-11-16/
END:VEVENT
BEGIN:VEVENT
DTSTART;TZID=America/New_York:20271116T170000
DTEND;TZID=America/New_York:20271116T180000
DTSTAMP:20260422T052548
CREATED:20240515T031506Z
LAST-MODIFIED:20240516T075910Z
UID:10002802-1826384400-1826388000@www.rockylakesgolf.com
SUMMARY:Playmates
DESCRIPTION:Scramble Format
URL:https://www.rockylakesgolf.com/event/playmates/2027-11-16/
END:VEVENT
BEGIN:VEVENT
DTSTART;TZID=America/New_York:20271117T160000
DTEND;TZID=America/New_York:20271117T170000
DTSTAMP:20260422T052548
CREATED:20240515T032155Z
LAST-MODIFIED:20240515T032155Z
UID:10001237-1826467200-1826470800@www.rockylakesgolf.com
SUMMARY:Roger's League
DESCRIPTION:Scramble Format
URL:https://www.rockylakesgolf.com/event/rogers-league/2027-11-17/
END:VEVENT
BEGIN:VEVENT
DTSTART;TZID=America/New_York:20271117T170000
DTEND;TZID=America/New_York:20271117T180000
DTSTAMP:20260422T052548
CREATED:20240515T032501Z
LAST-MODIFIED:20240515T032501Z
UID:10001498-1826470800-1826474400@www.rockylakesgolf.com
SUMMARY:Spark League
DESCRIPTION:Tee Times
URL:https://www.rockylakesgolf.com/event/spark-league/2027-11-17/
END:VEVENT
BEGIN:VEVENT
DTSTART;TZID=America/New_York:20271118T100000
DTEND;TZID=America/New_York:20271118T130000
DTSTAMP:20260422T052548
CREATED:20240515T032621Z
LAST-MODIFIED:20240515T032621Z
UID:10001759-1826532000-1826542800@www.rockylakesgolf.com
SUMMARY:Kuna League
DESCRIPTION:Tee Times
URL:https://www.rockylakesgolf.com/event/kuna-league/2027-11-18/
END:VEVENT
BEGIN:VEVENT
DTSTART;TZID=UTC:20271118T140000
DTEND;TZID=UTC:20271118T170000
DTSTAMP:20260422T052548
CREATED:20240515T032658Z
LAST-MODIFIED:20240515T032658Z
UID:10002020-1826546400-1826557200@www.rockylakesgolf.com
SUMMARY:Guard League
DESCRIPTION:Tee Times
URL:https://www.rockylakesgolf.com/event/guard-league/2027-11-18/
END:VEVENT
BEGIN:VEVENT
DTSTART;TZID=America/New_York:20271118T170000
DTEND;TZID=America/New_York:20271118T200000
DTSTAMP:20260422T052548
CREATED:20240515T032803Z
LAST-MODIFIED:20240515T032803Z
UID:10002281-1826557200-1826568000@www.rockylakesgolf.com
SUMMARY:Average Joe's
DESCRIPTION:Tee Times
URL:https://www.rockylakesgolf.com/event/average-joes/2027-11-18/
END:VEVENT
BEGIN:VEVENT
DTSTART;TZID=America/New_York:20271121T090000
DTEND;TZID=America/New_York:20271121T120000
DTSTAMP:20260422T052548
CREATED:20240515T032857Z
LAST-MODIFIED:20240515T032857Z
UID:10002542-1826787600-1826798400@www.rockylakesgolf.com
SUMMARY:Best Ball
DESCRIPTION:Tee Times
URL:https://www.rockylakesgolf.com/event/best-ball/2027-11-21/
END:VEVENT
BEGIN:VEVENT
DTSTART;TZID=America/New_York:20271122T140000
DTEND;TZID=America/New_York:20271122T160000
DTSTAMP:20260422T052548
CREATED:20240515T031308Z
LAST-MODIFIED:20240515T031806Z
UID:10000195-1826892000-1826899200@www.rockylakesgolf.com
SUMMARY:Brick Tap & Tavern
DESCRIPTION:Tee Times
URL:https://www.rockylakesgolf.com/event/brick-tap-tavern/2027-11-22/
END:VEVENT
BEGIN:VEVENT
DTSTART;TZID=America/New_York:20271123T160000
DTEND;TZID=America/New_York:20271123T170000
DTSTAMP:20260422T052548
CREATED:20240515T031624Z
LAST-MODIFIED:20240515T031624Z
UID:10000717-1826985600-1826989200@www.rockylakesgolf.com
SUMMARY:Hipps
DESCRIPTION:Tee Times
URL:https://www.rockylakesgolf.com/event/hipps/2027-11-23/
END:VEVENT
BEGIN:VEVENT
DTSTART;TZID=America/New_York:20271123T170000
DTEND;TZID=America/New_York:20271123T180000
DTSTAMP:20260422T052548
CREATED:20240515T031506Z
LAST-MODIFIED:20240516T075910Z
UID:10002803-1826989200-1826992800@www.rockylakesgolf.com
SUMMARY:Playmates
DESCRIPTION:Scramble Format
URL:https://www.rockylakesgolf.com/event/playmates/2027-11-23/
END:VEVENT
END:VCALENDAR